Back to the "Multiple platform build/check report"
| Package 160/188 | Hostname | OS | Arch | BUILD | CHECK | BUILD BIN |
sagenhaft1.6.0Tim BeissbarthLast Changed Date: 2006-10-03 12:16:03 -0700 Last Changed Rev: 20373 | lamb1 | Linux (SUSE 10.1) | x86_64 | OK | OK | |
| wellington | Linux (SUSE 9.2) | i686 | OK | OK | ||
| churchill | Solaris 2.9 | sparc | OK | OK | ||
| lemming | Windows Server 2003 | x86_64 | OK | [ OK ] | OK |
| Package: sagenhaft |
| Version: 1.6.0 |
| Command: D:\biocbld\bbs-1.9\R\bin\R.exe CMD check sagenhaft_1.6.0.tar.gz |
| RetCode: 0 |
| Time: 364.2 seconds |
| Status: OK |
| CheckDir: sagenhaft.Rcheck |
| Warnings: 0 |
* checking for working latex ... OK * using log directory 'D:/biocbld/bbs-1.9/meat/sagenhaft.Rcheck' * using R version 2.4.1 (2006-12-18) * checking for file 'sagenhaft/DESCRIPTION' ... OK * this is package 'sagenhaft' version '1.6.0' * checking package dependencies ... OK * checking if this is a source package ... OK * checking whether package 'sagenhaft' can be installed ... OK * checking package directory ... OK * checking for portable file names ... OK * checking DESCRIPTION meta-information ... OK * checking top-level files ... OK * checking index information ... OK * checking package subdirectories ... OK * checking R files for syntax errors ... OK * checking R files for non-ASCII characters ... OK * checking whether the package can be loaded ... OK * checking whether the package can be loaded with stated dependencies ... OK * checking S3 generic/method consistency ... OK * checking replacement functions ... OK * checking foreign function calls ... OK * checking R code for possible problems ... OK * checking Rd files ... OK * checking Rd cross-references ... OK * checking for missing documentation entries ... OK * checking for code/documentation mismatches ... OK * checking Rd \usage sections ... OK * creating sagenhaft-Ex.R ... OK * checking examples ... OK * checking package vignettes in 'inst/doc' ... OK * creating sagenhaft-manual.tex ... OK * checking sagenhaft-manual.tex ... OK
sagenhaft.Rcheck/00install.out:
installing R.css in D:/biocbld/bbs-1.9/meat/sagenhaft.Rcheck
---------- Making package sagenhaft ------------
adding build stamp to DESCRIPTION
installing R files
installing inst files
installing data files
installing man source files
installing indices
not zipping data
installing help
>>> Building/Updating help pages for package 'sagenhaft'
Formats: text html latex example chm
error.correction text html latex example chm
extract.lib text html latex example chm
sage.library text html latex example chm
sage.library.comparison text html latex example chm
sage.test text html latex example chm
sage.utilities text html latex example chm
sagelibrary.simulate text html latex example chm
Microsoft HTML Help Compiler 4.74.8702
Compiling d:\biocbld\bbs-1.9\meat\sagenhaft.Rcheck\00_pkg_src\sagenhaft\chm\sagenhaft.chm
Compile time: 0 minutes, 0 seconds
8 Topics
42 Local links
5 Internet links
1 Graphic
Created d:\biocbld\bbs-1.9\meat\sagenhaft.Rcheck\00_pkg_src\sagenhaft\chm\sagenhaft.chm, 27,812 bytes
Compression decreased file by 11,402 bytes.
preparing package sagenhaft for lazy loading
Loading required package: SparseM
adding MD5 sums
* DONE (sagenhaft)