Back to the "Multiple platform build/check report"
| Package 160/188 | Hostname | OS | Arch | BUILD | CHECK | BUILD BIN | 
sagenhaft1.6.0Tim BeissbarthLast Changed Date: 2006-10-03 12:16:03 -0700 Last Changed Rev: 20373  | lamb1 | Linux (SUSE 10.1) | x86_64 | OK | OK | |
| wellington | Linux (SUSE 9.2) | i686 | OK | OK | ||
| churchill | Solaris 2.9 | sparc | OK | OK | ||
| lemming | Windows Server 2003 | x86_64 | OK | OK | [ OK ] | 
| Package: sagenhaft | 
| Version: 1.6.0 | 
| Command: D:\biocbld\bbs-1.9\R\bin\R.exe CMD INSTALL --build --library=sagenhaft.instdir sagenhaft_1.6.0.tar.gz | 
| RetCode: 0 | 
| Time: 13.0 seconds | 
| Status: OK | 
| PackageFile: sagenhaft_1.6.0.zip | 
installing R.css in D:/biocbld/bbs-1.9/meat/sagenhaft.instdir
Using auto-selected zip options 'sagenhaft-ZIPDATA=zip'
---------- Making package sagenhaft ------------
  adding build stamp to DESCRIPTION
  installing R files
  installing inst files
  installing data files
  installing man source files
  installing indices
  zipping data
  installing help
 >>> Building/Updating help pages for package 'sagenhaft'
     Formats: text html latex example chm 
  error.correction                  text    html    latex   example chm
  extract.lib                       text    html    latex   example chm
  sage.library                      text    html    latex   example chm
  sage.library.comparison           text    html    latex   example chm
  sage.test                         text    html    latex   example chm
  sage.utilities                    text    html    latex   example chm
  sagelibrary.simulate              text    html    latex   example chm
Microsoft HTML Help Compiler 4.74.8702
Compiling d:\biocbld\bbs-1.9\meat\R.INSTALL\sagenhaft\chm\sagenhaft.chm
Compile time: 0 minutes, 0 seconds
8	Topics
42	Local links
5	Internet links
1	Graphic
Created d:\biocbld\bbs-1.9\meat\R.INSTALL\sagenhaft\chm\sagenhaft.chm, 27,812 bytes
Compression decreased file by 11,402 bytes.
  preparing package sagenhaft for lazy loading
Loading required package: SparseM
  adding MD5 sums
packaged installation of package 'sagenhaft' as sagenhaft_1.6.0.zip
* DONE (sagenhaft)