| Back to Workflows build report for BioC 3.21 |
This page was generated on 2025-08-15 16:30 -0400 (Fri, 15 Aug 2025).
| Hostname | OS | Arch (*) | R version | Installed pkgs |
|---|---|---|---|---|
| nebbiolo1 | Linux (Ubuntu 24.04.3 LTS) | x86_64 | 4.5.1 (2025-06-13) -- "Great Square Root" | 4824 |
| palomino7 | Windows Server 2022 Datacenter | x64 | 4.5.1 (2025-06-13 ucrt) -- "Great Square Root" | 4566 |
| merida1 | macOS 12.7.5 Monterey | x86_64 | 4.5.1 RC (2025-06-05 r88288) -- "Great Square Root" | 4604 |
| Click on any hostname to see more info about the system (e.g. compilers) (*) as reported by 'uname -p', except on Windows and Mac OS X | ||||
| Package 13/30 | Hostname | OS / Arch | INSTALL | BUILD | ||||||||
| generegulation 1.32.0 (landing page) Bioconductor Package Maintainer
| nebbiolo1 | Linux (Ubuntu 24.04.3 LTS) / x86_64 | OK | OK | ||||||||
| palomino7 | Windows Server 2022 Datacenter / x64 | OK | OK | |||||||||
| merida1 | macOS 12.7.5 Monterey / x86_64 | OK | OK | |||||||||
|
To the developers/maintainers of the generegulation package: - Use the following Renviron settings to reproduce errors and warnings. - If 'R CMD check' started to fail recently on the Linux builder(s) over a missing dependency, add the missing dependency to 'Suggests:' in your DESCRIPTION file. See Renviron.bioc for more information. |
| Package: generegulation |
| Version: 1.32.0 |
| Command: E:\biocbuild\bbs-3.21-bioc\R\bin\R.exe CMD INSTALL generegulation |
| StartedAt: 2025-08-15 13:01:33 -0400 (Fri, 15 Aug 2025) |
| EndedAt: 2025-08-15 13:02:17 -0400 (Fri, 15 Aug 2025) |
| EllapsedTime: 44.2 seconds |
| RetCode: 0 |
| Status: OK |
##############################################################################
##############################################################################
###
### Running command:
###
### E:\biocbuild\bbs-3.21-bioc\R\bin\R.exe CMD INSTALL generegulation
###
##############################################################################
##############################################################################
* installing to library 'E:/biocbuild/bbs-3.21-bioc/R/library'
* installing *source* package 'generegulation' ...
** this is package 'generegulation' version '1.32.0'
** using staged installation
** help
No man pages found in package 'generegulation'
*** installing help indices
** building package indices
** installing vignettes
** testing if installed package can be loaded from temporary location
See system.file("LICENSE", package="MotifDb") for use restrictions.
** testing if installed package can be loaded from final location
See system.file("LICENSE", package="MotifDb") for use restrictions.
** testing if installed package keeps a record of temporary installation path
* DONE (generegulation)