This page was generated on 2025-07-24 07:45 -0400 (Thu, 24 Jul 2025).
| |
See this page for all the Bioconductor builds and their schedule. |
Hostname | OS | Arch (*) | R version | Installed pkgs |
---|---|---|---|---|
biocgpu | Linux (Ubuntu 24.04.2 LTS) | x86_64 | 4.5.1 (2025-06-13) -- "Great Square Root" | 196 |
Click on any hostname to see more info about the system (e.g. compilers) (*) as reported by 'uname -p', except on Windows and Mac OS X |
A |
QUICK STATS | OS / Arch | INSTALL | BUILD | CHECK | ||||||||||||||
biocgpu | Linux (Ubuntu 24.04.2 LTS) / x86_64 |
|
|
| ||||||||||||||
Package | Maintainer | INSTALL | BUILD | CHECK | ||||||||||||||
1/1 | RbowtieCuda 1.0.1 (landing page) | Franck RICHARD | OK | OK | OK | ![]() |