Back to --- experimental! --- GPU-enabled build/check report for BioC 3.21 Report updated every 6 hours |
This page was generated on 2025-07-16 13:45 -0400 (Wed, 16 Jul 2025).
A |
QUICK STATS | OS / Arch | INSTALL | BUILD | CHECK | ||||||||||||||
biocgpu | Linux (Ubuntu 24.04.2 LTS) / x86_64 |
|
|
| ||||||||||||||
kakapo1 | Linux (Ubuntu 24.04.2 LTS) / x86_64 |
|
|
| ||||||||||||||
Package | Maintainer | INSTALL | BUILD | CHECK | ||||||||||||||
1/1 | RbowtieCuda 1.0.1 (landing page) | Franck RICHARD | OK | OK | OK | ![]() |