Back to Multiple platform build/check report for BioC 3.21:   simplified   long
ABCDEFGHIJKLMNOPQRS[T]UVWXYZ

This page was generated on 2025-10-06 11:38 -0400 (Mon, 06 Oct 2025).

HostnameOSArch (*)R versionInstalled pkgs
nebbiolo1Linux (Ubuntu 24.04.3 LTS)x86_644.5.1 (2025-06-13) -- "Great Square Root" 4832
merida1macOS 12.7.5 Montereyx86_644.5.1 RC (2025-06-05 r88288) -- "Great Square Root" 4613
kjohnson1macOS 13.6.6 Venturaarm644.5.1 Patched (2025-06-14 r88325) -- "Great Square Root" 4554
kunpeng2Linux (openEuler 24.03 LTS)aarch64R Under development (unstable) (2025-02-19 r87757) -- "Unsuffered Consequences" 4585
Click on any hostname to see more info about the system (e.g. compilers)      (*) as reported by 'uname -p', except on Windows and Mac OS X

Package 2228/2341HostnameOS / ArchINSTALLBUILDCHECKBUILD BIN
tRanslatome 1.46.0  (landing page)
Toma Tebaldi , Erik Dassi
Snapshot Date: 2025-10-02 13:40 -0400 (Thu, 02 Oct 2025)
git_url: https://git.bioconductor.org/packages/tRanslatome
git_branch: RELEASE_3_21
git_last_commit: 0750343
git_last_commit_date: 2025-04-15 10:24:21 -0400 (Tue, 15 Apr 2025)
nebbiolo1Linux (Ubuntu 24.04.3 LTS) / x86_64  OK    OK    OK  UNNEEDED, same version is already published
merida1macOS 12.7.5 Monterey / x86_64  OK    OK    OK    OK  UNNEEDED, same version is already published
kjohnson1macOS 13.6.6 Ventura / arm64  OK    OK    OK    OK  UNNEEDED, same version is already published
kunpeng2Linux (openEuler 24.03 LTS) / aarch64  OK    OK    NA  


CHECK results for tRanslatome on nebbiolo1

To the developers/maintainers of the tRanslatome package:
- Allow up to 24 hours (and sometimes 48 hours) for your latest push to git@git.bioconductor.org:packages/tRanslatome.git to reflect on this report. See Troubleshooting Build Report for more information.
- Use the following Renviron settings to reproduce errors and warnings.
- If 'R CMD check' started to fail recently on the Linux builder(s) over a missing dependency, add the missing dependency to 'Suggests:' in your DESCRIPTION file. See Renviron.bioc for more information.

raw results


Summary

Package: tRanslatome
Version: 1.46.0
Command: /home/biocbuild/bbs-3.21-bioc/R/bin/R CMD check --install=check:tRanslatome.install-out.txt --library=/home/biocbuild/bbs-3.21-bioc/R/site-library --timings tRanslatome_1.46.0.tar.gz
StartedAt: 2025-10-06 04:27:18 -0400 (Mon, 06 Oct 2025)
EndedAt: 2025-10-06 04:33:21 -0400 (Mon, 06 Oct 2025)
EllapsedTime: 362.5 seconds
RetCode: 0
Status:   OK  
CheckDir: tRanslatome.Rcheck
Warnings: 0

Command output

##############################################################################
##############################################################################
###
### Running command:
###
###   /home/biocbuild/bbs-3.21-bioc/R/bin/R CMD check --install=check:tRanslatome.install-out.txt --library=/home/biocbuild/bbs-3.21-bioc/R/site-library --timings tRanslatome_1.46.0.tar.gz
###
##############################################################################
##############################################################################


* using log directory ‘/home/biocbuild/bbs-3.21-bioc/meat/tRanslatome.Rcheck’
* using R version 4.5.1 (2025-06-13)
* using platform: x86_64-pc-linux-gnu
* R was compiled by
    gcc (Ubuntu 13.3.0-6ubuntu2~24.04) 13.3.0
    GNU Fortran (Ubuntu 13.3.0-6ubuntu2~24.04) 13.3.0
* running under: Ubuntu 24.04.3 LTS
* using session charset: UTF-8
* checking for file ‘tRanslatome/DESCRIPTION’ ... OK
* checking extension type ... Package
* this is package ‘tRanslatome’ version ‘1.46.0’
* checking package namespace information ... OK
* checking package dependencies ... INFO
Depends: includes the non-default packages:
  'limma', 'anota', 'DESeq2', 'edgeR', 'RankProd', 'topGO',
  'org.Hs.eg.db', 'GOSemSim', 'Heatplus', 'gplots', 'plotrix',
  'Biobase'
Adding so many packages to the search path is excessive and importing
selectively is preferable.
* checking if this is a source package ... OK
* checking if there is a namespace ... OK
* checking for hidden files and directories ... OK
* checking for portable file names ... OK
* checking for sufficient/correct file permissions ... OK
* checking whether package ‘tRanslatome’ can be installed ... OK
* checking installed package size ... OK
* checking package directory ... OK
* checking ‘build’ directory ... OK
* checking DESCRIPTION meta-information ... OK
* checking top-level files ... OK
* checking for left-over files ... OK
* checking index information ... OK
* checking package subdirectories ... OK
* checking code files for non-ASCII characters ... OK
* checking R files for syntax errors ... OK
* checking whether the package can be loaded ... OK
* checking whether the package can be loaded with stated dependencies ... OK
* checking whether the package can be unloaded cleanly ... OK
* checking whether the namespace can be loaded with stated dependencies ... OK
* checking whether the namespace can be unloaded cleanly ... OK
* checking loading without being on the library search path ... OK
* checking dependencies in R code ... OK
* checking S3 generic/method consistency ... OK
* checking replacement functions ... OK
* checking foreign function calls ... OK
* checking R code for possible problems ... NOTE
methodLimma: no visible global function definition for ‘lmFit’
methodTTest: no visible global function definition for ‘calcTStatFast’
GOEnrichment,DEGs: no visible global function definition for ‘toTable’
Undefined global functions or variables:
  calcTStatFast lmFit toTable
* checking Rd files ... OK
* checking Rd metadata ... OK
* checking Rd cross-references ... OK
* checking for missing documentation entries ... OK
* checking for code/documentation mismatches ... OK
* checking Rd \usage sections ... OK
* checking Rd contents ... OK
* checking for unstated dependencies in examples ... OK
* checking contents of ‘data’ directory ... OK
* checking data for non-ASCII characters ... OK
* checking data for ASCII and uncompressed saves ... OK
* checking files in ‘vignettes’ ... OK
* checking examples ... OK
Examples with CPU (user + system) or elapsed time > 5s
               user system elapsed
GOComparison 14.222  0.826  15.051
GOEnrichment 10.832  0.152  10.984
* checking for unstated dependencies in vignettes ... OK
* checking package vignettes ... OK
* checking re-building of vignette outputs ... OK
* checking PDF version of manual ... OK
* DONE

Status: 1 NOTE
See
  ‘/home/biocbuild/bbs-3.21-bioc/meat/tRanslatome.Rcheck/00check.log’
for details.


Installation output

tRanslatome.Rcheck/00install.out

##############################################################################
##############################################################################
###
### Running command:
###
###   /home/biocbuild/bbs-3.21-bioc/R/bin/R CMD INSTALL tRanslatome
###
##############################################################################
##############################################################################


* installing to library ‘/home/biocbuild/bbs-3.21-bioc/R/site-library’
* installing *source* package ‘tRanslatome’ ...
** this is package ‘tRanslatome’ version ‘1.46.0’
** using staged installation
** R
** data
** byte-compile and prepare package for lazy loading

groupGOTerms: 	GOBPTerm, GOMFTerm, GOCCTerm environments built.
** help
*** installing help indices
** building package indices
** installing vignettes
** testing if installed package can be loaded from temporary location

groupGOTerms: 	GOBPTerm, GOMFTerm, GOCCTerm environments built.
** testing if installed package can be loaded from final location

groupGOTerms: 	GOBPTerm, GOMFTerm, GOCCTerm environments built.
** testing if installed package keeps a record of temporary installation path
* DONE (tRanslatome)

Tests output


Example timings

tRanslatome.Rcheck/tRanslatome-Ex.timings

nameusersystemelapsed
CVplot0.0940.0050.099
DEGs0.0010.0000.001
DEGs.table0.0860.1540.240
EnrichedSets0.0000.0000.001
FC.threshold0.0470.0010.049
GOComparison14.222 0.82615.051
GOEnrichment10.832 0.15210.984
GOsets000
GOsims0.0010.0010.000
Heatmap0.1120.0010.114
Histogram0.0540.0010.056
IdentityPlot0.0520.0010.051
MAplot0.0790.0010.080
Radar0.0970.0020.099
RegulatoryEnrichment1.5050.0291.534
SDplot0.0800.0000.081
Scatterplot0.1100.0040.113
SimilarityPlot0.0510.0010.052
TranslatomeDataset0.0000.0000.001
average.similarity.scores0.0490.0020.051
computeDEGs0.2090.0030.214
enriched.table0.0520.0020.054
getConditionA0.0490.0010.051
getConditionB0.0470.0020.051
getConditionC0.0480.0020.051
getConditionD0.0490.0000.051
getConditionLabels0.0510.0010.051
getDEGs0.0470.0030.051
getDEGsMethod0.0490.0030.051
getDataType0.0490.0010.050
getExprMatrix0.0650.0760.143
getLevelLabels0.0490.0020.051
identity.matrix0.0480.0030.051
label.condition0.0470.0040.050
label.level.DEGs0.0490.0010.051
label.level.enriched0.0480.0030.051
newTranslatomeDataset0.0490.0020.052
significance.threshold0.0480.0030.051
similarity.matrix0.0480.0040.052
tRanslatomeSampleData0.0500.0010.051