| Back to Multiple platform build/check report for BioC 3.22: simplified long |
|
This page was generated on 2025-11-07 12:01 -0500 (Fri, 07 Nov 2025).
| Hostname | OS | Arch (*) | R version | Installed pkgs |
|---|---|---|---|---|
| nebbiolo2 | Linux (Ubuntu 24.04.3 LTS) | x86_64 | 4.5.1 Patched (2025-08-23 r88802) -- "Great Square Root" | 4902 |
| kjohnson3 | macOS 13.7.7 Ventura | arm64 | 4.5.1 Patched (2025-09-10 r88807) -- "Great Square Root" | 4638 |
| Click on any hostname to see more info about the system (e.g. compilers) (*) as reported by 'uname -p', except on Windows and Mac OS X | ||||
| Package 2227/2361 | Hostname | OS / Arch | INSTALL | BUILD | CHECK | BUILD BIN | ||||||||
| tLOH 1.18.0 (landing page) Michelle Webb
| nebbiolo2 | Linux (Ubuntu 24.04.3 LTS) / x86_64 | OK | OK | OK | |||||||||
| kjohnson3 | macOS 13.7.7 Ventura / arm64 | OK | OK | OK | OK | |||||||||
|
To the developers/maintainers of the tLOH package: - Allow up to 24 hours (and sometimes 48 hours) for your latest push to git@git.bioconductor.org:packages/tLOH.git to reflect on this report. See Troubleshooting Build Report for more information. - Use the following Renviron settings to reproduce errors and warnings. - If 'R CMD check' started to fail recently on the Linux builder(s) over a missing dependency, add the missing dependency to 'Suggests:' in your DESCRIPTION file. See Renviron.bioc for more information. |
| Package: tLOH |
| Version: 1.18.0 |
| Command: /Library/Frameworks/R.framework/Resources/bin/R CMD check --install=check:tLOH.install-out.txt --library=/Library/Frameworks/R.framework/Resources/library --no-vignettes --timings tLOH_1.18.0.tar.gz |
| StartedAt: 2025-11-06 22:33:30 -0500 (Thu, 06 Nov 2025) |
| EndedAt: 2025-11-06 22:37:34 -0500 (Thu, 06 Nov 2025) |
| EllapsedTime: 244.0 seconds |
| RetCode: 0 |
| Status: OK |
| CheckDir: tLOH.Rcheck |
| Warnings: 0 |
##############################################################################
##############################################################################
###
### Running command:
###
### /Library/Frameworks/R.framework/Resources/bin/R CMD check --install=check:tLOH.install-out.txt --library=/Library/Frameworks/R.framework/Resources/library --no-vignettes --timings tLOH_1.18.0.tar.gz
###
##############################################################################
##############################################################################
* using log directory ‘/Users/biocbuild/bbs-3.22-bioc/meat/tLOH.Rcheck’
* using R version 4.5.1 Patched (2025-09-10 r88807)
* using platform: aarch64-apple-darwin20
* R was compiled by
Apple clang version 16.0.0 (clang-1600.0.26.6)
GNU Fortran (GCC) 14.2.0
* running under: macOS Ventura 13.7.7
* using session charset: UTF-8
* using option ‘--no-vignettes’
* checking for file ‘tLOH/DESCRIPTION’ ... OK
* checking extension type ... Package
* this is package ‘tLOH’ version ‘1.18.0’
* package encoding: UTF-8
* checking package namespace information ... OK
* checking package dependencies ... OK
* checking if this is a source package ... OK
* checking if there is a namespace ... OK
* checking for hidden files and directories ... OK
* checking for portable file names ... OK
* checking for sufficient/correct file permissions ... OK
* checking whether package ‘tLOH’ can be installed ... OK
* checking installed package size ... OK
* checking package directory ... OK
* checking ‘build’ directory ... OK
* checking DESCRIPTION meta-information ... NOTE
License stub is invalid DCF.
* checking top-level files ... OK
* checking for left-over files ... OK
* checking index information ... OK
* checking package subdirectories ... NOTE
Problems with news in ‘NEWS.md’:
No news entries found.
* checking code files for non-ASCII characters ... OK
* checking R files for syntax errors ... OK
* checking whether the package can be loaded ... OK
* checking whether the package can be loaded with stated dependencies ... OK
* checking whether the package can be unloaded cleanly ... OK
* checking whether the namespace can be loaded with stated dependencies ... OK
* checking whether the namespace can be unloaded cleanly ... OK
* checking dependencies in R code ... OK
* checking S3 generic/method consistency ... OK
* checking replacement functions ... OK
* checking foreign function calls ... OK
* checking R code for possible problems ... OK
* checking Rd files ... OK
* checking Rd metadata ... OK
* checking Rd cross-references ... OK
* checking for missing documentation entries ... OK
* checking for code/documentation mismatches ... OK
* checking Rd \usage sections ... OK
* checking Rd contents ... OK
* checking for unstated dependencies in examples ... OK
* checking contents of ‘data’ directory ... OK
* checking data for non-ASCII characters ... OK
* checking data for ASCII and uncompressed saves ... OK
* checking files in ‘vignettes’ ... OK
* checking examples ... OK
Examples with CPU (user + system) or elapsed time > 5s
user system elapsed
hiddenMarkovAnalysis 22.299 1.294 24.064
runHMM_2 16.562 0.632 23.147
regionAnalysis 15.508 0.691 16.444
runHMM_3 14.085 0.617 14.775
runHMM_1 9.390 0.287 9.752
prepareHMMdataframes 9.108 0.332 9.623
tLOHCalcUpdate 8.987 0.320 9.371
splitByChromosome 8.916 0.336 9.267
* checking for unstated dependencies in vignettes ... OK
* checking package vignettes ... OK
* checking running R code from vignettes ... SKIPPED
* checking re-building of vignette outputs ... SKIPPED
* checking PDF version of manual ... OK
* DONE
Status: 2 NOTEs
See
‘/Users/biocbuild/bbs-3.22-bioc/meat/tLOH.Rcheck/00check.log’
for details.
tLOH.Rcheck/00install.out
############################################################################## ############################################################################## ### ### Running command: ### ### /Library/Frameworks/R.framework/Resources/bin/R CMD INSTALL tLOH ### ############################################################################## ############################################################################## * installing to library ‘/Library/Frameworks/R.framework/Versions/4.5-arm64/Resources/library’ * installing *source* package ‘tLOH’ ... ** this is package ‘tLOH’ version ‘1.18.0’ ** using staged installation ** R ** data ** inst ** byte-compile and prepare package for lazy loading ** help *** installing help indices ** building package indices ** installing vignettes ** testing if installed package can be loaded from temporary location ** testing if installed package can be loaded from final location ** testing if installed package keeps a record of temporary installation path * DONE (tLOH)
tLOH.Rcheck/tLOH-Ex.timings
| name | user | system | elapsed | |
| aggregateCHRPlot | 2.135 | 0.094 | 2.325 | |
| alleleFrequencyPlot | 2.639 | 0.104 | 2.777 | |
| documentErrorRegions | 0.001 | 0.000 | 0.001 | |
| hiddenMarkovAnalysis | 22.299 | 1.294 | 24.064 | |
| humanGBMsampleAC | 0.019 | 0.001 | 0.020 | |
| initialStartProbabilities | 0.000 | 0.001 | 0.001 | |
| marginalLikelihoodM1 | 0.001 | 0.000 | 0.001 | |
| marginalLikelihoodM2 | 0.001 | 0.000 | 0.001 | |
| marginalM1Calc | 0 | 0 | 0 | |
| marginalM2CalcBHET | 0 | 0 | 0 | |
| marginalM2CalcBLOH | 0.001 | 0.000 | 0.000 | |
| modePeakCalc | 0.000 | 0.001 | 0.000 | |
| prepareHMMdataframes | 9.108 | 0.332 | 9.623 | |
| regionAnalysis | 15.508 | 0.691 | 16.444 | |
| regionFinalize | 0 | 0 | 0 | |
| removeOutlierFromCalc | 0.000 | 0.001 | 0.000 | |
| runHMM_1 | 9.390 | 0.287 | 9.752 | |
| runHMM_2 | 16.562 | 0.632 | 23.147 | |
| runHMM_3 | 14.085 | 0.617 | 14.775 | |
| splitByChromosome | 8.916 | 0.336 | 9.267 | |
| summarizeRegions1 | 0 | 0 | 0 | |
| summarizeRegions2 | 0 | 0 | 0 | |
| tLOHCalc | 1.570 | 0.087 | 1.667 | |
| tLOHCalcUpdate | 8.987 | 0.320 | 9.371 | |
| tLOHDataImport | 0 | 0 | 0 | |