| Back to Multiple platform build/check report for BioC 3.21: simplified long |
|
This page was generated on 2025-10-13 11:42 -0400 (Mon, 13 Oct 2025).
| Hostname | OS | Arch (*) | R version | Installed pkgs |
|---|---|---|---|---|
| nebbiolo1 | Linux (Ubuntu 24.04.3 LTS) | x86_64 | 4.5.1 (2025-06-13) -- "Great Square Root" | 4833 |
| merida1 | macOS 12.7.5 Monterey | x86_64 | 4.5.1 RC (2025-06-05 r88288) -- "Great Square Root" | 4614 |
| kjohnson1 | macOS 13.6.6 Ventura | arm64 | 4.5.1 Patched (2025-06-14 r88325) -- "Great Square Root" | 4555 |
| kunpeng2 | Linux (openEuler 24.03 LTS) | aarch64 | R Under development (unstable) (2025-02-19 r87757) -- "Unsuffered Consequences" | 4586 |
| Click on any hostname to see more info about the system (e.g. compilers) (*) as reported by 'uname -p', except on Windows and Mac OS X | ||||
| Package 2153/2341 | Hostname | OS / Arch | INSTALL | BUILD | CHECK | BUILD BIN | ||||||||
| systemPipeR 2.14.2 (landing page) Thomas Girke
| nebbiolo1 | Linux (Ubuntu 24.04.3 LTS) / x86_64 | OK | OK | OK | |||||||||
| merida1 | macOS 12.7.5 Monterey / x86_64 | OK | OK | OK | OK | |||||||||
| kjohnson1 | macOS 13.6.6 Ventura / arm64 | OK | OK | OK | OK | |||||||||
| kunpeng2 | Linux (openEuler 24.03 LTS) / aarch64 | OK | OK | OK | ||||||||||
|
To the developers/maintainers of the systemPipeR package: - Allow up to 24 hours (and sometimes 48 hours) for your latest push to git@git.bioconductor.org:packages/systemPipeR.git to reflect on this report. See Troubleshooting Build Report for more information. - Use the following Renviron settings to reproduce errors and warnings. - If 'R CMD check' started to fail recently on the Linux builder(s) over a missing dependency, add the missing dependency to 'Suggests:' in your DESCRIPTION file. See Renviron.bioc for more information. - See Martin Grigorov's blog post for how to debug Linux ARM64 related issues on a x86_64 host. |
| Package: systemPipeR |
| Version: 2.14.2 |
| Command: /home/biocbuild/R/R/bin/R CMD check --install=check:systemPipeR.install-out.txt --library=/home/biocbuild/R/R/site-library --no-vignettes --timings systemPipeR_2.14.2.tar.gz |
| StartedAt: 2025-10-10 14:43:13 -0000 (Fri, 10 Oct 2025) |
| EndedAt: 2025-10-10 14:51:05 -0000 (Fri, 10 Oct 2025) |
| EllapsedTime: 471.7 seconds |
| RetCode: 0 |
| Status: OK |
| CheckDir: systemPipeR.Rcheck |
| Warnings: 0 |
##############################################################################
##############################################################################
###
### Running command:
###
### /home/biocbuild/R/R/bin/R CMD check --install=check:systemPipeR.install-out.txt --library=/home/biocbuild/R/R/site-library --no-vignettes --timings systemPipeR_2.14.2.tar.gz
###
##############################################################################
##############################################################################
* using log directory ‘/home/biocbuild/bbs-3.21-bioc/meat/systemPipeR.Rcheck’
* using R Under development (unstable) (2025-02-19 r87757)
* using platform: aarch64-unknown-linux-gnu
* R was compiled by
aarch64-unknown-linux-gnu-gcc (GCC) 14.2.0
GNU Fortran (GCC) 14.2.0
* running under: openEuler 24.03 (LTS-SP1)
* using session charset: UTF-8
* using option ‘--no-vignettes’
* checking for file ‘systemPipeR/DESCRIPTION’ ... OK
* checking extension type ... Package
* this is package ‘systemPipeR’ version ‘2.14.2’
* checking package namespace information ... OK
* checking package dependencies ... OK
* checking if this is a source package ... OK
* checking if there is a namespace ... OK
* checking for hidden files and directories ... NOTE
Found the following hidden files and directories:
inst/extdata/.batchtools.conf.R
inst/extdata/.batchtools.conf.R.sge
inst/extdata/.batchtools.conf.R.torque
These were most likely included in error. See section ‘Package
structure’ in the ‘Writing R Extensions’ manual.
* checking for portable file names ... OK
* checking for sufficient/correct file permissions ... OK
* checking whether package ‘systemPipeR’ can be installed ... OK
* checking installed package size ... INFO
installed size is 6.9Mb
sub-directories of 1Mb or more:
R 1.6Mb
extdata 2.9Mb
htmlwidgets 2.0Mb
* checking package directory ... OK
* checking ‘build’ directory ... OK
* checking DESCRIPTION meta-information ... OK
* checking top-level files ... OK
* checking for left-over files ... OK
* checking index information ... OK
* checking package subdirectories ... NOTE
Problems with news in ‘NEWS’:
Cannot process chunk/lines:
OVERVIEW
* checking code files for non-ASCII characters ... OK
* checking R files for syntax errors ... OK
* checking whether the package can be loaded ... OK
* checking whether the package can be loaded with stated dependencies ... OK
* checking whether the package can be unloaded cleanly ... OK
* checking whether the namespace can be loaded with stated dependencies ... OK
* checking whether the namespace can be unloaded cleanly ... OK
* checking loading without being on the library search path ... OK
* checking dependencies in R code ... OK
* checking S3 generic/method consistency ... OK
* checking replacement functions ... OK
* checking foreign function calls ... OK
* checking R code for possible problems ... NOTE
.cmd2cwl2: no visible global function definition for ‘ave’
.getPreprotext: no visible binding for global variable ‘.’
Undefined global functions or variables:
. ave
Consider adding
importFrom("stats", "ave")
to your NAMESPACE file.
* checking Rd files ... OK
* checking Rd metadata ... OK
* checking Rd cross-references ... OK
* checking for missing documentation entries ... OK
* checking for code/documentation mismatches ... OK
* checking Rd \usage sections ... OK
* checking Rd contents ... OK
* checking for unstated dependencies in examples ... OK
* checking line endings in Makefiles ... OK
* checking for GNU extensions in Makefiles ... OK
* checking include directives in Makefiles ... OK
* checking files in ‘vignettes’ ... OK
* checking examples ... OK
Examples with CPU (user + system) or elapsed time > 5s
user system elapsed
genFeatures 31.639 1.026 32.724
run_DESeq2 13.358 0.235 13.633
renderLogs 5.904 0.728 7.135
loadWorkflow 5.141 0.291 5.442
* checking for unstated dependencies in ‘tests’ ... OK
* checking tests ...
Running ‘testthat.R’
OK
* checking for unstated dependencies in vignettes ... OK
* checking package vignettes ... OK
* checking running R code from vignettes ... SKIPPED
* checking re-building of vignette outputs ... SKIPPED
* checking PDF version of manual ... OK
* DONE
Status: 3 NOTEs
See
‘/home/biocbuild/bbs-3.21-bioc/meat/systemPipeR.Rcheck/00check.log’
for details.
systemPipeR.Rcheck/00install.out
############################################################################## ############################################################################## ### ### Running command: ### ### /home/biocbuild/R/R/bin/R CMD INSTALL systemPipeR ### ############################################################################## ############################################################################## * installing to library ‘/home/biocbuild/R/R-devel_2025-02-19/site-library’ * installing *source* package ‘systemPipeR’ ... ** this is package ‘systemPipeR’ version ‘2.14.2’ ** using staged installation ** R ** inst ** byte-compile and prepare package for lazy loading ** help *** installing help indices ** building package indices ** installing vignettes ** testing if installed package can be loaded from temporary location ** testing if installed package can be loaded from final location ** testing if installed package keeps a record of temporary installation path * DONE (systemPipeR)
systemPipeR.Rcheck/tests/testthat.Rout
R Under development (unstable) (2025-02-19 r87757) -- "Unsuffered Consequences"
Copyright (C) 2025 The R Foundation for Statistical Computing
Platform: aarch64-unknown-linux-gnu
R is free software and comes with ABSOLUTELY NO WARRANTY.
You are welcome to redistribute it under certain conditions.
Type 'license()' or 'licence()' for distribution details.
R is a collaborative project with many contributors.
Type 'contributors()' for more information and
'citation()' on how to cite R or R packages in publications.
Type 'demo()' for some demos, 'help()' for on-line help, or
'help.start()' for an HTML browser interface to help.
Type 'q()' to quit R.
> library(testthat)
> library(systemPipeR)
Loading required package: Rsamtools
Loading required package: GenomeInfoDb
Loading required package: BiocGenerics
Loading required package: generics
Attaching package: 'generics'
The following objects are masked from 'package:base':
as.difftime, as.factor, as.ordered, intersect, is.element, setdiff,
setequal, union
Attaching package: 'BiocGenerics'
The following objects are masked from 'package:stats':
IQR, mad, sd, var, xtabs
The following objects are masked from 'package:base':
Filter, Find, Map, Position, Reduce, anyDuplicated, aperm, append,
as.data.frame, basename, cbind, colnames, dirname, do.call,
duplicated, eval, evalq, get, grep, grepl, is.unsorted, lapply,
mapply, match, mget, order, paste, pmax, pmax.int, pmin, pmin.int,
rank, rbind, rownames, sapply, saveRDS, table, tapply, unique,
unsplit, which.max, which.min
Loading required package: S4Vectors
Loading required package: stats4
Attaching package: 'S4Vectors'
The following object is masked from 'package:utils':
findMatches
The following objects are masked from 'package:base':
I, expand.grid, unname
Loading required package: IRanges
Loading required package: GenomicRanges
Loading required package: Biostrings
Loading required package: XVector
Attaching package: 'Biostrings'
The following object is masked from 'package:base':
strsplit
Loading required package: ShortRead
Loading required package: BiocParallel
Loading required package: GenomicAlignments
Loading required package: SummarizedExperiment
Loading required package: MatrixGenerics
Loading required package: matrixStats
Attaching package: 'MatrixGenerics'
The following objects are masked from 'package:matrixStats':
colAlls, colAnyNAs, colAnys, colAvgsPerRowSet, colCollapse,
colCounts, colCummaxs, colCummins, colCumprods, colCumsums,
colDiffs, colIQRDiffs, colIQRs, colLogSumExps, colMadDiffs,
colMads, colMaxs, colMeans2, colMedians, colMins, colOrderStats,
colProds, colQuantiles, colRanges, colRanks, colSdDiffs, colSds,
colSums2, colTabulates, colVarDiffs, colVars, colWeightedMads,
colWeightedMeans, colWeightedMedians, colWeightedSds,
colWeightedVars, rowAlls, rowAnyNAs, rowAnys, rowAvgsPerColSet,
rowCollapse, rowCounts, rowCummaxs, rowCummins, rowCumprods,
rowCumsums, rowDiffs, rowIQRDiffs, rowIQRs, rowLogSumExps,
rowMadDiffs, rowMads, rowMaxs, rowMeans2, rowMedians, rowMins,
rowOrderStats, rowProds, rowQuantiles, rowRanges, rowRanks,
rowSdDiffs, rowSds, rowSums2, rowTabulates, rowVarDiffs, rowVars,
rowWeightedMads, rowWeightedMeans, rowWeightedMedians,
rowWeightedSds, rowWeightedVars
Loading required package: Biobase
Welcome to Bioconductor
Vignettes contain introductory material; view with
'browseVignettes()'. To cite Bioconductor, see
'citation("Biobase")', and for packages 'citation("pkgname")'.
Attaching package: 'Biobase'
The following object is masked from 'package:MatrixGenerics':
rowMedians
The following objects are masked from 'package:matrixStats':
anyMissing, rowMedians
>
> test_check("systemPipeR")
[1] "Generated /home/biocbuild/tmp/RtmpJPb1nc/rnaseq directory. Next run in rnaseq directory, the R code from *.Rmd template interactively. Alternatively, workflows can be exectued with a single command as instructed in the vignette."
[1] "Generated /home/biocbuild/tmp/RtmpJPb1nc/rnaseq2 directory. Next run in rnaseq directory, the R code from *.Rmd template interactively. Alternatively, workflows can be exectued with a single command as instructed in the vignette."
Creating directory '/home/biocbuild/tmp/RtmpJPb1nc/rnaseq2/.SPRproject'
Creating file '/home/biocbuild/tmp/RtmpJPb1nc/rnaseq2/.SPRproject/SYSargsList.yml'
Running Step: example
Running Session: Management
|
| | 0%
|
|======================= | 33%
|
|=============================================== | 67%
|
|======================================================================| 100%
---- Summary ----
Targets Total_Files Existing_Files Missing_Files example
M1 M1 1 1 0 Success
M2 M2 1 1 0 Success
M3 M3 1 1 0 Success
Step Status: Success
Done with workflow running, now consider rendering logs & reports
To render logs, run: sal <- renderLogs(sal)
From command-line: Rscript -e "sal = systemPipeR::SPRproject(resume = TRUE); sal = systemPipeR::renderLogs(sal)"
To render reports, run: sal <- renderReport(sal)
From command-line: Rscript -e "sal= s ystemPipeR::SPRproject(resume = TRUE); sal = systemPipeR::renderReport(sal)"
This message is displayed once per R session
Running Step: newStep
Running Session: Management
|
| | 0%
|
|======================= | 33%
|
|=============================================== | 67%
|
|======================================================================| 100%
---- Summary ----
Targets Total_Files Existing_Files Missing_Files example
M1 M1 1 1 0 Success
M2 M2 1 1 0 Success
M3 M3 1 1 0 Success
Step Status: Success
Running Step: R_code
Running Session: Management
|
| | 0%
|
|======================================================================| 100%
Step Status: Warning
[1] "Generated /home/biocbuild/tmp/RtmpJPb1nc/newtest directory. Next run in new directory, the R code from *.Rmd template interactively. Alternatively, workflows can be exectued with a single command as instructed in the vignette."
Creating directory '/home/biocbuild/tmp/RtmpJPb1nc/newtest/.SPRproject'
Creating file '/home/biocbuild/tmp/RtmpJPb1nc/newtest/.SPRproject/SYSargsList.yml'
Reading Rmd file
Now importing step 'load_library'
Now importing step 'export_iris'
Now importing step 'gzip'
Now importing step 'gunzip'
Now importing step 'stats'
Now back up current Rmd file as template for `renderReport`
Template for renderReport is stored at
/home/biocbuild/tmp/RtmpJPb1nc/newtest/.SPRproject/workflow_template.Rmd
Edit this file manually is not recommended
Now check if required tools are installed
Check if they are in path:
Checking path for gzip
PASS
Checking path for gunzip
PASS
step_name tool in_path
1 gzip gzip TRUE
2 gunzip gunzip TRUE
All required tools in PATH, skip module check. If you want to check modules use `listCmdModules`Import done
Instance of 'LineWise'
Code Chunk length: 1
mapply(function(x, y) write.csv(x, y), split(iris, factor(iris$Species)), file.path("results", paste0(names(split(iris, factor(iris$Species))), ".csv")))
load_library
5 + 5
load_library
5 + 5
66 + 55
Running Step: load_library
Running Session: Management
|
| | 0%
|
|======================================================================| 100%
Step Status: Success
Running Step: export_iris
Running Session: Management
|
| | 0%
|
|======================================================================| 100%
Step Status: Success
Skipping Step: gzip
Skipping Step: gunzip
Skipping Step: stats
[ FAIL 0 | WARN 0 | SKIP 10 | PASS 47 ]
══ Skipped tests (10) ══════════════════════════════════════════════════════════
• On Bioconductor (10): 'test-01-SYSargs.R:2:1', 'test-02-SYSargs2.R:9:5',
'test-02-SYSargs2.R:55:5', 'test-03-SYSargsList.R:63:5',
'test-05-catDB.R:3:1', 'test-06-VENNset.R:3:1', 'test-07-features.R:3:1',
'test-08-cmd2cwl.R:2:1', 'test-10-chipSeq.R:4:1', 'test-utilities.R:2:1'
[ FAIL 0 | WARN 0 | SKIP 10 | PASS 47 ]
>
> proc.time()
user system elapsed
18.662 2.366 21.957
systemPipeR.Rcheck/systemPipeR-Ex.timings
| name | user | system | elapsed | |
| EnvModules-class | 0.000 | 0.000 | 0.001 | |
| GOHyperGAll | 0.001 | 0.000 | 0.000 | |
| INTERSECTset-class | 0.008 | 0.000 | 0.007 | |
| LineWise-class | 0.177 | 0.004 | 0.182 | |
| ParamFiles | 0.117 | 0.008 | 0.125 | |
| ParamFiles2 | 0.182 | 0.004 | 0.186 | |
| SPRproject | 0.001 | 0.004 | 0.004 | |
| SYSargs-class | 0.019 | 0.003 | 0.023 | |
| SYSargs2-class | 0.082 | 0.000 | 0.084 | |
| SYSargsList-class | 0.538 | 0.064 | 0.604 | |
| SYSargsList | 0.111 | 0.004 | 0.116 | |
| VENNset-class | 0.004 | 0.002 | 0.006 | |
| alignStats | 1.649 | 0.062 | 1.715 | |
| catDB-class | 0.001 | 0.000 | 0.001 | |
| catmap | 0 | 0 | 0 | |
| check.output | 1.745 | 0.028 | 1.779 | |
| clusterRun | 1.648 | 0.016 | 1.666 | |
| config.param | 0.001 | 0.000 | 0.000 | |
| configWF | 0 | 0 | 0 | |
| countRangeset | 0.054 | 0.000 | 0.055 | |
| createParamFiles | 0.201 | 0.004 | 0.205 | |
| cwlFilesUpdate | 0.001 | 0.000 | 0.000 | |
| evalCode | 0.029 | 0.004 | 0.038 | |
| featureCoverage | 1.653 | 0.028 | 1.684 | |
| featuretypeCounts | 1.663 | 0.040 | 1.706 | |
| filterDEGs | 2.189 | 0.040 | 2.233 | |
| filterVars | 0.010 | 0.000 | 0.011 | |
| genFeatures | 31.639 | 1.026 | 32.724 | |
| importWF | 0.046 | 0.000 | 0.047 | |
| listCmdTools | 0 | 0 | 0 | |
| loadWorkflow | 5.141 | 0.291 | 5.442 | |
| mergeBamByFactor | 0.006 | 0.004 | 0.010 | |
| moduleload | 0 | 0 | 0 | |
| olBarplot | 0.697 | 0.012 | 0.711 | |
| olRanges | 0.135 | 0.000 | 0.136 | |
| output_update | 1.865 | 0.068 | 1.935 | |
| overLapper | 0.556 | 0.000 | 0.557 | |
| plotfeatureCoverage | 1.615 | 0.040 | 1.658 | |
| plotfeaturetypeCounts | 1.855 | 0.019 | 1.877 | |
| predORF | 0.238 | 0.012 | 0.254 | |
| preprocessReads | 0.559 | 0.021 | 0.583 | |
| readComp | 1.822 | 0.022 | 1.851 | |
| renderLogs | 5.904 | 0.728 | 7.135 | |
| renderReport | 1.827 | 0.469 | 2.311 | |
| returnRPKM | 0 | 0 | 0 | |
| runCommandline | 1.993 | 0.268 | 2.266 | |
| runDiff | 0.057 | 0.000 | 0.057 | |
| runWF | 0.131 | 0.008 | 0.138 | |
| run_DESeq2 | 13.358 | 0.235 | 13.633 | |
| run_edgeR | 1.915 | 0.092 | 2.013 | |
| sal2bash | 0.645 | 0.288 | 0.938 | |
| sal2rmd | 0.654 | 0.359 | 1.021 | |
| scaleRanges | 0.242 | 0.040 | 0.284 | |
| seeFastq | 0.000 | 0.000 | 0.001 | |
| showDF | 0.060 | 0.020 | 0.082 | |
| subsetWF | 1.935 | 0.315 | 2.255 | |
| symLink2bam | 2.187 | 0.195 | 2.388 | |
| sysargs | 0.01 | 0.00 | 0.01 | |
| systemArgs | 0.011 | 0.000 | 0.011 | |
| targets.as.df | 0.005 | 0.000 | 0.005 | |
| trimbatch | 0.352 | 0.000 | 0.353 | |
| tryCMD | 0 | 0 | 0 | |
| tryPath | 0.001 | 0.000 | 0.001 | |
| variantReport | 0.010 | 0.000 | 0.009 | |
| vennPlot | 0.572 | 0.008 | 0.581 | |
| writeTargets | 0.108 | 0.011 | 0.121 | |
| writeTargetsRef | 0.001 | 0.000 | 0.001 | |
| writeTargetsout | 1.758 | 0.020 | 1.782 | |
| write_SYSargsList | 0.143 | 0.000 | 0.144 | |