Back to Multiple platform build/check report for BioC 3.22:   simplified   long
ABCDEFGHIJKLMNOPQR[S]TUVWXYZ

This page was generated on 2025-11-04 12:04 -0500 (Tue, 04 Nov 2025).

HostnameOSArch (*)R versionInstalled pkgs
nebbiolo2Linux (Ubuntu 24.04.3 LTS)x86_644.5.1 Patched (2025-08-23 r88802) -- "Great Square Root" 4902
lconwaymacOS 12.7.6 Montereyx86_644.5.1 Patched (2025-09-10 r88807) -- "Great Square Root" 4692
kjohnson3macOS 13.7.7 Venturaarm644.5.1 Patched (2025-09-10 r88807) -- "Great Square Root" 4638
Click on any hostname to see more info about the system (e.g. compilers)      (*) as reported by 'uname -p', except on Windows and Mac OS X

Package 2146/2361HostnameOS / ArchINSTALLBUILDCHECKBUILD BIN
structToolbox 1.22.0  (landing page)
Gavin Rhys Lloyd
Snapshot Date: 2025-11-03 13:45 -0500 (Mon, 03 Nov 2025)
git_url: https://git.bioconductor.org/packages/structToolbox
git_branch: RELEASE_3_22
git_last_commit: cad0ce8
git_last_commit_date: 2025-10-29 10:56:35 -0500 (Wed, 29 Oct 2025)
nebbiolo2Linux (Ubuntu 24.04.3 LTS) / x86_64  OK    OK    OK  NO, package depends on 'struct' which is not available
lconwaymacOS 12.7.6 Monterey / x86_64  OK    OK    OK    OK  NO, package depends on 'struct' which is not available
kjohnson3macOS 13.7.7 Ventura / arm64  OK    OK    OK    OK  NO, package depends on 'struct' which is not available


CHECK results for structToolbox on lconway

To the developers/maintainers of the structToolbox package:
- Allow up to 24 hours (and sometimes 48 hours) for your latest push to git@git.bioconductor.org:packages/structToolbox.git to reflect on this report. See Troubleshooting Build Report for more information.
- Use the following Renviron settings to reproduce errors and warnings.
- If 'R CMD check' started to fail recently on the Linux builder(s) over a missing dependency, add the missing dependency to 'Suggests:' in your DESCRIPTION file. See Renviron.bioc for more information.

raw results


Summary

Package: structToolbox
Version: 1.22.0
Command: /Library/Frameworks/R.framework/Resources/bin/R CMD check --install=check:structToolbox.install-out.txt --library=/Library/Frameworks/R.framework/Resources/library --no-vignettes --timings structToolbox_1.22.0.tar.gz
StartedAt: 2025-11-04 00:40:26 -0500 (Tue, 04 Nov 2025)
EndedAt: 2025-11-04 00:49:45 -0500 (Tue, 04 Nov 2025)
EllapsedTime: 559.5 seconds
RetCode: 0
Status:   OK  
CheckDir: structToolbox.Rcheck
Warnings: 0

Command output

##############################################################################
##############################################################################
###
### Running command:
###
###   /Library/Frameworks/R.framework/Resources/bin/R CMD check --install=check:structToolbox.install-out.txt --library=/Library/Frameworks/R.framework/Resources/library --no-vignettes --timings structToolbox_1.22.0.tar.gz
###
##############################################################################
##############################################################################


* using log directory ‘/Users/biocbuild/bbs-3.22-bioc/meat/structToolbox.Rcheck’
* using R version 4.5.1 Patched (2025-09-10 r88807)
* using platform: x86_64-apple-darwin20
* R was compiled by
    Apple clang version 14.0.0 (clang-1400.0.29.202)
    GNU Fortran (GCC) 14.2.0
* running under: macOS Monterey 12.7.6
* using session charset: UTF-8
* using option ‘--no-vignettes’
* checking for file ‘structToolbox/DESCRIPTION’ ... OK
* checking extension type ... Package
* this is package ‘structToolbox’ version ‘1.22.0’
* package encoding: UTF-8
* checking package namespace information ... OK
* checking package dependencies ... OK
* checking if this is a source package ... OK
* checking if there is a namespace ... OK
* checking for hidden files and directories ... OK
* checking for portable file names ... OK
* checking for sufficient/correct file permissions ... OK
* checking whether package ‘structToolbox’ can be installed ... OK
* checking installed package size ... OK
* checking package directory ... OK
* checking ‘build’ directory ... OK
* checking DESCRIPTION meta-information ... OK
* checking top-level files ... OK
* checking for left-over files ... OK
* checking index information ... OK
* checking package subdirectories ... OK
* checking code files for non-ASCII characters ... OK
* checking R files for syntax errors ... OK
* checking whether the package can be loaded ... OK
* checking whether the package can be loaded with stated dependencies ... OK
* checking whether the package can be unloaded cleanly ... OK
* checking whether the namespace can be loaded with stated dependencies ... OK
* checking whether the namespace can be unloaded cleanly ... OK
* checking dependencies in R code ... OK
* checking S3 generic/method consistency ... OK
* checking replacement functions ... OK
* checking foreign function calls ... OK
* checking R code for possible problems ... OK
* checking Rd files ... OK
* checking Rd metadata ... OK
* checking Rd cross-references ... OK
* checking for missing documentation entries ... OK
* checking for code/documentation mismatches ... OK
* checking Rd \usage sections ... OK
* checking Rd contents ... OK
* checking for unstated dependencies in examples ... OK
* checking R/sysdata.rda ... OK
* checking files in ‘vignettes’ ... OK
* checking examples ... OK
Examples with CPU (user + system) or elapsed time > 5s
                            user system elapsed
fold_change_int           20.484  0.095  20.695
fold_change               12.882  0.074  13.033
fisher_exact              10.810  0.056  10.916
forward_selection_by_rank  7.562  0.116   7.727
fs_line                    7.396  0.142   7.587
compare_dist               5.514  0.206   5.756
* checking for unstated dependencies in ‘tests’ ... OK
* checking tests ...
  Running ‘testthat.R’
 OK
* checking for unstated dependencies in vignettes ... OK
* checking package vignettes ... OK
* checking running R code from vignettes ... SKIPPED
* checking re-building of vignette outputs ... SKIPPED
* checking PDF version of manual ... OK
* DONE

Status: OK


Installation output

structToolbox.Rcheck/00install.out

##############################################################################
##############################################################################
###
### Running command:
###
###   /Library/Frameworks/R.framework/Resources/bin/R CMD INSTALL structToolbox
###
##############################################################################
##############################################################################


* installing to library ‘/Library/Frameworks/R.framework/Versions/4.5-x86_64/Resources/library’
* installing *source* package ‘structToolbox’ ...
** this is package ‘structToolbox’ version ‘1.22.0’
** using staged installation
** R
** inst
** byte-compile and prepare package for lazy loading
** help
*** installing help indices
** building package indices
** installing vignettes
** testing if installed package can be loaded from temporary location
** testing if installed package can be loaded from final location
** testing if installed package keeps a record of temporary installation path
* DONE (structToolbox)

Tests output

structToolbox.Rcheck/tests/testthat.Rout


R version 4.5.1 Patched (2025-09-10 r88807) -- "Great Square Root"
Copyright (C) 2025 The R Foundation for Statistical Computing
Platform: x86_64-apple-darwin20

R is free software and comes with ABSOLUTELY NO WARRANTY.
You are welcome to redistribute it under certain conditions.
Type 'license()' or 'licence()' for distribution details.

R is a collaborative project with many contributors.
Type 'contributors()' for more information and
'citation()' on how to cite R or R packages in publications.

Type 'demo()' for some demos, 'help()' for on-line help, or
'help.start()' for an HTML browser interface to help.
Type 'q()' to quit R.

> library(testthat)
> library(ggplot2)
> library(structToolbox)
Loading required package: struct
> 
> test_check("structToolbox")
[ FAIL 0 | WARN 6 | SKIP 0 | PASS 166 ]

[ FAIL 0 | WARN 6 | SKIP 0 | PASS 166 ]
> 
> proc.time()
   user  system elapsed 
216.103   2.639 220.278 

Example timings

structToolbox.Rcheck/structToolbox-Ex.timings

nameusersystemelapsed
ANOVA0.2360.0080.245
AUC2.5130.0922.625
DFA0.2220.0030.225
DatasetExperiment_boxplot0.9630.0351.005
DatasetExperiment_dist1.4750.0811.565
DatasetExperiment_factor_boxplot0.3540.0090.365
DatasetExperiment_heatmap1.2440.0361.289
HCA0.0640.0020.066
HSD0.3160.0260.353
HSDEM0.3240.0210.347
MTBLS79_DatasetExperiment0.0010.0010.002
OPLSDA0.0120.0000.011
OPLSR0.0070.0000.007
PCA0.0040.0000.004
PLSDA0.010.000.01
PLSR0.0090.0010.009
SVM0.0180.0010.019
as_data_frame0.1240.0020.126
autoscale0.0690.0010.070
balanced_accuracy1.9060.0211.934
blank_filter0.4320.0270.462
blank_filter_hist0.0010.0000.001
bootstrap0.0120.0000.013
calculate0.0060.0000.007
chart_plot0.0340.0020.035
classical_lsq0.3300.0030.336
compare_dist5.5140.2065.756
confounders_clsq3.1320.0223.169
confounders_lsq_barchart3.6270.0303.675
confounders_lsq_boxplot3.6360.0423.709
constant_sum_norm0.0070.0000.008
corr_coef0.2680.0020.271
dfa_scores_plot1.0640.0131.081
dratio_filter0.2620.0060.268
equal_split0.1360.0010.137
feature_boxplot0.0450.0020.047
feature_profile0.5440.0070.557
feature_profile_array0.6910.0060.700
filter_by_name0.0610.0000.061
filter_na_count1.0990.0531.160
filter_smeta0.0620.0000.062
fisher_exact10.810 0.05610.916
fold_change12.882 0.07413.033
fold_change_int20.484 0.09520.695
fold_change_plot0.0110.0010.011
forward_selection_by_rank7.5620.1167.727
fs_line7.3960.1427.587
glog_opt_plot0.6590.0070.671
glog_transform0.3410.0040.350
grid_search_1d4.2400.1314.401
gs_line0.0010.0000.001
hca_dendrogram0.0010.0000.001
kfold_xval3.5250.0273.562
kfoldxcv_grid4.1800.0394.243
kfoldxcv_metric0.0010.0000.001
knn_impute0.0130.0000.014
kw_p_hist0.0010.0000.001
kw_rank_sum0.0790.0010.081
linear_model0.0320.0010.033
log_transform0.0080.0000.008
mean_centre0.0030.0000.003
mean_of_medians0.1390.0010.140
mixed_effect0.1790.0030.183
model_apply0.0260.0010.028
model_predict0.0580.0000.059
model_reverse0.0270.0000.028
model_train0.0530.0000.055
mv_boxplot0.5220.0210.547
mv_feature_filter0.1300.0020.132
mv_feature_filter_hist0.0000.0000.001
mv_histogram0.4200.0050.428
mv_sample_filter0.0100.0010.010
mv_sample_filter_hist0.0000.0000.001
nroot_transform0.0070.0000.007
ontology_cache0.0010.0000.001
pairs_filter0.0280.0020.030
pareto_scale0.0700.0020.074
pca_biplot0.0140.0000.015
pca_correlation_plot0.0060.0010.007
pca_dstat_plot0.0100.0000.011
pca_loadings_plot0.010.000.01
pca_scores_plot0.8030.0090.820
pca_scree_plot0.0070.0010.007
permutation_test0.0090.0000.009
permutation_test_plot0.0020.0000.002
permute_sample_order0.0060.0000.007
pls_regcoeff_plot0.5240.0060.533
pls_scores_plot0.9230.0100.940
pls_vip_plot0.5570.0080.570
plsda_feature_importance_plot0.9640.0110.982
plsda_predicted_plot0.6370.0050.645
plsda_roc_plot1.2850.0101.300
plsr_cook_dist0.0070.0000.009
plsr_prediction_plot0.0070.0000.007
plsr_qq_plot0.0060.0000.005
plsr_residual_hist0.0060.0010.006
pqn_norm0.3800.0020.384
pqn_norm_hist0.0000.0000.001
prop_na0.0130.0010.013
r_squared0.0010.0000.001
resample0.0130.0000.012
resample_chart0.0030.0000.003
rsd_filter0.0120.0000.012
rsd_filter_hist0.0010.0000.001
run0.0310.0010.032
sb_corr0.0310.0010.032
scatter_chart0.5340.0030.539
split_data0.010.000.01
stratified_split0.1140.0010.116
svm_plot_2d0.7840.0150.801
tSNE0.0270.0010.027
tSNE_scatter0.0080.0000.009
tic_chart0.3640.0100.376
ttest0.0200.0010.020
vec_norm0.0010.0000.001
wilcox_p_hist0.0000.0000.001
wilcox_test0.0190.0000.020