| Back to Multiple platform build/check report for BioC 3.21: simplified long |
|
This page was generated on 2025-10-16 11:38 -0400 (Thu, 16 Oct 2025).
| Hostname | OS | Arch (*) | R version | Installed pkgs |
|---|---|---|---|---|
| nebbiolo1 | Linux (Ubuntu 24.04.3 LTS) | x86_64 | 4.5.1 (2025-06-13) -- "Great Square Root" | 4833 |
| merida1 | macOS 12.7.6 Monterey | x86_64 | 4.5.1 RC (2025-06-05 r88288) -- "Great Square Root" | 4614 |
| kjohnson1 | macOS 13.7.5 Ventura | arm64 | 4.5.1 Patched (2025-06-14 r88325) -- "Great Square Root" | 4555 |
| kunpeng2 | Linux (openEuler 24.03 LTS) | aarch64 | R Under development (unstable) (2025-02-19 r87757) -- "Unsuffered Consequences" | 4586 |
| Click on any hostname to see more info about the system (e.g. compilers) (*) as reported by 'uname -p', except on Windows and Mac OS X | ||||
| Package 2109/2341 | Hostname | OS / Arch | INSTALL | BUILD | CHECK | BUILD BIN | ||||||||
| standR 1.12.0 (landing page) Ning Liu
| nebbiolo1 | Linux (Ubuntu 24.04.3 LTS) / x86_64 | OK | OK | OK | |||||||||
| merida1 | macOS 12.7.6 Monterey / x86_64 | OK | OK | OK | OK | |||||||||
| kjohnson1 | macOS 13.7.5 Ventura / arm64 | OK | OK | OK | OK | |||||||||
| kunpeng2 | Linux (openEuler 24.03 LTS) / aarch64 | OK | OK | OK | ||||||||||
|
To the developers/maintainers of the standR package: - Allow up to 24 hours (and sometimes 48 hours) for your latest push to git@git.bioconductor.org:packages/standR.git to reflect on this report. See Troubleshooting Build Report for more information. - Use the following Renviron settings to reproduce errors and warnings. - If 'R CMD check' started to fail recently on the Linux builder(s) over a missing dependency, add the missing dependency to 'Suggests:' in your DESCRIPTION file. See Renviron.bioc for more information. |
| Package: standR |
| Version: 1.12.0 |
| Command: /home/biocbuild/bbs-3.21-bioc/R/bin/R CMD check --install=check:standR.install-out.txt --library=/home/biocbuild/bbs-3.21-bioc/R/site-library --timings standR_1.12.0.tar.gz |
| StartedAt: 2025-10-16 04:08:03 -0400 (Thu, 16 Oct 2025) |
| EndedAt: 2025-10-16 04:14:33 -0400 (Thu, 16 Oct 2025) |
| EllapsedTime: 389.5 seconds |
| RetCode: 0 |
| Status: OK |
| CheckDir: standR.Rcheck |
| Warnings: 0 |
##############################################################################
##############################################################################
###
### Running command:
###
### /home/biocbuild/bbs-3.21-bioc/R/bin/R CMD check --install=check:standR.install-out.txt --library=/home/biocbuild/bbs-3.21-bioc/R/site-library --timings standR_1.12.0.tar.gz
###
##############################################################################
##############################################################################
* using log directory ‘/home/biocbuild/bbs-3.21-bioc/meat/standR.Rcheck’
* using R version 4.5.1 (2025-06-13)
* using platform: x86_64-pc-linux-gnu
* R was compiled by
gcc (Ubuntu 13.3.0-6ubuntu2~24.04) 13.3.0
GNU Fortran (Ubuntu 13.3.0-6ubuntu2~24.04) 13.3.0
* running under: Ubuntu 24.04.3 LTS
* using session charset: UTF-8
* checking for file ‘standR/DESCRIPTION’ ... OK
* this is package ‘standR’ version ‘1.12.0’
* package encoding: UTF-8
* checking package namespace information ... OK
* checking package dependencies ... OK
* checking if this is a source package ... OK
* checking if there is a namespace ... OK
* checking for hidden files and directories ... OK
* checking for portable file names ... OK
* checking for sufficient/correct file permissions ... OK
* checking whether package ‘standR’ can be installed ... OK
* checking installed package size ... OK
* checking package directory ... OK
* checking ‘build’ directory ... OK
* checking DESCRIPTION meta-information ... OK
* checking top-level files ... OK
* checking for left-over files ... OK
* checking index information ... OK
* checking package subdirectories ... OK
* checking code files for non-ASCII characters ... OK
* checking R files for syntax errors ... OK
* checking whether the package can be loaded ... OK
* checking whether the package can be loaded with stated dependencies ... OK
* checking whether the package can be unloaded cleanly ... OK
* checking whether the namespace can be loaded with stated dependencies ... OK
* checking whether the namespace can be unloaded cleanly ... OK
* checking loading without being on the library search path ... OK
* checking dependencies in R code ... OK
* checking S3 generic/method consistency ... OK
* checking replacement functions ... OK
* checking foreign function calls ... OK
* checking R code for possible problems ... OK
* checking Rd files ... OK
* checking Rd metadata ... OK
* checking Rd cross-references ... OK
* checking for missing documentation entries ... OK
* checking for code/documentation mismatches ... OK
* checking Rd \usage sections ... OK
* checking Rd contents ... OK
* checking for unstated dependencies in examples ... OK
* checking contents of ‘data’ directory ... OK
* checking data for non-ASCII characters ... OK
* checking data for ASCII and uncompressed saves ... OK
* checking files in ‘vignettes’ ... OK
* checking examples ... OK
Examples with CPU (user + system) or elapsed time > 5s
user system elapsed
prepareSpatialDecon 9.173 1.705 11.157
readGeoMx 5.106 1.473 6.382
findBestK 4.997 0.043 5.041
* checking for unstated dependencies in ‘tests’ ... OK
* checking tests ...
Running ‘testthat.R’
OK
* checking for unstated dependencies in vignettes ... OK
* checking package vignettes ... OK
* checking re-building of vignette outputs ... OK
* checking PDF version of manual ... OK
* DONE
Status: OK
standR.Rcheck/00install.out
############################################################################## ############################################################################## ### ### Running command: ### ### /home/biocbuild/bbs-3.21-bioc/R/bin/R CMD INSTALL standR ### ############################################################################## ############################################################################## * installing to library ‘/home/biocbuild/bbs-3.21-bioc/R/site-library’ * installing *source* package ‘standR’ ... ** this is package ‘standR’ version ‘1.12.0’ ** using staged installation ** R ** data ** inst ** byte-compile and prepare package for lazy loading in method for ‘drawPCA’ with signature ‘"DGEList"’: no definition for class “DGEList” in method for ‘drawPCA’ with signature ‘"SpatialExperiment"’: no definition for class “SpatialExperiment” in method for ‘plotDR’ with signature ‘"SpatialExperiment","ANY"’: no definition for class “SpatialExperiment” in method for ‘plotMDS’ with signature ‘"DGEList","ANY","ANY","ANY"’: no definition for class “DGEList” in method for ‘plotMDS’ with signature ‘"SpatialExperiment"’: no definition for class “SpatialExperiment” in method for ‘plotRLExpr’ with signature ‘"DGEList","ANY"’: no definition for class “DGEList” ** help *** installing help indices *** copying figures ** building package indices ** installing vignettes ** testing if installed package can be loaded from temporary location ** testing if installed package can be loaded from final location ** testing if installed package keeps a record of temporary installation path * DONE (standR)
standR.Rcheck/tests/testthat.Rout
R version 4.5.1 (2025-06-13) -- "Great Square Root"
Copyright (C) 2025 The R Foundation for Statistical Computing
Platform: x86_64-pc-linux-gnu
R is free software and comes with ABSOLUTELY NO WARRANTY.
You are welcome to redistribute it under certain conditions.
Type 'license()' or 'licence()' for distribution details.
R is a collaborative project with many contributors.
Type 'contributors()' for more information and
'citation()' on how to cite R or R packages in publications.
Type 'demo()' for some demos, 'help()' for on-line help, or
'help.start()' for an HTML browser interface to help.
Type 'q()' to quit R.
> library(testthat)
> library(standR)
>
> test_check("standR")
Loading required namespace: SpatialExperiment
New names:
* `cv` -> `cv...1`
* `cv` -> `cv...2`
* `cv` -> `cv...3`
* `cv` -> `cv...4`
* `cv` -> `cv...5`
* `cv` -> `cv...6`
* `cv` -> `cv...7`
New names:
* `cv` -> `cv...1`
* `cv` -> `cv...2`
* `cv` -> `cv...3`
* `cv` -> `cv...4`
* `cv` -> `cv...5`
* `cv` -> `cv...6`
* `cv` -> `cv...7`
Loading required package: SingleCellExperiment
Loading required package: SummarizedExperiment
Loading required package: MatrixGenerics
Loading required package: matrixStats
Attaching package: 'MatrixGenerics'
The following objects are masked from 'package:matrixStats':
colAlls, colAnyNAs, colAnys, colAvgsPerRowSet, colCollapse,
colCounts, colCummaxs, colCummins, colCumprods, colCumsums,
colDiffs, colIQRDiffs, colIQRs, colLogSumExps, colMadDiffs,
colMads, colMaxs, colMeans2, colMedians, colMins, colOrderStats,
colProds, colQuantiles, colRanges, colRanks, colSdDiffs, colSds,
colSums2, colTabulates, colVarDiffs, colVars, colWeightedMads,
colWeightedMeans, colWeightedMedians, colWeightedSds,
colWeightedVars, rowAlls, rowAnyNAs, rowAnys, rowAvgsPerColSet,
rowCollapse, rowCounts, rowCummaxs, rowCummins, rowCumprods,
rowCumsums, rowDiffs, rowIQRDiffs, rowIQRs, rowLogSumExps,
rowMadDiffs, rowMads, rowMaxs, rowMeans2, rowMedians, rowMins,
rowOrderStats, rowProds, rowQuantiles, rowRanges, rowRanks,
rowSdDiffs, rowSds, rowSums2, rowTabulates, rowVarDiffs, rowVars,
rowWeightedMads, rowWeightedMeans, rowWeightedMedians,
rowWeightedSds, rowWeightedVars
Loading required package: GenomicRanges
Loading required package: stats4
Loading required package: BiocGenerics
Loading required package: generics
Attaching package: 'generics'
The following objects are masked from 'package:base':
as.difftime, as.factor, as.ordered, intersect, is.element, setdiff,
setequal, union
Attaching package: 'BiocGenerics'
The following objects are masked from 'package:stats':
IQR, mad, sd, var, xtabs
The following objects are masked from 'package:base':
Filter, Find, Map, Position, Reduce, anyDuplicated, aperm, append,
as.data.frame, basename, cbind, colnames, dirname, do.call,
duplicated, eval, evalq, get, grep, grepl, is.unsorted, lapply,
mapply, match, mget, order, paste, pmax, pmax.int, pmin, pmin.int,
rank, rbind, rownames, sapply, saveRDS, table, tapply, unique,
unsplit, which.max, which.min
Loading required package: S4Vectors
Attaching package: 'S4Vectors'
The following object is masked from 'package:utils':
findMatches
The following objects are masked from 'package:base':
I, expand.grid, unname
Loading required package: IRanges
Loading required package: GenomeInfoDb
Loading required package: Biobase
Welcome to Bioconductor
Vignettes contain introductory material; view with
'browseVignettes()'. To cite Bioconductor, see
'citation("Biobase")', and for packages 'citation("pkgname")'.
Attaching package: 'Biobase'
The following object is masked from 'package:MatrixGenerics':
rowMedians
The following objects are masked from 'package:matrixStats':
anyMissing, rowMedians
Rows: 18504 Columns: 232
-- Column specification --------------------------------------------------------
Delimiter: "\t"
chr (1): TargetName
dbl (231): disease3_scan | 001 | PanCK, disease3_scan | 001 | neg, disease3_...
i Use `spec()` to retrieve the full column specification for this data.
i Specify the column types or set `show_col_types = FALSE` to quiet this message.
Rows: 231 Columns: 25
-- Column specification --------------------------------------------------------
Delimiter: "\t"
chr (8): SlideName, ScanName, SegmentLabel, SegmentDisplayName, Sample_ID, ...
dbl (17): ROILabel, AOISurfaceArea, AOINucleiCount, ROICoordinateX, ROICoord...
i Use `spec()` to retrieve the full column specification for this data.
i Specify the column types or set `show_col_types = FALSE` to quiet this message.
Rows: 18504 Columns: 232
-- Column specification --------------------------------------------------------
Delimiter: "\t"
chr (1): TargetName
dbl (231): disease3_scan | 001 | PanCK, disease3_scan | 001 | neg, disease3_...
i Use `spec()` to retrieve the full column specification for this data.
i Specify the column types or set `show_col_types = FALSE` to quiet this message.
Rows: 18504 Columns: 232
-- Column specification --------------------------------------------------------
Delimiter: "\t"
chr (1): TargetName
dbl (231): disease3_scan | 001 | PanCK, disease3_scan | 001 | neg, disease3_...
i Use `spec()` to retrieve the full column specification for this data.
i Specify the column types or set `show_col_types = FALSE` to quiet this message.
Rows: 231 Columns: 25
-- Column specification --------------------------------------------------------
Delimiter: "\t"
chr (8): SlideName, ScanName, SegmentLabel, SegmentDisplayName, Sample_ID, ...
dbl (17): ROILabel, AOISurfaceArea, AOINucleiCount, ROICoordinateX, ROICoord...
i Use `spec()` to retrieve the full column specification for this data.
i Specify the column types or set `show_col_types = FALSE` to quiet this message.
Loading required namespace: scater
Loading required package: scuttle
Loading required package: ggplot2
Attaching package: 'scater'
The following object is masked from 'package:standR':
plotMDS
Loading required package: AnnotationHub
Loading required package: BiocFileCache
Loading required package: dbplyr
Attaching package: 'AnnotationHub'
The following object is masked from 'package:Biobase':
cache
see ?standR and browseVignettes('standR') for documentation
loading from cache
see ?standR and browseVignettes('standR') for documentation
loading from cache
Rows: 18504 Columns: 232
-- Column specification --------------------------------------------------------
Delimiter: "\t"
chr (1): TargetName
dbl (231): disease3_scan | 001 | PanCK, disease3_scan | 001 | neg, disease3_...
i Use `spec()` to retrieve the full column specification for this data.
i Specify the column types or set `show_col_types = FALSE` to quiet this message.
Rows: 231 Columns: 25
-- Column specification --------------------------------------------------------
Delimiter: "\t"
chr (8): SlideName, ScanName, SegmentLabel, SegmentDisplayName, Sample_ID, ...
dbl (17): ROILabel, AOISurfaceArea, AOINucleiCount, ROICoordinateX, ROICoord...
i Use `spec()` to retrieve the full column specification for this data.
i Specify the column types or set `show_col_types = FALSE` to quiet this message.
[ FAIL 0 | WARN 0 | SKIP 0 | PASS 104 ]
>
> proc.time()
user system elapsed
61.726 7.106 95.095
standR.Rcheck/standR-Ex.timings
| name | user | system | elapsed | |
| addPerROIQC | 1.562 | 0.006 | 1.567 | |
| computeClusterEvalStats | 1.027 | 0.029 | 1.056 | |
| dkd_spe_subset | 0.121 | 0.002 | 0.122 | |
| drawPCA | 1.161 | 0.005 | 1.165 | |
| findBestK | 4.997 | 0.043 | 5.041 | |
| findNCGs | 0.697 | 0.018 | 0.715 | |
| geomxBatchCorrection | 0.891 | 0.012 | 0.903 | |
| geomxNorm | 1.118 | 0.008 | 1.126 | |
| plotClusterEvalStats | 2.581 | 0.058 | 2.639 | |
| plotDR | 0.550 | 0.022 | 0.572 | |
| plotGeneQC | 1.349 | 0.014 | 1.363 | |
| plotMDS | 0.802 | 0.029 | 0.831 | |
| plotPCAbiplot | 0.473 | 0.002 | 0.475 | |
| plotPairPCA | 1.389 | 0.008 | 1.397 | |
| plotRLExpr | 1.676 | 0.006 | 1.682 | |
| plotROIQC | 1.110 | 0.035 | 1.145 | |
| plotSampleInfo | 0.821 | 0.004 | 0.825 | |
| plotScreePCA | 0.391 | 0.004 | 0.395 | |
| prepareSpatialDecon | 9.173 | 1.705 | 11.157 | |
| readGeoMx | 5.106 | 1.473 | 6.382 | |
| readGeoMxFromDGE | 0.118 | 0.002 | 0.120 | |
| spe2dge | 0.645 | 0.022 | 0.667 | |