| Back to Multiple platform build/check report for BioC 3.22: simplified long |
|
This page was generated on 2025-11-20 12:08 -0500 (Thu, 20 Nov 2025).
| Hostname | OS | Arch (*) | R version | Installed pkgs |
|---|---|---|---|---|
| nebbiolo2 | Linux (Ubuntu 24.04.3 LTS) | x86_64 | 4.5.2 (2025-10-31) -- "[Not] Part in a Rumble" | 4615 |
| merida1 | macOS 12.7.6 Monterey | x86_64 | 4.5.2 Patched (2025-11-05 r88990) -- "[Not] Part in a Rumble" | 4610 |
| kjohnson1 | macOS 13.7.5 Ventura | arm64 | 4.5.2 Patched (2025-11-04 r88984) -- "[Not] Part in a Rumble" | 4598 |
| taishan | Linux (openEuler 24.03 LTS) | aarch64 | 4.5.0 (2025-04-11) -- "How About a Twenty-Six" | 4668 |
| Click on any hostname to see more info about the system (e.g. compilers) (*) as reported by 'uname -p', except on Windows and Mac OS X | ||||
| Package 2101/2361 | Hostname | OS / Arch | INSTALL | BUILD | CHECK | BUILD BIN | ||||||||
| spiky 1.16.0 (landing page) Tim Triche
| nebbiolo2 | Linux (Ubuntu 24.04.3 LTS) / x86_64 | OK | OK | OK | |||||||||
| merida1 | macOS 12.7.6 Monterey / x86_64 | OK | OK | OK | OK | |||||||||
| kjohnson1 | macOS 13.7.5 Ventura / arm64 | OK | OK | OK | OK | |||||||||
| taishan | Linux (openEuler 24.03 LTS) / aarch64 | OK | OK | OK | ||||||||||
|
To the developers/maintainers of the spiky package: - Allow up to 24 hours (and sometimes 48 hours) for your latest push to git@git.bioconductor.org:packages/spiky.git to reflect on this report. See Troubleshooting Build Report for more information. - Use the following Renviron settings to reproduce errors and warnings. - If 'R CMD check' started to fail recently on the Linux builder(s) over a missing dependency, add the missing dependency to 'Suggests:' in your DESCRIPTION file. See Renviron.bioc for more information. - See Martin Grigorov's blog post for how to debug Linux ARM64 related issues on a x86_64 host. |
| Package: spiky |
| Version: 1.16.0 |
| Command: /home/biocbuild/R/R/bin/R CMD check --install=check:spiky.install-out.txt --library=/home/biocbuild/R/R/site-library --no-vignettes --timings spiky_1.16.0.tar.gz |
| StartedAt: 2025-11-18 15:31:54 -0000 (Tue, 18 Nov 2025) |
| EndedAt: 2025-11-18 15:38:15 -0000 (Tue, 18 Nov 2025) |
| EllapsedTime: 380.4 seconds |
| RetCode: 0 |
| Status: OK |
| CheckDir: spiky.Rcheck |
| Warnings: 0 |
##############################################################################
##############################################################################
###
### Running command:
###
### /home/biocbuild/R/R/bin/R CMD check --install=check:spiky.install-out.txt --library=/home/biocbuild/R/R/site-library --no-vignettes --timings spiky_1.16.0.tar.gz
###
##############################################################################
##############################################################################
* using log directory ‘/home/biocbuild/bbs-3.22-bioc/meat/spiky.Rcheck’
* using R version 4.5.0 (2025-04-11)
* using platform: aarch64-unknown-linux-gnu
* R was compiled by
aarch64-unknown-linux-gnu-gcc (GCC) 14.2.0
GNU Fortran (GCC) 14.2.0
* running under: openEuler 24.03 (LTS)
* using session charset: UTF-8
* using option ‘--no-vignettes’
* checking for file ‘spiky/DESCRIPTION’ ... OK
* checking extension type ... Package
* this is package ‘spiky’ version ‘1.16.0’
* package encoding: UTF-8
* checking package namespace information ... OK
* checking package dependencies ... OK
* checking if this is a source package ... OK
* checking if there is a namespace ... OK
* checking for hidden files and directories ... OK
* checking for portable file names ... OK
* checking for sufficient/correct file permissions ... OK
* checking whether package ‘spiky’ can be installed ... OK
* checking installed package size ... INFO
installed size is 16.4Mb
sub-directories of 1Mb or more:
data 3.2Mb
extdata 12.9Mb
* checking package directory ... OK
* checking ‘build’ directory ... OK
* checking DESCRIPTION meta-information ... OK
* checking top-level files ... OK
* checking for left-over files ... OK
* checking index information ... OK
* checking package subdirectories ... OK
* checking code files for non-ASCII characters ... OK
* checking R files for syntax errors ... OK
* checking whether the package can be loaded ... OK
* checking whether the package can be loaded with stated dependencies ... OK
* checking whether the package can be unloaded cleanly ... OK
* checking whether the namespace can be loaded with stated dependencies ... OK
* checking whether the namespace can be unloaded cleanly ... OK
* checking loading without being on the library search path ... OK
* checking dependencies in R code ... OK
* checking S3 generic/method consistency ... OK
* checking replacement functions ... OK
* checking foreign function calls ... OK
* checking R code for possible problems ... NOTE
.toGRs: warning in grep("(chrom|seqnames|start|end)1", colnames(x), val
= TRUE): partial argument match of 'val' to 'value'
.toGRs: warning in grep("(chrom|seqnames|start|end)2", colnames(x), val
= TRUE): partial argument match of 'val' to 'value'
* checking Rd files ... OK
* checking Rd metadata ... OK
* checking Rd cross-references ... OK
* checking for missing documentation entries ... OK
* checking for code/documentation mismatches ... OK
* checking Rd \usage sections ... OK
* checking Rd contents ... OK
* checking for unstated dependencies in examples ... OK
* checking contents of ‘data’ directory ... OK
* checking data for non-ASCII characters ... OK
* checking LazyData ... OK
* checking data for ASCII and uncompressed saves ... OK
* checking files in ‘vignettes’ ... OK
* checking examples ... OK
Examples with CPU (user + system) or elapsed time > 5s
user system elapsed
scan_genomic_bedpe 17.367 0.487 17.891
scan_genomic_contigs 15.553 0.591 16.182
model_bam_standards 8.066 0.296 8.381
scan_spike_bedpe 5.032 0.140 5.185
* checking for unstated dependencies in vignettes ... OK
* checking package vignettes ... OK
* checking running R code from vignettes ... SKIPPED
* checking re-building of vignette outputs ... SKIPPED
* checking PDF version of manual ... OK
* DONE
Status: 1 NOTE
See
‘/home/biocbuild/bbs-3.22-bioc/meat/spiky.Rcheck/00check.log’
for details.
spiky.Rcheck/00install.out
############################################################################## ############################################################################## ### ### Running command: ### ### /home/biocbuild/R/R/bin/R CMD INSTALL spiky ### ############################################################################## ############################################################################## * installing to library ‘/home/biocbuild/R/R-4.5.0/site-library’ * installing *source* package ‘spiky’ ... ** this is package ‘spiky’ version ‘1.16.0’ ** using staged installation ** R ** data *** moving datasets to lazyload DB ** inst ** byte-compile and prepare package for lazy loading ** help *** installing help indices ** building package indices ** installing vignettes ** testing if installed package can be loaded from temporary location ** testing if installed package can be loaded from final location ** testing if installed package keeps a record of temporary installation path * DONE (spiky)
spiky.Rcheck/spiky-Ex.timings
| name | user | system | elapsed | |
| add_frag_info | 0.170 | 0.016 | 0.186 | |
| bam_to_bins | 0.181 | 0.012 | 0.193 | |
| bin_pmol | 3.504 | 0.615 | 4.153 | |
| covg_to_df | 0.102 | 0.006 | 0.109 | |
| find_spike_contigs | 0.025 | 0.003 | 0.033 | |
| generate_spike_fasta | 0.121 | 0.001 | 0.123 | |
| get_base_name | 0.013 | 0.000 | 0.014 | |
| get_binned_coverage | 0.273 | 0.004 | 0.279 | |
| get_merged_gr | 0.073 | 0.008 | 0.082 | |
| get_spike_depth | 0.341 | 0.016 | 0.357 | |
| get_spiked_coverage | 0.249 | 0.035 | 0.286 | |
| kmax | 0.045 | 0.008 | 0.054 | |
| kmers | 0.031 | 0.004 | 0.035 | |
| methylation_specificity | 0.105 | 0.000 | 0.105 | |
| model_bam_standards | 8.066 | 0.296 | 8.381 | |
| model_glm_pmol | 0.073 | 0.000 | 0.073 | |
| predict_pmol | 2.426 | 0.495 | 2.927 | |
| process_spikes | 0.240 | 0.008 | 0.249 | |
| read_bedpe | 0.001 | 0.000 | 0.000 | |
| scan_genomic_bedpe | 17.367 | 0.487 | 17.891 | |
| scan_genomic_contigs | 15.553 | 0.591 | 16.182 | |
| scan_methylation_specificity | 0.044 | 0.000 | 0.043 | |
| scan_spike_bedpe | 5.032 | 0.140 | 5.185 | |
| scan_spike_contigs | 0.481 | 0.067 | 0.551 | |
| scan_spike_counts | 0.076 | 0.004 | 0.080 | |
| scan_spiked_bam | 0.624 | 0.055 | 0.682 | |
| seqinfo_from_header | 0.128 | 0.004 | 0.133 | |
| spike_bland_altman_plot | 0.393 | 0.012 | 0.406 | |
| spike_counts | 0.075 | 0.000 | 0.075 | |
| tile_bins | 0.047 | 0.004 | 0.051 | |