| Back to Multiple platform build/check report for BioC 3.21: simplified long |
|
This page was generated on 2025-08-18 11:42 -0400 (Mon, 18 Aug 2025).
| Hostname | OS | Arch (*) | R version | Installed pkgs |
|---|---|---|---|---|
| nebbiolo1 | Linux (Ubuntu 24.04.3 LTS) | x86_64 | 4.5.1 (2025-06-13) -- "Great Square Root" | 4824 |
| palomino7 | Windows Server 2022 Datacenter | x64 | 4.5.1 (2025-06-13 ucrt) -- "Great Square Root" | 4566 |
| merida1 | macOS 12.7.5 Monterey | x86_64 | 4.5.1 RC (2025-06-05 r88288) -- "Great Square Root" | 4604 |
| kjohnson1 | macOS 13.6.6 Ventura | arm64 | 4.5.1 Patched (2025-06-14 r88325) -- "Great Square Root" | 4545 |
| kunpeng2 | Linux (openEuler 24.03 LTS) | aarch64 | R Under development (unstable) (2025-02-19 r87757) -- "Unsuffered Consequences" | 4579 |
| Click on any hostname to see more info about the system (e.g. compilers) (*) as reported by 'uname -p', except on Windows and Mac OS X | ||||
| Package 2024/2341 | Hostname | OS / Arch | INSTALL | BUILD | CHECK | BUILD BIN | ||||||||
| slalom 1.30.0 (landing page) Davis McCarthy
| nebbiolo1 | Linux (Ubuntu 24.04.3 LTS) / x86_64 | OK | OK | WARNINGS | |||||||||
| palomino7 | Windows Server 2022 Datacenter / x64 | OK | OK | WARNINGS | OK | |||||||||
| merida1 | macOS 12.7.5 Monterey / x86_64 | ERROR | ERROR | skipped | skipped | |||||||||
| kjohnson1 | macOS 13.6.6 Ventura / arm64 | ERROR | ERROR | skipped | skipped | |||||||||
| kunpeng2 | Linux (openEuler 24.03 LTS) / aarch64 | OK | OK | WARNINGS | ||||||||||
|
To the developers/maintainers of the slalom package: - Allow up to 24 hours (and sometimes 48 hours) for your latest push to git@git.bioconductor.org:packages/slalom.git to reflect on this report. See Troubleshooting Build Report for more information. - Use the following Renviron settings to reproduce errors and warnings. - If 'R CMD check' started to fail recently on the Linux builder(s) over a missing dependency, add the missing dependency to 'Suggests:' in your DESCRIPTION file. See Renviron.bioc for more information. |
| Package: slalom |
| Version: 1.30.0 |
| Command: rm -rf slalom.buildbin-libdir && mkdir slalom.buildbin-libdir && E:\biocbuild\bbs-3.21-bioc\R\bin\R.exe CMD INSTALL --build --library=slalom.buildbin-libdir slalom_1.30.0.tar.gz |
| StartedAt: 2025-08-15 10:20:33 -0400 (Fri, 15 Aug 2025) |
| EndedAt: 2025-08-15 10:21:40 -0400 (Fri, 15 Aug 2025) |
| EllapsedTime: 67.3 seconds |
| RetCode: 0 |
| Status: OK |
| PackageFile: slalom_1.30.0.zip |
| PackageFileSize: 18.44 MiB |
##############################################################################
##############################################################################
###
### Running command:
###
### rm -rf slalom.buildbin-libdir && mkdir slalom.buildbin-libdir && E:\biocbuild\bbs-3.21-bioc\R\bin\R.exe CMD INSTALL --build --library=slalom.buildbin-libdir slalom_1.30.0.tar.gz
###
##############################################################################
##############################################################################
* installing *source* package 'slalom' ...
** this is package 'slalom' version '1.30.0'
** using staged installation
** libs
using C++ compiler: 'G__~1.EXE (GCC) 14.2.0'
g++ -std=gnu++17 -I"E:/biocbuild/bbs-3.21-bioc/R/include" -DNDEBUG -I'E:/biocbuild/bbs-3.21-bioc/R/library/Rcpp/include' -I'E:/biocbuild/bbs-3.21-bioc/R/library/RcppArmadillo/include' -I'E:/biocbuild/bbs-3.21-bioc/R/library/BH/include' -I"C:/rtools45/x86_64-w64-mingw32.static.posix/include" -O2 -Wall -mfpmath=sse -msse2 -mstackrealign -c RcppExports.cpp -o RcppExports.o
g++ -std=gnu++17 -I"E:/biocbuild/bbs-3.21-bioc/R/include" -DNDEBUG -I'E:/biocbuild/bbs-3.21-bioc/R/library/Rcpp/include' -I'E:/biocbuild/bbs-3.21-bioc/R/library/RcppArmadillo/include' -I'E:/biocbuild/bbs-3.21-bioc/R/library/BH/include' -I"C:/rtools45/x86_64-w64-mingw32.static.posix/include" -O2 -Wall -mfpmath=sse -msse2 -mstackrealign -c slalom-classes.cpp -o slalom-classes.o
slalom-classes.cpp: In member function 'void SlalomModel::train()':
slalom-classes.cpp:223:20: warning: unused variable 'meanerr' [-Wunused-variable]
223 | double meanerr = arma::mean(error);
| ^~~~~~~
slalom-classes.cpp:202:12: warning: unused variable 'meanerr' [-Wunused-variable]
202 | double meanerr = arma::mean(error);
| ^~~~~~~
slalom-classes.cpp: In member function 'void SlalomModel::update()':
slalom-classes.cpp:262:28: warning: 'void std::random_shuffle(_RAIter, _RAIter, _Generator&&) [with _RAIter = unsigned int*; _Generator = int (&)(int)]' is deprecated: use 'std::shuffle' instead [-Wdeprecated-declarations]
262 | std::random_shuffle(kunfix.begin(), kunfix.end(), randWrapper);
| ~~~~~~~~~~~~~~~~~~~^~~~~~~~~~~~~~~~~~~~~~~~~~~~~~~~~~~~~~~~~~~
In file included from C:/rtools45/x86_64-w64-mingw32.static.posix/lib/gcc/x86_64-w64-mingw32.static.posix/14.2.0/include/c++/algorithm:61,
from E:/biocbuild/bbs-3.21-bioc/R/library/Rcpp/include/RcppCommon.h:68,
from E:/biocbuild/bbs-3.21-bioc/R/library/RcppArmadillo/include/RcppArmadillo/interface/RcppArmadilloForward.h:25,
from E:/biocbuild/bbs-3.21-bioc/R/library/RcppArmadillo/include/RcppArmadillo.h:29,
from slalom-classes.cpp:10:
C:/rtools45/x86_64-w64-mingw32.static.posix/lib/gcc/x86_64-w64-mingw32.static.posix/14.2.0/include/c++/bits/stl_algo.h:4530:5: note: declared here
4530 | random_shuffle(_RandomAccessIterator __first, _RandomAccessIterator __last,
| ^~~~~~~~~~~~~~
slalom-classes.cpp: In member function 'void SlalomModel::updateEpsilon()':
slalom-classes.cpp:431:23: warning: comparison of integer expressions of different signedness: 'int' and 'const arma::uword' {aka 'const unsigned int'} [-Wsign-compare]
431 | for (int i = 0; i < this->epsilon_E1.n_elem; i++) {
| ~~^~~~~~~~~~~~~~~~~~~~~~~~~
g++ -std=gnu++17 -shared -s -static-libgcc -o slalom.dll tmp.def RcppExports.o slalom-classes.o -LE:/biocbuild/bbs-3.21-bioc/R/bin/x64 -lRlapack -LE:/biocbuild/bbs-3.21-bioc/R/bin/x64 -lRblas -lgfortran -lquadmath -LC:/rtools45/x86_64-w64-mingw32.static.posix/lib/x64 -LC:/rtools45/x86_64-w64-mingw32.static.posix/lib -LE:/biocbuild/bbs-3.21-bioc/R/bin/x64 -lR
installing to E:/biocbuild/bbs-3.21-bioc/meat/slalom.buildbin-libdir/00LOCK-slalom/00new/slalom/libs/x64
** R
** data
*** moving datasets to lazyload DB
** inst
** byte-compile and prepare package for lazy loading
** help
*** installing help indices
** building package indices
** installing vignettes
** testing if installed package can be loaded from temporary location
** testing if installed package can be loaded from final location
** testing if installed package keeps a record of temporary installation path
* MD5 sums
packaged installation of 'slalom' as slalom_1.30.0.zip
* DONE (slalom)