| Back to Multiple platform build/check report for BioC 3.22: simplified long |
|
This page was generated on 2025-08-15 12:07 -0400 (Fri, 15 Aug 2025).
| Hostname | OS | Arch (*) | R version | Installed pkgs |
|---|---|---|---|---|
| nebbiolo2 | Linux (Ubuntu 24.04.3 LTS) | x86_64 | 4.5.1 (2025-06-13) -- "Great Square Root" | 4818 |
| palomino8 | Windows Server 2022 Datacenter | x64 | 4.5.1 (2025-06-13 ucrt) -- "Great Square Root" | 4554 |
| lconway | macOS 12.7.1 Monterey | x86_64 | 4.5.1 (2025-06-13) -- "Great Square Root" | 4595 |
| kjohnson3 | macOS 13.7.7 Ventura | arm64 | 4.5.1 Patched (2025-06-14 r88325) -- "Great Square Root" | 4537 |
| taishan | Linux (openEuler 24.03 LTS) | aarch64 | 4.5.0 (2025-04-11) -- "How About a Twenty-Six" | 4535 |
| Click on any hostname to see more info about the system (e.g. compilers) (*) as reported by 'uname -p', except on Windows and Mac OS X | ||||
| Package 1977/2317 | Hostname | OS / Arch | INSTALL | BUILD | CHECK | BUILD BIN | ||||||||
| signifinder 1.11.0 (landing page) Stefania Pirrotta
| nebbiolo2 | Linux (Ubuntu 24.04.3 LTS) / x86_64 | OK | OK | OK | |||||||||
| palomino8 | Windows Server 2022 Datacenter / x64 | OK | OK | OK | OK | |||||||||
| lconway | macOS 12.7.1 Monterey / x86_64 | OK | OK | OK | OK | |||||||||
| kjohnson3 | macOS 13.7.7 Ventura / arm64 | OK | OK | OK | OK | |||||||||
| taishan | Linux (openEuler 24.03 LTS) / aarch64 | OK | OK | OK | ||||||||||
|
To the developers/maintainers of the signifinder package: - Allow up to 24 hours (and sometimes 48 hours) for your latest push to git@git.bioconductor.org:packages/signifinder.git to reflect on this report. See Troubleshooting Build Report for more information. - Use the following Renviron settings to reproduce errors and warnings. - If 'R CMD check' started to fail recently on the Linux builder(s) over a missing dependency, add the missing dependency to 'Suggests:' in your DESCRIPTION file. See Renviron.bioc for more information. |
| Package: signifinder |
| Version: 1.11.0 |
| Command: F:\biocbuild\bbs-3.22-bioc\R\bin\R.exe CMD check --no-multiarch --install=check:signifinder.install-out.txt --library=F:\biocbuild\bbs-3.22-bioc\R\library --no-vignettes --timings signifinder_1.11.0.tar.gz |
| StartedAt: 2025-08-15 07:55:09 -0400 (Fri, 15 Aug 2025) |
| EndedAt: 2025-08-15 08:20:01 -0400 (Fri, 15 Aug 2025) |
| EllapsedTime: 1491.3 seconds |
| RetCode: 0 |
| Status: OK |
| CheckDir: signifinder.Rcheck |
| Warnings: 0 |
##############################################################################
##############################################################################
###
### Running command:
###
### F:\biocbuild\bbs-3.22-bioc\R\bin\R.exe CMD check --no-multiarch --install=check:signifinder.install-out.txt --library=F:\biocbuild\bbs-3.22-bioc\R\library --no-vignettes --timings signifinder_1.11.0.tar.gz
###
##############################################################################
##############################################################################
* using log directory 'F:/biocbuild/bbs-3.22-bioc/meat/signifinder.Rcheck'
* using R version 4.5.1 (2025-06-13 ucrt)
* using platform: x86_64-w64-mingw32
* R was compiled by
gcc.exe (GCC) 14.2.0
GNU Fortran (GCC) 14.2.0
* running under: Windows Server 2022 x64 (build 20348)
* using session charset: UTF-8
* using option '--no-vignettes'
* checking for file 'signifinder/DESCRIPTION' ... OK
* checking extension type ... Package
* this is package 'signifinder' version '1.11.0'
* package encoding: UTF-8
* checking package namespace information ... OK
* checking package dependencies ... INFO
Imports includes 27 non-default packages.
Importing from so many packages makes the package vulnerable to any of
them becoming unavailable. Move as many as possible to Suggests and
use conditionally.
* checking if this is a source package ... OK
* checking if there is a namespace ... OK
* checking for hidden files and directories ... OK
* checking for portable file names ... OK
* checking whether package 'signifinder' can be installed ... OK
* checking installed package size ... OK
* checking package directory ... OK
* checking 'build' directory ... OK
* checking DESCRIPTION meta-information ... OK
* checking top-level files ... OK
* checking for left-over files ... OK
* checking index information ... OK
* checking package subdirectories ... OK
* checking code files for non-ASCII characters ... OK
* checking R files for syntax errors ... OK
* checking whether the package can be loaded ... OK
* checking whether the package can be loaded with stated dependencies ... OK
* checking whether the package can be unloaded cleanly ... OK
* checking whether the namespace can be loaded with stated dependencies ... OK
* checking whether the namespace can be unloaded cleanly ... OK
* checking dependencies in R code ... OK
* checking S3 generic/method consistency ... OK
* checking replacement functions ... OK
* checking foreign function calls ... OK
* checking R code for possible problems ... OK
* checking Rd files ... OK
* checking Rd metadata ... OK
* checking Rd cross-references ... NOTE
Found the following Rd file(s) with Rd \link{} targets missing package
anchors:
ADOSign.Rd: SummarizedExperiment-class
APMSign.Rd: SummarizedExperiment-class
ASCSign.Rd: SummarizedExperiment-class
CD39CD8TcellSign.Rd: SummarizedExperiment-class
CINSign.Rd: SummarizedExperiment-class
CISSign.Rd: SummarizedExperiment-class
COXISSign.Rd: SummarizedExperiment-class
CombinedSign.Rd: SummarizedExperiment-class
DNArepSign.Rd: SummarizedExperiment-class
ECMSign.Rd: SummarizedExperiment-class
EMTSign.Rd: SummarizedExperiment-class
HRDSSign.Rd: SummarizedExperiment-class
ICBResponseSign.Rd: SummarizedExperiment-class
IFNSign.Rd: SummarizedExperiment-class
IPRESSign.Rd: SummarizedExperiment-class
IPSOVSign.Rd: SummarizedExperiment-class
IPSSign.Rd: SummarizedExperiment-class
IRGSign.Rd: SummarizedExperiment-class
ISCSign.Rd: SummarizedExperiment-class
LRRC15CAFSign.Rd: SummarizedExperiment-class
MITFlowPTENnegSign.Rd: SummarizedExperiment-class
MPSSign.Rd: SummarizedExperiment-class
PassONSign.Rd: SummarizedExperiment-class
SCSubtypeSign.Rd: SummarizedExperiment-class
TGFBSign.Rd: SummarizedExperiment-class
TLSSign.Rd: SummarizedExperiment-class
TinflamSign.Rd: SummarizedExperiment-class
VEGFSign.Rd: SummarizedExperiment-class
autophagySign.Rd: SummarizedExperiment-class
cellCycleSign.Rd: SummarizedExperiment-class
chemokineSign.Rd: SummarizedExperiment-class
consensusOVSign.Rd: SummarizedExperiment-class
correlationSignPlot.Rd: SummarizedExperiment-class
evaluationSignPlot.Rd: SummarizedExperiment-class
expandedImmuneSign.Rd: SummarizedExperiment-class
ferroptosisSign.Rd: SummarizedExperiment-class
geneHeatmapSignPlot.Rd: SummarizedExperiment-class
glycolysisSign.Rd: SummarizedExperiment-class
heatmapSignPlot.Rd: SummarizedExperiment-class
hypoxiaSign.Rd: SummarizedExperiment-class
immuneCytSign.Rd: SummarizedExperiment-class
immunoScoreSign.Rd: SummarizedExperiment-class
interferonSign.Rd: SummarizedExperiment-class
lipidMetabolismSign.Rd: SummarizedExperiment-class
matrisomeSign.Rd: SummarizedExperiment-class
metalSign.Rd: SummarizedExperiment-class
mitoticIndexSign.Rd: SummarizedExperiment-class
multipleSign.Rd: SummarizedExperiment-class
oneSignPlot.Rd: SummarizedExperiment-class
oxphosSign.Rd: SummarizedExperiment-class
pyroptosisSign.Rd: SummarizedExperiment-class
ridgelineSignPlot.Rd: SummarizedExperiment-class
stateSign.Rd: SummarizedExperiment-class
stemCellCD49fSign.Rd: SummarizedExperiment-class
stressSign.Rd: SummarizedExperiment-class
survivalSignPlot.Rd: SummarizedExperiment-class
Please provide package anchors for all Rd \link{} targets not in the
package itself and the base packages.
* checking for missing documentation entries ... OK
* checking for code/documentation mismatches ... OK
* checking Rd \usage sections ... OK
* checking Rd contents ... OK
* checking for unstated dependencies in examples ... OK
* checking contents of 'data' directory ... OK
* checking data for non-ASCII characters ... OK
* checking data for ASCII and uncompressed saves ... OK
* checking R/sysdata.rda ... OK
* checking files in 'vignettes' ... OK
* checking examples ... OK
Examples with CPU (user + system) or elapsed time > 5s
user system elapsed
multipleSign 156.63 1.11 157.74
consensusOVSign 77.66 0.47 78.19
* checking for unstated dependencies in 'tests' ... OK
* checking tests ...
Running 'testthat.R'
OK
* checking for unstated dependencies in vignettes ... OK
* checking package vignettes ... OK
* checking running R code from vignettes ... SKIPPED
* checking re-building of vignette outputs ... SKIPPED
* checking PDF version of manual ... OK
* DONE
Status: 1 NOTE
See
'F:/biocbuild/bbs-3.22-bioc/meat/signifinder.Rcheck/00check.log'
for details.
signifinder.Rcheck/00install.out
############################################################################## ############################################################################## ### ### Running command: ### ### F:\biocbuild\bbs-3.22-bioc\R\bin\R.exe CMD INSTALL signifinder ### ############################################################################## ############################################################################## * installing to library 'F:/biocbuild/bbs-3.22-bioc/R/library' * installing *source* package 'signifinder' ... ** this is package 'signifinder' version '1.11.0' ** using staged installation ** R ** data ** inst ** byte-compile and prepare package for lazy loading ** help *** installing help indices *** copying figures ** building package indices ** installing vignettes ** testing if installed package can be loaded from temporary location ** testing if installed package can be loaded from final location ** testing if installed package keeps a record of temporary installation path * DONE (signifinder)
signifinder.Rcheck/tests/testthat.Rout
R version 4.5.1 (2025-06-13 ucrt) -- "Great Square Root"
Copyright (C) 2025 The R Foundation for Statistical Computing
Platform: x86_64-w64-mingw32/x64
R is free software and comes with ABSOLUTELY NO WARRANTY.
You are welcome to redistribute it under certain conditions.
Type 'license()' or 'licence()' for distribution details.
R is a collaborative project with many contributors.
Type 'contributors()' for more information and
'citation()' on how to cite R or R packages in publications.
Type 'demo()' for some demos, 'help()' for on-line help, or
'help.start()' for an HTML browser interface to help.
Type 'q()' to quit R.
> library(testthat)
> library(signifinder)
>
> test_check("signifinder")
'select()' returned 1:1 mapping between keys and columns
Loading required package: edgeR
Loading required package: limma
Attaching package: 'limma'
The following object is masked from 'package:BiocGenerics':
plotMA
pyroptosisSignLin is using 100% of signature genes
ferroptosisSignLi is using 100% of signature genes
lipidMetabolismSign is using 100% of signature genes
StemCellCD49fSign is using 100% of signature genes
glycolysisSignZhang is using 100% of signature genes
autophagySignXu is using 100% of signature genes
'select()' returned 1:1 mapping between keys and columns
autophagySignChenM is using 100% of OS signature genes
autophagySignChenM is using 60% of DFS signature genes
TinflamSign is using 100% of signature genes
interferonSign is using 100% of Interferon signature genes
EMTSignMiow is using 0% of epithelial signature genes
EMTSignMiow is using 100% of mesenchymal signature genes
i argument assay='norm_expr' ignored since exprData has no assay names.
i GSVA version 2.3.1
i Calculating ssGSEA scores for 1 gene sets
i Calculating ranks
i Calculating rank weights
v Calculations finished
EMTSignMiow is using 0% of epithelial signature genes
i argument assay='norm_expr' ignored since exprData has no assay names.
i GSVA version 2.3.1
i Calculating ssGSEA scores for 1 gene sets
i Calculating ranks
i Calculating rank weights
v Calculations finished
EMTSignMak is using 100% of epithelial signature genes
EMTSignMak is using 100% of mesenchymal signature genes
EMTSignMak is using 100% of mesenchymal signature genes
EMTSignCheng is using 100% of signature genes
EMTSignThompson is using 100% of epithelial signature genes
EMTSignThompson is using 100% of mesenchymal signature genes
'select()' returned 1:1 mapping between keys and columns
EMTSignThompson is using 100% of mesenchymal signature genes
'select()' returned 1:1 mapping between keys and columns
EMTSign is using 100% of cEMT signature genes
EMTSign is using 100% of pEMT signature genes
EMTSign is using 100% of pEMT signature genes
hipoxiaSign is using 100% of Hypoxia signature genes
ASCSign is using 100% of signature genes
ChemokineSign is using 100% of signature genes
'select()' returned 1:1 mapping between keys and columns
PassONSign is using 100% of signature genes
i GSVA version 2.3.1
i Calculating ssGSEA scores for 4 gene sets
i Calculating ranks
i Calculating rank weights
i Normalizing ssGSEA scores
v Calculations finished
CISSign is using 100% of up signature genes
CISSign is using 100% of down signature genes
CISSign is using 100% of down signature genes
HRDSSign is using 100% of signature genes
DNArepSign is using 100% of signature genes
'select()' returned 1:1 mapping between keys and columns
IPRESSign is using 100% of signature genes
i GSVA version 2.3.1
i Calculating GSVA ranks
i kcdf='auto' (default)
i GSVA dense (classical) algorithm
i Row-wise ECDF estimation with Poisson kernels
i Calculating GSVA column ranks
i Calculating GSVA scores
v Calculations finished
ECMSign is using 0% of up signature genes
ECMSign is using 100% of down signature genes
i argument assay='norm_expr' ignored since exprData has no assay names.
i GSVA version 2.3.1
i Calculating ssGSEA scores for 1 gene sets
i Calculating ranks
i Calculating rank weights
v Calculations finished
ECMSign is using 0% of up signature genes
i argument assay='norm_expr' ignored since exprData has no assay names.
i GSVA version 2.3.1
i Calculating ssGSEA scores for 1 gene sets
i Calculating ranks
i Calculating rank weights
v Calculations finished
IPSOVSign is using 100% of signature genes
i argument assay='norm_expr' ignored since exprData has no assay names.
i GSVA version 2.3.1
! Duplicated gene IDs removed from gene set Antimicrobials
! Some gene sets have size one. Consider setting minSize > 1
i Calculating ssGSEA scores for 15 gene sets
i Calculating ranks
i Calculating rank weights
v Calculations finished
i argument assay='norm_expr' ignored since exprData has no assay names.
i GSVA version 2.3.1
! Duplicated gene IDs removed from gene set Antimicrobials
! Some gene sets have size one. Consider setting minSize > 1
i Calculating ssGSEA scores for 15 gene sets
i Calculating ranks
i Calculating rank weights
v Calculations finished
'select()' returned 1:1 mapping between keys and columns
stateSign is using 100% of MES2 signature genes
stateSign is using 100% of MES1 signature genes
stateSign is using 100% of AC signature genes
stateSign is using 100% of OPC signature genes
stateSign is using 100% of NPC1 signature genes
stateSign is using 100% of NPC2 signature genes
'select()' returned 1:1 mapping between keys and columns
stateSign is using 100% of MES1 signature genes
stateSign is using 100% of AC signature genes
stateSign is using 100% of OPC signature genes
stateSign is using 100% of NPC1 signature genes
stateSign is using 100% of NPC2 signature genes
stateSign is using 100% of Alveolar signature genes
stateSign is using 100% of Basal signature genes
stateSign is using 100% of Squamous signature genes
stateSign is using 100% of Glandular signature genes
stateSign is using 100% of Ciliated signature genes
stateSign is using 100% of AC signature genes
stateSign is using 100% of OPC signature genes
stateSign is using 100% of NPC signature genes
stateSign is using 100% of Basal signature genes
stateSign is using 100% of Squamous signature genes
stateSign is using 100% of Glandular signature genes
stateSign is using 100% of Ciliated signature genes
stateSign is using 100% of AC signature genes
stateSign is using 100% of OPC signature genes
stateSign is using 100% of NPC signature genes
TinflamSignThompson is using 100% of signature genes
'select()' returned 1:1 mapping between keys and columns
'select()' returned 1:1 mapping between keys and columns
cellCycleSign is using 100% of Cycle signature genes
EMTSignThompson is using 100% of epithelial signature genes
EMTSignThompson is using 100% of mesenchymal signature genes
'select()' returned 1:1 mapping between keys and columns
TinflamSignThompson is using 100% of signature genes
'select()' returned 1:1 mapping between keys and columns
EMTSignThompson is using 100% of mesenchymal signature genes
'select()' returned 1:1 mapping between keys and columns
TinflamSignThompson is using 100% of signature genes
'select()' returned 1:1 mapping between keys and columns
'select()' returned 1:1 mapping between keys and columns
stateSign is using 100% of MITF signature genes
stateSign is using 100% of AXL signature genes
'select()' returned 1:1 mapping between keys and columns
stateSign is using 100% of AXL signature genes
'select()' returned 1:1 mapping between keys and columns
APMSign is using 100% of signature genes
'select()' returned 1:1 mapping between keys and columns
APMSign is using 100% of signature genes
i argument assay='norm_expr' ignored since exprData has no assay names.
i GSVA version 2.3.1
i Calculating GSVA ranks
i kcdf='auto' (default)
i GSVA dense (classical) algorithm
i Row-wise ECDF estimation with Poisson kernels
i Calculating GSVA column ranks
i Calculating GSVA scores
v Calculations finished
i argument assay='norm_expr' ignored since exprData has no assay names.
i GSVA version 2.3.1
i Calculating GSVA ranks
i kcdf='auto' (default)
i GSVA dense (classical) algorithm
i Row-wise ECDF estimation with Poisson kernels
i Calculating GSVA column ranks
i Calculating GSVA scores
v Calculations finished
'select()' returned 1:1 mapping between keys and columns
MPSSign is using 100% of signature genes
'select()' returned 1:1 mapping between keys and columns
IRGSign is using 100% of signature genes
TGFBSign is using 100% of signature genes
ADOSign is using 100% of signature genes
i argument assay='norm_expr' ignored since exprData has no assay names.
i GSVA version 2.3.1
i Calculating GSVA ranks
i kcdf='auto' (default)
i GSVA dense (classical) algorithm
i Row-wise ECDF estimation with Poisson kernels
i Calculating GSVA column ranks
i Calculating GSVA scores
v Calculations finished
i argument assay='norm_expr' ignored since exprData has no assay names.
i GSVA version 2.3.1
i Calculating GSVA ranks
i kcdf='auto' (default)
i GSVA dense (classical) algorithm
i Row-wise ECDF estimation with Poisson kernels
i Calculating GSVA column ranks
i Calculating GSVA scores
v Calculations finished
MITFlowPTENnegSign is using 100% of signature genes
LRRC15CAFSign is using 100% of signature genes
SCSubtypeSign is using 0% of Basal signature genes
SCSubtypeSign is using 0% of Her2E signature genes
SCSubtypeSign is using 100% of LumA signature genes
SCSubtypeSign is using 0% of LumB signature genes
SCSubtypeSign is using 0% of Basal signature genes
SCSubtypeSign is using 0% of Her2E signature genes
SCSubtypeSign is using 0% of LumB signature genes
ICBResponseSign is using 100% of responder signature genes
ICBResponseSign is using 0% of nonresponder signature genes
ICBResponseSign is using 0% of nonresponder signature genes
COXISSign is using 100% of signature genes
stressSign is using 100% of Stress signature genes
oxphosSign is using 100% of Oxphos signature genes
metalSign is using 100% of Metal signature genes
CD39CD8TcellSign is using 100% of signature genes
TLSSign is using 100% of signature genes
expandedImmuneSign is using 100% of signature genes
IFNSign is using 100% of signature genes
ImmuneCytSignRooney is using 100% of signature genes
mitoticIndexSign is using 100% of signature genes
matrisomeSign is using 100% of signature genes
immunoScoreSignRoh is using 100% of signature genes
CINSign is using 100% of signature genes
CINSign is using 100% of signature genes
CINSign is using 100% of signature genes
hypoxiaSign is using 100% of signature genes
cellCycleSignLundberg is using 100% of signature genes
cellCycleSignDavoli is using 100% of signature genes
VEGFSign is using 100% of signature genes
ImmuneCytSignDavoli is using 100% of signature genes
[ FAIL 0 | WARN 0 | SKIP 0 | PASS 331 ]
>
> proc.time()
user system elapsed
762.29 28.62 789.71
signifinder.Rcheck/signifinder-Ex.timings
| name | user | system | elapsed | |
| ADOSign | 0.81 | 0.05 | 0.89 | |
| APMSign | 1.71 | 0.03 | 1.74 | |
| ASCSign | 0.04 | 0.00 | 0.04 | |
| CD39CD8TcellSign | 0.13 | 0.01 | 0.15 | |
| CINSign | 0.03 | 0.04 | 0.06 | |
| CISSign | 0.06 | 0.00 | 0.06 | |
| COXISSign | 0.08 | 0.00 | 0.08 | |
| CombinedSign | 0.19 | 0.01 | 0.20 | |
| DNArepSign | 0.08 | 0.02 | 0.10 | |
| ECMSign | 0.43 | 0.03 | 0.46 | |
| EMTSign | 0.46 | 0.03 | 0.49 | |
| HRDSSign | 0.09 | 0.02 | 0.11 | |
| ICBResponseSign | 0.11 | 0.00 | 0.11 | |
| IFNSign | 0.05 | 0.00 | 0.04 | |
| IPRESSign | 0.42 | 0.01 | 0.44 | |
| IPSOVSign | 0.37 | 0.00 | 0.38 | |
| IPSSign | 0.13 | 0.00 | 0.12 | |
| IRGSign | 0.06 | 0.02 | 0.08 | |
| ISCSign | 1.42 | 0.01 | 1.44 | |
| LRRC15CAFSign | 0.07 | 0.02 | 0.08 | |
| MITFlowPTENnegSign | 0.03 | 0.03 | 0.06 | |
| MPSSign | 0.03 | 0.03 | 0.06 | |
| PassONSign | 0.29 | 0.00 | 0.30 | |
| SCSubtypeSign | 0.04 | 0.00 | 0.03 | |
| TGFBSign | 0.04 | 0.02 | 0.06 | |
| TLSSign | 0.07 | 0.00 | 0.06 | |
| TinflamSign | 0.04 | 0.00 | 0.05 | |
| VEGFSign | 0.06 | 0.00 | 0.06 | |
| autophagySign | 0.07 | 0.00 | 0.07 | |
| availableSignatures | 0.01 | 0.00 | 0.01 | |
| cellCycleSign | 0.07 | 0.03 | 0.09 | |
| chemokineSign | 0.07 | 0.00 | 0.08 | |
| consensusOVSign | 77.66 | 0.47 | 78.19 | |
| correlationSignPlot | 2.17 | 0.20 | 2.38 | |
| evaluationSignPlot | 2.28 | 0.11 | 2.37 | |
| expandedImmuneSign | 0.08 | 0.00 | 0.08 | |
| ferroptosisSign | 0.16 | 0.00 | 0.15 | |
| geneHeatmapSignPlot | 1.81 | 0.01 | 2.19 | |
| getSignGenes | 0.00 | 0.02 | 0.02 | |
| glycolysisSign | 0.09 | 0.00 | 0.09 | |
| heatmapSignPlot | 3.35 | 0.05 | 3.41 | |
| hypoxiaSign | 0.06 | 0.00 | 0.06 | |
| immuneCytSign | 0.08 | 0.00 | 0.08 | |
| immunoScoreSign | 0.08 | 0.01 | 0.09 | |
| interferonSign | 0.04 | 0.02 | 0.06 | |
| lipidMetabolismSign | 0.08 | 0.00 | 0.08 | |
| matrisomeSign | 0.08 | 0.00 | 0.08 | |
| metalSign | 0.05 | 0.00 | 0.05 | |
| mitoticIndexSign | 0.07 | 0.00 | 0.08 | |
| multipleSign | 156.63 | 1.11 | 157.74 | |
| oneSignPlot | 0.58 | 0.03 | 0.61 | |
| oxphosSign | 0.03 | 0.02 | 0.04 | |
| pyroptosisSign | 0.06 | 0.03 | 0.10 | |
| ridgelineSignPlot | 1.41 | 0.11 | 1.53 | |
| stateSign | 0.03 | 0.00 | 0.03 | |
| stemCellCD49fSign | 0.09 | 0.02 | 0.11 | |
| stressSign | 0.05 | 0.00 | 0.04 | |
| survivalSignPlot | 1.66 | 0.11 | 2.04 | |