| Back to Multiple platform build/check report for BioC 3.22: simplified long |
|
This page was generated on 2025-11-20 12:05 -0500 (Thu, 20 Nov 2025).
| Hostname | OS | Arch (*) | R version | Installed pkgs |
|---|---|---|---|---|
| nebbiolo2 | Linux (Ubuntu 24.04.3 LTS) | x86_64 | 4.5.2 (2025-10-31) -- "[Not] Part in a Rumble" | 4615 |
| merida1 | macOS 12.7.6 Monterey | x86_64 | 4.5.2 Patched (2025-11-05 r88990) -- "[Not] Part in a Rumble" | 4610 |
| kjohnson1 | macOS 13.7.5 Ventura | arm64 | 4.5.2 Patched (2025-11-04 r88984) -- "[Not] Part in a Rumble" | 4598 |
| taishan | Linux (openEuler 24.03 LTS) | aarch64 | 4.5.0 (2025-04-11) -- "How About a Twenty-Six" | 4668 |
| Click on any hostname to see more info about the system (e.g. compilers) (*) as reported by 'uname -p', except on Windows and Mac OS X | ||||
| Package 2015/2361 | Hostname | OS / Arch | INSTALL | BUILD | CHECK | BUILD BIN | ||||||||
| signifinder 1.12.0 (landing page) Stefania Pirrotta
| nebbiolo2 | Linux (Ubuntu 24.04.3 LTS) / x86_64 | OK | OK | OK | |||||||||
| merida1 | macOS 12.7.6 Monterey / x86_64 | OK | OK | TIMEOUT | OK | |||||||||
| kjohnson1 | macOS 13.7.5 Ventura / arm64 | OK | OK | OK | OK | |||||||||
| taishan | Linux (openEuler 24.03 LTS) / aarch64 | OK | OK | OK | ||||||||||
|
To the developers/maintainers of the signifinder package: - Allow up to 24 hours (and sometimes 48 hours) for your latest push to git@git.bioconductor.org:packages/signifinder.git to reflect on this report. See Troubleshooting Build Report for more information. - Use the following Renviron settings to reproduce errors and warnings. - If 'R CMD check' started to fail recently on the Linux builder(s) over a missing dependency, add the missing dependency to 'Suggests:' in your DESCRIPTION file. See Renviron.bioc for more information. |
| Package: signifinder |
| Version: 1.12.0 |
| Command: /Library/Frameworks/R.framework/Resources/bin/R CMD check --install=check:signifinder.install-out.txt --library=/Library/Frameworks/R.framework/Resources/library --no-vignettes --timings signifinder_1.12.0.tar.gz |
| StartedAt: 2025-11-18 14:46:22 -0500 (Tue, 18 Nov 2025) |
| EndedAt: 2025-11-18 15:26:23 -0500 (Tue, 18 Nov 2025) |
| EllapsedTime: 2400.1 seconds |
| RetCode: None |
| Status: TIMEOUT |
| CheckDir: signifinder.Rcheck |
| Warnings: NA |
##############################################################################
##############################################################################
###
### Running command:
###
### /Library/Frameworks/R.framework/Resources/bin/R CMD check --install=check:signifinder.install-out.txt --library=/Library/Frameworks/R.framework/Resources/library --no-vignettes --timings signifinder_1.12.0.tar.gz
###
##############################################################################
##############################################################################
* using log directory ‘/Users/biocbuild/bbs-3.22-bioc/meat/signifinder.Rcheck’
* using R version 4.5.2 Patched (2025-11-05 r88990)
* using platform: x86_64-apple-darwin20
* R was compiled by
Apple clang version 14.0.0 (clang-1400.0.29.202)
GNU Fortran (GCC) 14.2.0
* running under: macOS Monterey 12.7.6
* using session charset: UTF-8
* using option ‘--no-vignettes’
* checking for file ‘signifinder/DESCRIPTION’ ... OK
* checking extension type ... Package
* this is package ‘signifinder’ version ‘1.12.0’
* package encoding: UTF-8
* checking package namespace information ... OK
* checking package dependencies ... INFO
Imports includes 27 non-default packages.
Importing from so many packages makes the package vulnerable to any of
them becoming unavailable. Move as many as possible to Suggests and
use conditionally.
* checking if this is a source package ... OK
* checking if there is a namespace ... OK
* checking for hidden files and directories ... OK
* checking for portable file names ... OK
* checking for sufficient/correct file permissions ... OK
* checking whether package ‘signifinder’ can be installed ... OK
* checking installed package size ... OK
* checking package directory ... OK
* checking ‘build’ directory ... OK
* checking DESCRIPTION meta-information ... OK
* checking top-level files ... OK
* checking for left-over files ... OK
* checking index information ... OK
* checking package subdirectories ... OK
* checking code files for non-ASCII characters ... OK
* checking R files for syntax errors ... OK
* checking whether the package can be loaded ... OK
* checking whether the package can be loaded with stated dependencies ... OK
* checking whether the package can be unloaded cleanly ... OK
* checking whether the namespace can be loaded with stated dependencies ... OK
* checking whether the namespace can be unloaded cleanly ... OK
* checking dependencies in R code ... OK
* checking S3 generic/method consistency ... OK
* checking replacement functions ... OK
* checking foreign function calls ... OK
* checking R code for possible problems ... OK
* checking Rd files ... OK
* checking Rd metadata ... OK
* checking Rd cross-references ... NOTE
Found the following Rd file(s) with Rd \link{} targets missing package
anchors:
ADOSign.Rd: SummarizedExperiment-class
APMSign.Rd: SummarizedExperiment-class
ASCSign.Rd: SummarizedExperiment-class
CD39CD8TcellSign.Rd: SummarizedExperiment-class
CINSign.Rd: SummarizedExperiment-class
CISSign.Rd: SummarizedExperiment-class
COXISSign.Rd: SummarizedExperiment-class
CombinedSign.Rd: SummarizedExperiment-class
DNArepSign.Rd: SummarizedExperiment-class
ECMSign.Rd: SummarizedExperiment-class
EMTSign.Rd: SummarizedExperiment-class
HRDSSign.Rd: SummarizedExperiment-class
ICBResponseSign.Rd: SummarizedExperiment-class
IFNSign.Rd: SummarizedExperiment-class
IPRESSign.Rd: SummarizedExperiment-class
IPSOVSign.Rd: SummarizedExperiment-class
IPSSign.Rd: SummarizedExperiment-class
IRGSign.Rd: SummarizedExperiment-class
ISCSign.Rd: SummarizedExperiment-class
LRRC15CAFSign.Rd: SummarizedExperiment-class
MITFlowPTENnegSign.Rd: SummarizedExperiment-class
MPSSign.Rd: SummarizedExperiment-class
PassONSign.Rd: SummarizedExperiment-class
SCSubtypeSign.Rd: SummarizedExperiment-class
TGFBSign.Rd: SummarizedExperiment-class
TLSSign.Rd: SummarizedExperiment-class
TinflamSign.Rd: SummarizedExperiment-class
VEGFSign.Rd: SummarizedExperiment-class
autophagySign.Rd: SummarizedExperiment-class
cellCycleSign.Rd: SummarizedExperiment-class
chemokineSign.Rd: SummarizedExperiment-class
consensusOVSign.Rd: SummarizedExperiment-class
correlationSignPlot.Rd: SummarizedExperiment-class
evaluationSignPlot.Rd: SummarizedExperiment-class
expandedImmuneSign.Rd: SummarizedExperiment-class
ferroptosisSign.Rd: SummarizedExperiment-class
geneHeatmapSignPlot.Rd: SummarizedExperiment-class
glycolysisSign.Rd: SummarizedExperiment-class
heatmapSignPlot.Rd: SummarizedExperiment-class
hypoxiaSign.Rd: SummarizedExperiment-class
immuneCytSign.Rd: SummarizedExperiment-class
immunoScoreSign.Rd: SummarizedExperiment-class
interferonSign.Rd: SummarizedExperiment-class
lipidMetabolismSign.Rd: SummarizedExperiment-class
matrisomeSign.Rd: SummarizedExperiment-class
metalSign.Rd: SummarizedExperiment-class
mitoticIndexSign.Rd: SummarizedExperiment-class
multipleSign.Rd: SummarizedExperiment-class
oneSignPlot.Rd: SummarizedExperiment-class
oxphosSign.Rd: SummarizedExperiment-class
pyroptosisSign.Rd: SummarizedExperiment-class
ridgelineSignPlot.Rd: SummarizedExperiment-class
stateSign.Rd: SummarizedExperiment-class
stemCellCD49fSign.Rd: SummarizedExperiment-class
stressSign.Rd: SummarizedExperiment-class
survivalSignPlot.Rd: SummarizedExperiment-class
Please provide package anchors for all Rd \link{} targets not in the
package itself and the base packages.
* checking for missing documentation entries ... OK
* checking for code/documentation mismatches ... OK
* checking Rd \usage sections ... OK
* checking Rd contents ... OK
* checking for unstated dependencies in examples ... OK
* checking contents of ‘data’ directory ... OK
* checking data for non-ASCII characters ... OK
* checking data for ASCII and uncompressed saves ... OK
* checking R/sysdata.rda ... OK
* checking files in ‘vignettes’ ... OK
* checking examples ... OK
Examples with CPU (user + system) or elapsed time > 5s
user system elapsed
multipleSign 222.751 1.167 226.149
consensusOVSign 110.264 0.868 114.300
heatmapSignPlot 6.206 0.066 6.376
evaluationSignPlot 5.518 0.188 5.733
* checking for unstated dependencies in ‘tests’ ... OK
* checking tests ...
Running ‘testthat.R’
signifinder.Rcheck/00install.out
############################################################################## ############################################################################## ### ### Running command: ### ### /Library/Frameworks/R.framework/Resources/bin/R CMD INSTALL signifinder ### ############################################################################## ############################################################################## * installing to library ‘/Library/Frameworks/R.framework/Versions/4.5-x86_64/Resources/library’ * installing *source* package ‘signifinder’ ... ** this is package ‘signifinder’ version ‘1.12.0’ ** using staged installation ** R ** data ** inst ** byte-compile and prepare package for lazy loading ** help *** installing help indices *** copying figures ** building package indices ** installing vignettes ** testing if installed package can be loaded from temporary location ** testing if installed package can be loaded from final location ** testing if installed package keeps a record of temporary installation path * DONE (signifinder)
signifinder.Rcheck/tests/testthat.Rout
R version 4.5.2 Patched (2025-11-05 r88990) -- "[Not] Part in a Rumble"
Copyright (C) 2025 The R Foundation for Statistical Computing
Platform: x86_64-apple-darwin20
R is free software and comes with ABSOLUTELY NO WARRANTY.
You are welcome to redistribute it under certain conditions.
Type 'license()' or 'licence()' for distribution details.
R is a collaborative project with many contributors.
Type 'contributors()' for more information and
'citation()' on how to cite R or R packages in publications.
Type 'demo()' for some demos, 'help()' for on-line help, or
'help.start()' for an HTML browser interface to help.
Type 'q()' to quit R.
> library(testthat)
> library(signifinder)
>
> test_check("signifinder")
'select()' returned 1:1 mapping between keys and columns
Loading required package: edgeR
Loading required package: limma
Attaching package: 'limma'
The following object is masked from 'package:BiocGenerics':
plotMA
pyroptosisSignShao is using 100% of signature genes
ferroptosisSignLiang is using 100% of signature genes
lipidMetabolismSign is using 100% of signature genes
StemCellCD49fSign is using 100% of signature genes
glycolysisSignZhang is using 100% of signature genes
autophagySignWang is using 100% of signature genes
'select()' returned 1:1 mapping between keys and columns
autophagySignChenM is using 100% of OS signature genes
autophagySignChenM is using 60% of DFS signature genes
TinflamSign is using 100% of signature genes
interferonSign is using 100% of Interferon signature genes
EMTSignMiow is using 0% of epithelial signature genes
EMTSignMiow is using 100% of mesenchymal signature genes
i argument assay='norm_expr' ignored since exprData has no assay names.
i GSVA version 2.4.1
i Searching for genes/features with constant values
i Calculating ssGSEA scores for 1 gene sets
i Calculating ranks
i Calculating rank weights
v Calculations finished
EMTSignMiow is using 0% of epithelial signature genes
i argument assay='norm_expr' ignored since exprData has no assay names.
i GSVA version 2.4.1
i Searching for genes/features with constant values
i Calculating ssGSEA scores for 1 gene sets
i Calculating ranks
i Calculating rank weights
v Calculations finished
EMTSignMak is using 100% of epithelial signature genes
EMTSignMak is using 100% of mesenchymal signature genes
EMTSignMak is using 100% of mesenchymal signature genes
EMTSignCheng is using 100% of signature genes
EMTSignThompson is using 100% of epithelial signature genes
EMTSignThompson is using 100% of mesenchymal signature genes
'select()' returned 1:1 mapping between keys and columns
EMTSignThompson is using 100% of mesenchymal signature genes
'select()' returned 1:1 mapping between keys and columns
EMTSign is using 100% of cEMT signature genes
EMTSign is using 100% of pEMT signature genes
EMTSign is using 100% of pEMT signature genes
hipoxiaSign is using 100% of Hypoxia signature genes
ASCSign is using 100% of signature genes
ChemokineSign is using 100% of signature genes
'select()' returned 1:1 mapping between keys and columns
PassONSign is using 100% of signature genes
i GSVA version 2.4.1
i Searching for genes/features with constant values
i Calculating ssGSEA scores for 4 gene sets
i Calculating ranks
i Calculating rank weights
i Normalizing ssGSEA scores
v Calculations finished
CISSign is using 100% of up signature genes
CISSign is using 100% of down signature genes
CISSign is using 100% of down signature genes
HRDSSign is using 100% of signature genes
DNArepSign is using 100% of signature genes
'select()' returned 1:1 mapping between keys and columns
IPRESSign is using 100% of signature genes
i GSVA version 2.4.1
i Searching for genes/features with constant values
i Calculating GSVA ranks
i kcdf='auto' (default)
i GSVA dense (classical) algorithm
i Row-wise ECDF estimation with Poisson kernels
i Calculating row ECDFs
i Calculating column ranks
i GSVA dense (classical) algorithm
i Calculating GSVA scores
v Calculations finished
ECMSign is using 0% of up signature genes
ECMSign is using 100% of down signature genes
i argument assay='norm_expr' ignored since exprData has no assay names.
i GSVA version 2.4.1
i Searching for genes/features with constant values
i Calculating ssGSEA scores for 1 gene sets
i Calculating ranks
i Calculating rank weights
v Calculations finished
ECMSign is using 0% of up signature genes
i argument assay='norm_expr' ignored since exprData has no assay names.
i GSVA version 2.4.1
i Searching for genes/features with constant values
i Calculating ssGSEA scores for 1 gene sets
i Calculating ranks
i Calculating rank weights
v Calculations finished
IPSOVSign is using 100% of signature genes
i argument assay='norm_expr' ignored since exprData has no assay names.
i GSVA version 2.4.1
i Searching for genes/features with constant values
! Some gene sets have size one. Consider setting minSize > 1
i Calculating ssGSEA scores for 15 gene sets
i Calculating ranks
i Calculating rank weights
v Calculations finished
i argument assay='norm_expr' ignored since exprData has no assay names.
i GSVA version 2.4.1
i Searching for genes/features with constant values
! Some gene sets have size one. Consider setting minSize > 1
i Calculating ssGSEA scores for 15 gene sets
i Calculating ranks
i Calculating rank weights
v Calculations finished
'select()' returned 1:1 mapping between keys and columns
stateSign is using 100% of MES2 signature genes
stateSign is using 100% of MES1 signature genes
stateSign is using 100% of AC signature genes
stateSign is using 100% of OPC signature genes
stateSign is using 100% of NPC1 signature genes
stateSign is using 100% of NPC2 signature genes
'select()' returned 1:1 mapping between keys and columns
stateSign is using 100% of MES1 signature genes
stateSign is using 100% of AC signature genes
stateSign is using 100% of OPC signature genes
stateSign is using 100% of NPC1 signature genes
stateSign is using 100% of NPC2 signature genes
stateSign is using 100% of Alveolar signature genes
stateSign is using 100% of Basal signature genes
stateSign is using 100% of Squamous signature genes
stateSign is using 100% of Glandular signature genes
stateSign is using 100% of Ciliated signature genes
stateSign is using 100% of AC signature genes
stateSign is using 100% of OPC signature genes
stateSign is using 100% of NPC signature genes
stateSign is using 100% of Basal signature genes
stateSign is using 100% of Squamous signature genes
stateSign is using 100% of Glandular signature genes
stateSign is using 100% of Ciliated signature genes
stateSign is using 100% of AC signature genes
stateSign is using 100% of OPC signature genes
stateSign is using 100% of NPC signature genes
TinflamSignThompson is using 100% of signature genes
'select()' returned 1:1 mapping between keys and columns
'select()' returned 1:1 mapping between keys and columns
cellCycleSign is using 100% of Cycle signature genes
EMTSignThompson is using 100% of epithelial signature genes
EMTSignThompson is using 100% of mesenchymal signature genes
'select()' returned 1:1 mapping between keys and columns
TinflamSignThompson is using 100% of signature genes
'select()' returned 1:1 mapping between keys and columns
EMTSignThompson is using 100% of mesenchymal signature genes
'select()' returned 1:1 mapping between keys and columns
TinflamSignThompson is using 100% of signature genes
'select()' returned 1:1 mapping between keys and columns
'select()' returned 1:1 mapping between keys and columns
stateSign is using 100% of MITF signature genes
stateSign is using 100% of AXL signature genes
'select()' returned 1:1 mapping between keys and columns
signifinder.Rcheck/signifinder-Ex.timings
| name | user | system | elapsed | |
| ADOSign | 2.257 | 0.022 | 2.290 | |
| APMSign | 0.738 | 0.012 | 0.751 | |
| ASCSign | 0.089 | 0.008 | 0.097 | |
| CD39CD8TcellSign | 0.186 | 0.018 | 0.206 | |
| CINSign | 0.117 | 0.011 | 0.127 | |
| CISSign | 0.093 | 0.005 | 0.099 | |
| COXISSign | 0.137 | 0.017 | 0.155 | |
| CombinedSign | 0.215 | 0.005 | 0.221 | |
| DNArepSign | 0.091 | 0.005 | 0.097 | |
| ECMSign | 0.710 | 0.010 | 0.723 | |
| EMTSign | 0.781 | 0.009 | 0.792 | |
| HRDSSign | 0.115 | 0.010 | 0.125 | |
| ICBResponseSign | 0.166 | 0.010 | 0.178 | |
| IFNSign | 0.094 | 0.005 | 0.100 | |
| IPRESSign | 0.699 | 0.013 | 0.717 | |
| IPSOVSign | 0.815 | 0.021 | 0.840 | |
| IPSSign | 0.221 | 0.008 | 0.230 | |
| IRGSign | 0.094 | 0.005 | 0.100 | |
| ISCSign | 0.106 | 0.008 | 0.114 | |
| LRRC15CAFSign | 0.095 | 0.006 | 0.101 | |
| MITFlowPTENnegSign | 0.099 | 0.007 | 0.107 | |
| MPSSign | 0.105 | 0.005 | 0.111 | |
| PassONSign | 0.776 | 0.019 | 0.810 | |
| SCSubtypeSign | 0.053 | 0.006 | 0.060 | |
| TGFBSign | 0.095 | 0.009 | 0.106 | |
| TLSSign | 0.102 | 0.007 | 0.111 | |
| TinflamSign | 0.092 | 0.006 | 0.101 | |
| VEGFSign | 0.092 | 0.010 | 0.106 | |
| autophagySign | 0.095 | 0.007 | 0.104 | |
| availableSignatures | 0.026 | 0.020 | 0.047 | |
| cellCycleSign | 1.349 | 0.025 | 1.392 | |
| chemokineSign | 0.085 | 0.005 | 0.092 | |
| consensusOVSign | 110.264 | 0.868 | 114.300 | |
| correlationSignPlot | 3.822 | 0.234 | 4.186 | |
| evaluationSignPlot | 5.518 | 0.188 | 5.733 | |
| expandedImmuneSign | 0.098 | 0.007 | 0.105 | |
| ferroptosisSign | 0.100 | 0.006 | 0.106 | |
| geneHeatmapSignPlot | 3.369 | 0.029 | 3.406 | |
| getSignGenes | 0.010 | 0.019 | 0.028 | |
| glycolysisSign | 0.102 | 0.006 | 0.108 | |
| heatmapSignPlot | 6.206 | 0.066 | 6.376 | |
| hypoxiaSign | 0.104 | 0.006 | 0.111 | |
| immuneCytSign | 0.113 | 0.005 | 0.121 | |
| immunoScoreSign | 0.113 | 0.006 | 0.119 | |
| interferonSign | 0.054 | 0.005 | 0.060 | |
| lipidMetabolismSign | 0.093 | 0.005 | 0.099 | |
| matrisomeSign | 0.092 | 0.006 | 0.097 | |
| metalSign | 0.054 | 0.005 | 0.061 | |
| mitoticIndexSign | 0.091 | 0.007 | 0.098 | |
| multipleSign | 222.751 | 1.167 | 226.149 | |
| oneSignPlot | 1.245 | 0.009 | 1.261 | |
| oxphosSign | 0.057 | 0.005 | 0.062 | |
| pyroptosisSign | 0.122 | 0.006 | 0.130 | |
| ridgelineSignPlot | 2.873 | 0.082 | 3.315 | |
| stateSign | 0.058 | 0.004 | 0.069 | |
| stemCellCD49fSign | 0.107 | 0.006 | 0.121 | |
| stressSign | 0.053 | 0.005 | 0.058 | |
| survivalSignPlot | 4.222 | 0.078 | 4.415 | |