| Back to Multiple platform build/check report for BioC 3.21: simplified long |
|
This page was generated on 2025-10-16 11:40 -0400 (Thu, 16 Oct 2025).
| Hostname | OS | Arch (*) | R version | Installed pkgs |
|---|---|---|---|---|
| nebbiolo1 | Linux (Ubuntu 24.04.3 LTS) | x86_64 | 4.5.1 (2025-06-13) -- "Great Square Root" | 4833 |
| merida1 | macOS 12.7.6 Monterey | x86_64 | 4.5.1 RC (2025-06-05 r88288) -- "Great Square Root" | 4614 |
| kjohnson1 | macOS 13.7.5 Ventura | arm64 | 4.5.1 Patched (2025-06-14 r88325) -- "Great Square Root" | 4555 |
| kunpeng2 | Linux (openEuler 24.03 LTS) | aarch64 | R Under development (unstable) (2025-02-19 r87757) -- "Unsuffered Consequences" | 4586 |
| Click on any hostname to see more info about the system (e.g. compilers) (*) as reported by 'uname -p', except on Windows and Mac OS X | ||||
| Package 1947/2341 | Hostname | OS / Arch | INSTALL | BUILD | CHECK | BUILD BIN | ||||||||
| scuttle 1.18.0 (landing page) Aaron Lun
| nebbiolo1 | Linux (Ubuntu 24.04.3 LTS) / x86_64 | OK | OK | OK | |||||||||
| merida1 | macOS 12.7.6 Monterey / x86_64 | OK | OK | OK | OK | |||||||||
| kjohnson1 | macOS 13.7.5 Ventura / arm64 | OK | OK | OK | OK | |||||||||
| kunpeng2 | Linux (openEuler 24.03 LTS) / aarch64 | OK | OK | OK | ||||||||||
|
To the developers/maintainers of the scuttle package: - Allow up to 24 hours (and sometimes 48 hours) for your latest push to git@git.bioconductor.org:packages/scuttle.git to reflect on this report. See Troubleshooting Build Report for more information. - Use the following Renviron settings to reproduce errors and warnings. - If 'R CMD check' started to fail recently on the Linux builder(s) over a missing dependency, add the missing dependency to 'Suggests:' in your DESCRIPTION file. See Renviron.bioc for more information. |
| Package: scuttle |
| Version: 1.18.0 |
| Command: /Library/Frameworks/R.framework/Resources/bin/R CMD check --install=check:scuttle.install-out.txt --library=/Library/Frameworks/R.framework/Resources/library --no-vignettes --timings scuttle_1.18.0.tar.gz |
| StartedAt: 2025-10-15 12:02:54 -0400 (Wed, 15 Oct 2025) |
| EndedAt: 2025-10-15 12:09:31 -0400 (Wed, 15 Oct 2025) |
| EllapsedTime: 397.2 seconds |
| RetCode: 0 |
| Status: OK |
| CheckDir: scuttle.Rcheck |
| Warnings: 0 |
##############################################################################
##############################################################################
###
### Running command:
###
### /Library/Frameworks/R.framework/Resources/bin/R CMD check --install=check:scuttle.install-out.txt --library=/Library/Frameworks/R.framework/Resources/library --no-vignettes --timings scuttle_1.18.0.tar.gz
###
##############################################################################
##############################################################################
* using log directory ‘/Users/biocbuild/bbs-3.21-bioc/meat/scuttle.Rcheck’
* using R version 4.5.1 Patched (2025-06-14 r88325)
* using platform: aarch64-apple-darwin20
* R was compiled by
Apple clang version 16.0.0 (clang-1600.0.26.6)
GNU Fortran (GCC) 14.2.0
* running under: macOS Ventura 13.7.5
* using session charset: UTF-8
* using option ‘--no-vignettes’
* checking for file ‘scuttle/DESCRIPTION’ ... OK
* checking extension type ... Package
* this is package ‘scuttle’ version ‘1.18.0’
* package encoding: UTF-8
* checking package namespace information ... OK
* checking package dependencies ... OK
* checking if this is a source package ... OK
* checking if there is a namespace ... OK
* checking for hidden files and directories ... OK
* checking for portable file names ... OK
* checking for sufficient/correct file permissions ... OK
* checking whether package ‘scuttle’ can be installed ... OK
* used C++ compiler: ‘Apple clang version 15.0.0 (clang-1500.0.40.1)’
* used SDK: ‘MacOSX11.3.sdk’
* checking C++ specification ... NOTE
Specified C++11: please drop specification unless essential
* checking installed package size ... OK
* checking package directory ... OK
* checking ‘build’ directory ... OK
* checking DESCRIPTION meta-information ... OK
* checking top-level files ... OK
* checking for left-over files ... OK
* checking index information ... OK
* checking package subdirectories ... OK
* checking code files for non-ASCII characters ... OK
* checking R files for syntax errors ... OK
* checking whether the package can be loaded ... OK
* checking whether the package can be loaded with stated dependencies ... OK
* checking whether the package can be unloaded cleanly ... OK
* checking whether the namespace can be loaded with stated dependencies ... OK
* checking whether the namespace can be unloaded cleanly ... OK
* checking dependencies in R code ... OK
* checking S3 generic/method consistency ... OK
* checking replacement functions ... OK
* checking foreign function calls ... OK
* checking R code for possible problems ... OK
* checking Rd files ... OK
* checking Rd metadata ... OK
* checking Rd cross-references ... NOTE
Found the following Rd file(s) with Rd \link{} targets missing package
anchors:
addPerCellQCMetrics.Rd: SummarizedExperiment-class, rowData, colData
aggregateAcrossCells.Rd: colData, SingleCellExperiment-class,
SummarizedExperiment-class, reducedDims, altExps, DataFrame-class,
applySCE
aggregateAcrossFeatures.Rd: SummarizedExperiment-class
calculateAverage.Rd: SummarizedExperiment-class,
SingleCellExperiment-class, BiocParallelParam-class,
DelayedMatrix-class, sizeFactors
calculateCPM.Rd: SummarizedExperiment-class,
SingleCellExperiment-class
calculateFPKM.Rd: SummarizedExperiment-class,
SingleCellExperiment-class
calculateTPM.Rd: SummarizedExperiment-class,
SingleCellExperiment-class
computePooledFactors.Rd: SummarizedExperiment-class,
SingleCellExperiment-class, sizeFactors
computeSpikeFactors.Rd: SingleCellExperiment-class, altExps, altExp,
sizeFactors
downsampleBatches.Rd: SummarizedExperiment-class, List-class
downsampleMatrix.Rd: RealizationSink-class, dgCMatrix-class,
DelayedMatrix-class
fitLinearModel.Rd: BiocParallelParam-class
geometricSizeFactors.Rd: SummarizedExperiment-class,
SingleCellExperiment-class, BiocParallelParam-class,
DelayedArray-class, sizeFactors
librarySizeFactors.Rd: SummarizedExperiment-class,
SingleCellExperiment-class, BiocParallelParam-class,
DelayedArray-class, sizeFactors
logNormCounts.Rd: SingleCellExperiment-class,
SummarizedExperiment-class, BiocParallelParam-class, applySCE,
sizeFactors
makePerCellDF.Rd: SingleCellExperiment-class, altExp, rowData
makePerFeatureDF.Rd: SingleCellExperiment-class
medianSizeFactors.Rd: SummarizedExperiment-class,
SingleCellExperiment-class, sizeFactors
mockSCE.Rd: SingleCellExperiment-class, colData, altExps,
SingleCellExperiment
normalizeCounts.Rd: SingleCellExperiment-class,
SummarizedExperiment-class, DelayedMatrix-class,
BiocParallelParam-class, sizeFactors
numDetectedAcrossCells.Rd: SummarizedExperiment-class,
DataFrame-class, SingleCellExperiment-class, colData,
BiocParallelParam-class
numDetectedAcrossFeatures.Rd: SummarizedExperiment-class,
BiocParallelParam-class
perCellQCFilters.Rd: DataFrame-class
perCellQCMetrics.Rd: SingleCellExperiment-class,
SummarizedExperiment-class, BiocParallelParam-class,
DataFrame-class
perFeatureQCMetrics.Rd: SummarizedExperiment-class,
SingleCellExperiment-class, BiocParallelParam-class,
DataFrame-class
quickPerCellQC.Rd: DataFrame-class, SummarizedExperiment-class,
colData
readSparseCounts.Rd: readMM
sumCountsAcrossCells.Rd: SummarizedExperiment-class, DataFrame-class,
SingleCellExperiment-class, colData, BiocParallelParam-class,
colsum
sumCountsAcrossFeatures.Rd: SummarizedExperiment-class,
BiocParallelParam-class
summarizeAssayByGroup.Rd: SummarizedExperiment-class,
DataFrame-class, colData, BiocParallelParam-class
uniquifyDataFrameByGroup.Rd: DataFrame-class, colData, DFrame-class
Please provide package anchors for all Rd \link{} targets not in the
package itself and the base packages.
* checking for missing documentation entries ... OK
* checking for code/documentation mismatches ... OK
* checking Rd \usage sections ... OK
* checking Rd contents ... OK
* checking for unstated dependencies in examples ... OK
* checking line endings in C/C++/Fortran sources/headers ... OK
* checking line endings in Makefiles ... OK
* checking compilation flags in Makevars ... OK
* checking for GNU extensions in Makefiles ... OK
* checking for portable use of $(BLAS_LIBS) and $(LAPACK_LIBS) ... OK
* checking use of PKG_*FLAGS in Makefiles ... OK
* checking compiled code ... NOTE
Note: information on .o files is not available
* checking files in ‘vignettes’ ... OK
* checking examples ... OK
Examples with CPU (user + system) or elapsed time > 5s
user system elapsed
computePooledFactors 9.287 0.171 9.461
downsampleMatrix 6.807 0.035 6.863
downsampleBatches 4.983 0.060 5.042
* checking for unstated dependencies in ‘tests’ ... OK
* checking tests ...
Running ‘testthat.R’
OK
* checking for unstated dependencies in vignettes ... OK
* checking package vignettes ... OK
* checking running R code from vignettes ... SKIPPED
* checking re-building of vignette outputs ... SKIPPED
* checking PDF version of manual ... OK
* DONE
Status: 3 NOTEs
See
‘/Users/biocbuild/bbs-3.21-bioc/meat/scuttle.Rcheck/00check.log’
for details.
scuttle.Rcheck/00install.out
##############################################################################
##############################################################################
###
### Running command:
###
### /Library/Frameworks/R.framework/Resources/bin/R CMD INSTALL scuttle
###
##############################################################################
##############################################################################
* installing to library ‘/Library/Frameworks/R.framework/Versions/4.5-arm64/Resources/library’
* installing *source* package ‘scuttle’ ...
** this is package ‘scuttle’ version ‘1.18.0’
** using staged installation
** libs
using C++ compiler: ‘Apple clang version 15.0.0 (clang-1500.0.40.1)’
using C++11
using SDK: ‘MacOSX11.3.sdk’
clang++ -arch arm64 -std=gnu++11 -I"/Library/Frameworks/R.framework/Resources/include" -DNDEBUG -I../inst/include/ -I'/Library/Frameworks/R.framework/Versions/4.5-arm64/Resources/library/Rcpp/include' -I'/Library/Frameworks/R.framework/Versions/4.5-arm64/Resources/library/beachmat/include' -I/opt/R/arm64/include -fPIC -falign-functions=64 -Wall -g -O2 -c RcppExports.cpp -o RcppExports.o
clang++ -arch arm64 -std=gnu++11 -I"/Library/Frameworks/R.framework/Resources/include" -DNDEBUG -I../inst/include/ -I'/Library/Frameworks/R.framework/Versions/4.5-arm64/Resources/library/Rcpp/include' -I'/Library/Frameworks/R.framework/Versions/4.5-arm64/Resources/library/beachmat/include' -I/opt/R/arm64/include -fPIC -falign-functions=64 -Wall -g -O2 -c cumulative_prop.cpp -o cumulative_prop.o
In file included from cumulative_prop.cpp:2:
In file included from /Library/Frameworks/R.framework/Versions/4.5-arm64/Resources/library/beachmat/include/beachmat3/beachmat.h:24:
In file included from /Library/Frameworks/R.framework/Versions/4.5-arm64/Resources/library/beachmat/include/beachmat3/read_lin_block.h:11:
/Library/Frameworks/R.framework/Versions/4.5-arm64/Resources/library/beachmat/include/beachmat3/lin_matrix.h:218:43: warning: 'beachmat::lin_sparse_matrix::get_row' hides overloaded virtual functions [-Woverloaded-virtual]
virtual sparse_index<const int*, int> get_row(size_t r, int* work_x, int* work_i, size_t first, size_t last) = 0;
^
/Library/Frameworks/R.framework/Versions/4.5-arm64/Resources/library/beachmat/include/beachmat3/lin_matrix.h:66:24: note: hidden overloaded virtual function 'beachmat::lin_matrix::get_row' declared here: different number of parameters (4 vs 5)
virtual const int* get_row(size_t r, int* work, size_t first, size_t last) = 0;
^
/Library/Frameworks/R.framework/Versions/4.5-arm64/Resources/library/beachmat/include/beachmat3/lin_matrix.h:95:27: note: hidden overloaded virtual function 'beachmat::lin_matrix::get_row' declared here: different number of parameters (4 vs 5)
virtual const double* get_row(size_t r, double* work, size_t first, size_t last) = 0;
^
/Library/Frameworks/R.framework/Versions/4.5-arm64/Resources/library/beachmat/include/beachmat3/lin_matrix.h:236:43: warning: 'beachmat::lin_sparse_matrix::get_col' hides overloaded virtual functions [-Woverloaded-virtual]
virtual sparse_index<const int*, int> get_col(size_t c, int* work_x, int* work_i, size_t first, size_t last) = 0;
^
/Library/Frameworks/R.framework/Versions/4.5-arm64/Resources/library/beachmat/include/beachmat3/lin_matrix.h:52:24: note: hidden overloaded virtual function 'beachmat::lin_matrix::get_col' declared here: different number of parameters (4 vs 5)
virtual const int* get_col(size_t c, int* work, size_t first, size_t last) = 0;
^
/Library/Frameworks/R.framework/Versions/4.5-arm64/Resources/library/beachmat/include/beachmat3/lin_matrix.h:81:27: note: hidden overloaded virtual function 'beachmat::lin_matrix::get_col' declared here: different number of parameters (4 vs 5)
virtual const double* get_col(size_t c, double* work, size_t first, size_t last) = 0;
^
/Library/Frameworks/R.framework/Versions/4.5-arm64/Resources/library/beachmat/include/beachmat3/lin_matrix.h:254:46: warning: 'beachmat::lin_sparse_matrix::get_row' hides overloaded virtual functions [-Woverloaded-virtual]
virtual sparse_index<const double*, int> get_row(size_t r, double* work_x, int* work_i, size_t first, size_t last) = 0;
^
/Library/Frameworks/R.framework/Versions/4.5-arm64/Resources/library/beachmat/include/beachmat3/lin_matrix.h:66:24: note: hidden overloaded virtual function 'beachmat::lin_matrix::get_row' declared here: different number of parameters (4 vs 5)
virtual const int* get_row(size_t r, int* work, size_t first, size_t last) = 0;
^
/Library/Frameworks/R.framework/Versions/4.5-arm64/Resources/library/beachmat/include/beachmat3/lin_matrix.h:95:27: note: hidden overloaded virtual function 'beachmat::lin_matrix::get_row' declared here: different number of parameters (4 vs 5)
virtual const double* get_row(size_t r, double* work, size_t first, size_t last) = 0;
^
/Library/Frameworks/R.framework/Versions/4.5-arm64/Resources/library/beachmat/include/beachmat3/lin_matrix.h:272:46: warning: 'beachmat::lin_sparse_matrix::get_col' hides overloaded virtual functions [-Woverloaded-virtual]
virtual sparse_index<const double*, int> get_col(size_t c, double* work_x, int* work_i, size_t first, size_t last) = 0;
^
/Library/Frameworks/R.framework/Versions/4.5-arm64/Resources/library/beachmat/include/beachmat3/lin_matrix.h:52:24: note: hidden overloaded virtual function 'beachmat::lin_matrix::get_col' declared here: different number of parameters (4 vs 5)
virtual const int* get_col(size_t c, int* work, size_t first, size_t last) = 0;
^
/Library/Frameworks/R.framework/Versions/4.5-arm64/Resources/library/beachmat/include/beachmat3/lin_matrix.h:81:27: note: hidden overloaded virtual function 'beachmat::lin_matrix::get_col' declared here: different number of parameters (4 vs 5)
virtual const double* get_col(size_t c, double* work, size_t first, size_t last) = 0;
^
/Library/Frameworks/R.framework/Versions/4.5-arm64/Resources/library/beachmat/include/beachmat3/lin_matrix.h:287:35: warning: 'beachmat::lin_sparse_matrix::get_col' hides overloaded virtual functions [-Woverloaded-virtual]
sparse_index<const int*, int> get_col(size_t c, int* work_x, int* work_i) {
^
/Library/Frameworks/R.framework/Versions/4.5-arm64/Resources/library/beachmat/include/beachmat3/lin_matrix.h:52:24: note: hidden overloaded virtual function 'beachmat::lin_matrix::get_col' declared here: different number of parameters (4 vs 3)
virtual const int* get_col(size_t c, int* work, size_t first, size_t last) = 0;
^
/Library/Frameworks/R.framework/Versions/4.5-arm64/Resources/library/beachmat/include/beachmat3/lin_matrix.h:81:27: note: hidden overloaded virtual function 'beachmat::lin_matrix::get_col' declared here: different number of parameters (4 vs 3)
virtual const double* get_col(size_t c, double* work, size_t first, size_t last) = 0;
^
/Library/Frameworks/R.framework/Versions/4.5-arm64/Resources/library/beachmat/include/beachmat3/lin_matrix.h:304:35: warning: 'beachmat::lin_sparse_matrix::get_row' hides overloaded virtual functions [-Woverloaded-virtual]
sparse_index<const int*, int> get_row(size_t r, int* work_x, int* work_i) {
^
/Library/Frameworks/R.framework/Versions/4.5-arm64/Resources/library/beachmat/include/beachmat3/lin_matrix.h:66:24: note: hidden overloaded virtual function 'beachmat::lin_matrix::get_row' declared here: different number of parameters (4 vs 3)
virtual const int* get_row(size_t r, int* work, size_t first, size_t last) = 0;
^
/Library/Frameworks/R.framework/Versions/4.5-arm64/Resources/library/beachmat/include/beachmat3/lin_matrix.h:95:27: note: hidden overloaded virtual function 'beachmat::lin_matrix::get_row' declared here: different number of parameters (4 vs 3)
virtual const double* get_row(size_t r, double* work, size_t first, size_t last) = 0;
^
/Library/Frameworks/R.framework/Versions/4.5-arm64/Resources/library/beachmat/include/beachmat3/lin_matrix.h:321:38: warning: 'beachmat::lin_sparse_matrix::get_col' hides overloaded virtual functions [-Woverloaded-virtual]
sparse_index<const double*, int> get_col(size_t c, double* work_x, int* work_i) {
^
/Library/Frameworks/R.framework/Versions/4.5-arm64/Resources/library/beachmat/include/beachmat3/lin_matrix.h:52:24: note: hidden overloaded virtual function 'beachmat::lin_matrix::get_col' declared here: different number of parameters (4 vs 3)
virtual const int* get_col(size_t c, int* work, size_t first, size_t last) = 0;
^
/Library/Frameworks/R.framework/Versions/4.5-arm64/Resources/library/beachmat/include/beachmat3/lin_matrix.h:81:27: note: hidden overloaded virtual function 'beachmat::lin_matrix::get_col' declared here: different number of parameters (4 vs 3)
virtual const double* get_col(size_t c, double* work, size_t first, size_t last) = 0;
^
/Library/Frameworks/R.framework/Versions/4.5-arm64/Resources/library/beachmat/include/beachmat3/lin_matrix.h:338:38: warning: 'beachmat::lin_sparse_matrix::get_row' hides overloaded virtual functions [-Woverloaded-virtual]
sparse_index<const double*, int> get_row(size_t r, double* work_x, int* work_i) {
^
/Library/Frameworks/R.framework/Versions/4.5-arm64/Resources/library/beachmat/include/beachmat3/lin_matrix.h:66:24: note: hidden overloaded virtual function 'beachmat::lin_matrix::get_row' declared here: different number of parameters (4 vs 3)
virtual const int* get_row(size_t r, int* work, size_t first, size_t last) = 0;
^
/Library/Frameworks/R.framework/Versions/4.5-arm64/Resources/library/beachmat/include/beachmat3/lin_matrix.h:95:27: note: hidden overloaded virtual function 'beachmat::lin_matrix::get_row' declared here: different number of parameters (4 vs 3)
virtual const double* get_row(size_t r, double* work, size_t first, size_t last) = 0;
^
8 warnings generated.
clang++ -arch arm64 -std=gnu++11 -I"/Library/Frameworks/R.framework/Resources/include" -DNDEBUG -I../inst/include/ -I'/Library/Frameworks/R.framework/Versions/4.5-arm64/Resources/library/Rcpp/include' -I'/Library/Frameworks/R.framework/Versions/4.5-arm64/Resources/library/beachmat/include' -I/opt/R/arm64/include -fPIC -falign-functions=64 -Wall -g -O2 -c downsample_counts.cpp -o downsample_counts.o
In file included from downsample_counts.cpp:2:
In file included from /Library/Frameworks/R.framework/Versions/4.5-arm64/Resources/library/beachmat/include/beachmat3/beachmat.h:24:
In file included from /Library/Frameworks/R.framework/Versions/4.5-arm64/Resources/library/beachmat/include/beachmat3/read_lin_block.h:11:
/Library/Frameworks/R.framework/Versions/4.5-arm64/Resources/library/beachmat/include/beachmat3/lin_matrix.h:218:43: warning: 'beachmat::lin_sparse_matrix::get_row' hides overloaded virtual functions [-Woverloaded-virtual]
virtual sparse_index<const int*, int> get_row(size_t r, int* work_x, int* work_i, size_t first, size_t last) = 0;
^
/Library/Frameworks/R.framework/Versions/4.5-arm64/Resources/library/beachmat/include/beachmat3/lin_matrix.h:66:24: note: hidden overloaded virtual function 'beachmat::lin_matrix::get_row' declared here: different number of parameters (4 vs 5)
virtual const int* get_row(size_t r, int* work, size_t first, size_t last) = 0;
^
/Library/Frameworks/R.framework/Versions/4.5-arm64/Resources/library/beachmat/include/beachmat3/lin_matrix.h:95:27: note: hidden overloaded virtual function 'beachmat::lin_matrix::get_row' declared here: different number of parameters (4 vs 5)
virtual const double* get_row(size_t r, double* work, size_t first, size_t last) = 0;
^
/Library/Frameworks/R.framework/Versions/4.5-arm64/Resources/library/beachmat/include/beachmat3/lin_matrix.h:236:43: warning: 'beachmat::lin_sparse_matrix::get_col' hides overloaded virtual functions [-Woverloaded-virtual]
virtual sparse_index<const int*, int> get_col(size_t c, int* work_x, int* work_i, size_t first, size_t last) = 0;
^
/Library/Frameworks/R.framework/Versions/4.5-arm64/Resources/library/beachmat/include/beachmat3/lin_matrix.h:52:24: note: hidden overloaded virtual function 'beachmat::lin_matrix::get_col' declared here: different number of parameters (4 vs 5)
virtual const int* get_col(size_t c, int* work, size_t first, size_t last) = 0;
^
/Library/Frameworks/R.framework/Versions/4.5-arm64/Resources/library/beachmat/include/beachmat3/lin_matrix.h:81:27: note: hidden overloaded virtual function 'beachmat::lin_matrix::get_col' declared here: different number of parameters (4 vs 5)
virtual const double* get_col(size_t c, double* work, size_t first, size_t last) = 0;
^
/Library/Frameworks/R.framework/Versions/4.5-arm64/Resources/library/beachmat/include/beachmat3/lin_matrix.h:254:46: warning: 'beachmat::lin_sparse_matrix::get_row' hides overloaded virtual functions [-Woverloaded-virtual]
virtual sparse_index<const double*, int> get_row(size_t r, double* work_x, int* work_i, size_t first, size_t last) = 0;
^
/Library/Frameworks/R.framework/Versions/4.5-arm64/Resources/library/beachmat/include/beachmat3/lin_matrix.h:66:24: note: hidden overloaded virtual function 'beachmat::lin_matrix::get_row' declared here: different number of parameters (4 vs 5)
virtual const int* get_row(size_t r, int* work, size_t first, size_t last) = 0;
^
/Library/Frameworks/R.framework/Versions/4.5-arm64/Resources/library/beachmat/include/beachmat3/lin_matrix.h:95:27: note: hidden overloaded virtual function 'beachmat::lin_matrix::get_row' declared here: different number of parameters (4 vs 5)
virtual const double* get_row(size_t r, double* work, size_t first, size_t last) = 0;
^
/Library/Frameworks/R.framework/Versions/4.5-arm64/Resources/library/beachmat/include/beachmat3/lin_matrix.h:272:46: warning: 'beachmat::lin_sparse_matrix::get_col' hides overloaded virtual functions [-Woverloaded-virtual]
virtual sparse_index<const double*, int> get_col(size_t c, double* work_x, int* work_i, size_t first, size_t last) = 0;
^
/Library/Frameworks/R.framework/Versions/4.5-arm64/Resources/library/beachmat/include/beachmat3/lin_matrix.h:52:24: note: hidden overloaded virtual function 'beachmat::lin_matrix::get_col' declared here: different number of parameters (4 vs 5)
virtual const int* get_col(size_t c, int* work, size_t first, size_t last) = 0;
^
/Library/Frameworks/R.framework/Versions/4.5-arm64/Resources/library/beachmat/include/beachmat3/lin_matrix.h:81:27: note: hidden overloaded virtual function 'beachmat::lin_matrix::get_col' declared here: different number of parameters (4 vs 5)
virtual const double* get_col(size_t c, double* work, size_t first, size_t last) = 0;
^
/Library/Frameworks/R.framework/Versions/4.5-arm64/Resources/library/beachmat/include/beachmat3/lin_matrix.h:287:35: warning: 'beachmat::lin_sparse_matrix::get_col' hides overloaded virtual functions [-Woverloaded-virtual]
sparse_index<const int*, int> get_col(size_t c, int* work_x, int* work_i) {
^
/Library/Frameworks/R.framework/Versions/4.5-arm64/Resources/library/beachmat/include/beachmat3/lin_matrix.h:52:24: note: hidden overloaded virtual function 'beachmat::lin_matrix::get_col' declared here: different number of parameters (4 vs 3)
virtual const int* get_col(size_t c, int* work, size_t first, size_t last) = 0;
^
/Library/Frameworks/R.framework/Versions/4.5-arm64/Resources/library/beachmat/include/beachmat3/lin_matrix.h:81:27: note: hidden overloaded virtual function 'beachmat::lin_matrix::get_col' declared here: different number of parameters (4 vs 3)
virtual const double* get_col(size_t c, double* work, size_t first, size_t last) = 0;
^
/Library/Frameworks/R.framework/Versions/4.5-arm64/Resources/library/beachmat/include/beachmat3/lin_matrix.h:304:35: warning: 'beachmat::lin_sparse_matrix::get_row' hides overloaded virtual functions [-Woverloaded-virtual]
sparse_index<const int*, int> get_row(size_t r, int* work_x, int* work_i) {
^
/Library/Frameworks/R.framework/Versions/4.5-arm64/Resources/library/beachmat/include/beachmat3/lin_matrix.h:66:24: note: hidden overloaded virtual function 'beachmat::lin_matrix::get_row' declared here: different number of parameters (4 vs 3)
virtual const int* get_row(size_t r, int* work, size_t first, size_t last) = 0;
^
/Library/Frameworks/R.framework/Versions/4.5-arm64/Resources/library/beachmat/include/beachmat3/lin_matrix.h:95:27: note: hidden overloaded virtual function 'beachmat::lin_matrix::get_row' declared here: different number of parameters (4 vs 3)
virtual const double* get_row(size_t r, double* work, size_t first, size_t last) = 0;
^
/Library/Frameworks/R.framework/Versions/4.5-arm64/Resources/library/beachmat/include/beachmat3/lin_matrix.h:321:38: warning: 'beachmat::lin_sparse_matrix::get_col' hides overloaded virtual functions [-Woverloaded-virtual]
sparse_index<const double*, int> get_col(size_t c, double* work_x, int* work_i) {
^
/Library/Frameworks/R.framework/Versions/4.5-arm64/Resources/library/beachmat/include/beachmat3/lin_matrix.h:52:24: note: hidden overloaded virtual function 'beachmat::lin_matrix::get_col' declared here: different number of parameters (4 vs 3)
virtual const int* get_col(size_t c, int* work, size_t first, size_t last) = 0;
^
/Library/Frameworks/R.framework/Versions/4.5-arm64/Resources/library/beachmat/include/beachmat3/lin_matrix.h:81:27: note: hidden overloaded virtual function 'beachmat::lin_matrix::get_col' declared here: different number of parameters (4 vs 3)
virtual const double* get_col(size_t c, double* work, size_t first, size_t last) = 0;
^
/Library/Frameworks/R.framework/Versions/4.5-arm64/Resources/library/beachmat/include/beachmat3/lin_matrix.h:338:38: warning: 'beachmat::lin_sparse_matrix::get_row' hides overloaded virtual functions [-Woverloaded-virtual]
sparse_index<const double*, int> get_row(size_t r, double* work_x, int* work_i) {
^
/Library/Frameworks/R.framework/Versions/4.5-arm64/Resources/library/beachmat/include/beachmat3/lin_matrix.h:66:24: note: hidden overloaded virtual function 'beachmat::lin_matrix::get_row' declared here: different number of parameters (4 vs 3)
virtual const int* get_row(size_t r, int* work, size_t first, size_t last) = 0;
^
/Library/Frameworks/R.framework/Versions/4.5-arm64/Resources/library/beachmat/include/beachmat3/lin_matrix.h:95:27: note: hidden overloaded virtual function 'beachmat::lin_matrix::get_row' declared here: different number of parameters (4 vs 3)
virtual const double* get_row(size_t r, double* work, size_t first, size_t last) = 0;
^
8 warnings generated.
clang++ -arch arm64 -std=gnu++11 -I"/Library/Frameworks/R.framework/Resources/include" -DNDEBUG -I../inst/include/ -I'/Library/Frameworks/R.framework/Versions/4.5-arm64/Resources/library/Rcpp/include' -I'/Library/Frameworks/R.framework/Versions/4.5-arm64/Resources/library/beachmat/include' -I/opt/R/arm64/include -fPIC -falign-functions=64 -Wall -g -O2 -c fit_linear_model.cpp -o fit_linear_model.o
In file included from fit_linear_model.cpp:2:
In file included from /Library/Frameworks/R.framework/Versions/4.5-arm64/Resources/library/beachmat/include/beachmat3/beachmat.h:24:
In file included from /Library/Frameworks/R.framework/Versions/4.5-arm64/Resources/library/beachmat/include/beachmat3/read_lin_block.h:11:
/Library/Frameworks/R.framework/Versions/4.5-arm64/Resources/library/beachmat/include/beachmat3/lin_matrix.h:218:43: warning: 'beachmat::lin_sparse_matrix::get_row' hides overloaded virtual functions [-Woverloaded-virtual]
virtual sparse_index<const int*, int> get_row(size_t r, int* work_x, int* work_i, size_t first, size_t last) = 0;
^
/Library/Frameworks/R.framework/Versions/4.5-arm64/Resources/library/beachmat/include/beachmat3/lin_matrix.h:66:24: note: hidden overloaded virtual function 'beachmat::lin_matrix::get_row' declared here: different number of parameters (4 vs 5)
virtual const int* get_row(size_t r, int* work, size_t first, size_t last) = 0;
^
/Library/Frameworks/R.framework/Versions/4.5-arm64/Resources/library/beachmat/include/beachmat3/lin_matrix.h:95:27: note: hidden overloaded virtual function 'beachmat::lin_matrix::get_row' declared here: different number of parameters (4 vs 5)
virtual const double* get_row(size_t r, double* work, size_t first, size_t last) = 0;
^
/Library/Frameworks/R.framework/Versions/4.5-arm64/Resources/library/beachmat/include/beachmat3/lin_matrix.h:236:43: warning: 'beachmat::lin_sparse_matrix::get_col' hides overloaded virtual functions [-Woverloaded-virtual]
virtual sparse_index<const int*, int> get_col(size_t c, int* work_x, int* work_i, size_t first, size_t last) = 0;
^
/Library/Frameworks/R.framework/Versions/4.5-arm64/Resources/library/beachmat/include/beachmat3/lin_matrix.h:52:24: note: hidden overloaded virtual function 'beachmat::lin_matrix::get_col' declared here: different number of parameters (4 vs 5)
virtual const int* get_col(size_t c, int* work, size_t first, size_t last) = 0;
^
/Library/Frameworks/R.framework/Versions/4.5-arm64/Resources/library/beachmat/include/beachmat3/lin_matrix.h:81:27: note: hidden overloaded virtual function 'beachmat::lin_matrix::get_col' declared here: different number of parameters (4 vs 5)
virtual const double* get_col(size_t c, double* work, size_t first, size_t last) = 0;
^
/Library/Frameworks/R.framework/Versions/4.5-arm64/Resources/library/beachmat/include/beachmat3/lin_matrix.h:254:46: warning: 'beachmat::lin_sparse_matrix::get_row' hides overloaded virtual functions [-Woverloaded-virtual]
virtual sparse_index<const double*, int> get_row(size_t r, double* work_x, int* work_i, size_t first, size_t last) = 0;
^
/Library/Frameworks/R.framework/Versions/4.5-arm64/Resources/library/beachmat/include/beachmat3/lin_matrix.h:66:24: note: hidden overloaded virtual function 'beachmat::lin_matrix::get_row' declared here: different number of parameters (4 vs 5)
virtual const int* get_row(size_t r, int* work, size_t first, size_t last) = 0;
^
/Library/Frameworks/R.framework/Versions/4.5-arm64/Resources/library/beachmat/include/beachmat3/lin_matrix.h:95:27: note: hidden overloaded virtual function 'beachmat::lin_matrix::get_row' declared here: different number of parameters (4 vs 5)
virtual const double* get_row(size_t r, double* work, size_t first, size_t last) = 0;
^
/Library/Frameworks/R.framework/Versions/4.5-arm64/Resources/library/beachmat/include/beachmat3/lin_matrix.h:272:46: warning: 'beachmat::lin_sparse_matrix::get_col' hides overloaded virtual functions [-Woverloaded-virtual]
virtual sparse_index<const double*, int> get_col(size_t c, double* work_x, int* work_i, size_t first, size_t last) = 0;
^
/Library/Frameworks/R.framework/Versions/4.5-arm64/Resources/library/beachmat/include/beachmat3/lin_matrix.h:52:24: note: hidden overloaded virtual function 'beachmat::lin_matrix::get_col' declared here: different number of parameters (4 vs 5)
virtual const int* get_col(size_t c, int* work, size_t first, size_t last) = 0;
^
/Library/Frameworks/R.framework/Versions/4.5-arm64/Resources/library/beachmat/include/beachmat3/lin_matrix.h:81:27: note: hidden overloaded virtual function 'beachmat::lin_matrix::get_col' declared here: different number of parameters (4 vs 5)
virtual const double* get_col(size_t c, double* work, size_t first, size_t last) = 0;
^
/Library/Frameworks/R.framework/Versions/4.5-arm64/Resources/library/beachmat/include/beachmat3/lin_matrix.h:287:35: warning: 'beachmat::lin_sparse_matrix::get_col' hides overloaded virtual functions [-Woverloaded-virtual]
sparse_index<const int*, int> get_col(size_t c, int* work_x, int* work_i) {
^
/Library/Frameworks/R.framework/Versions/4.5-arm64/Resources/library/beachmat/include/beachmat3/lin_matrix.h:52:24: note: hidden overloaded virtual function 'beachmat::lin_matrix::get_col' declared here: different number of parameters (4 vs 3)
virtual const int* get_col(size_t c, int* work, size_t first, size_t last) = 0;
^
/Library/Frameworks/R.framework/Versions/4.5-arm64/Resources/library/beachmat/include/beachmat3/lin_matrix.h:81:27: note: hidden overloaded virtual function 'beachmat::lin_matrix::get_col' declared here: different number of parameters (4 vs 3)
virtual const double* get_col(size_t c, double* work, size_t first, size_t last) = 0;
^
/Library/Frameworks/R.framework/Versions/4.5-arm64/Resources/library/beachmat/include/beachmat3/lin_matrix.h:304:35: warning: 'beachmat::lin_sparse_matrix::get_row' hides overloaded virtual functions [-Woverloaded-virtual]
sparse_index<const int*, int> get_row(size_t r, int* work_x, int* work_i) {
^
/Library/Frameworks/R.framework/Versions/4.5-arm64/Resources/library/beachmat/include/beachmat3/lin_matrix.h:66:24: note: hidden overloaded virtual function 'beachmat::lin_matrix::get_row' declared here: different number of parameters (4 vs 3)
virtual const int* get_row(size_t r, int* work, size_t first, size_t last) = 0;
^
/Library/Frameworks/R.framework/Versions/4.5-arm64/Resources/library/beachmat/include/beachmat3/lin_matrix.h:95:27: note: hidden overloaded virtual function 'beachmat::lin_matrix::get_row' declared here: different number of parameters (4 vs 3)
virtual const double* get_row(size_t r, double* work, size_t first, size_t last) = 0;
^
/Library/Frameworks/R.framework/Versions/4.5-arm64/Resources/library/beachmat/include/beachmat3/lin_matrix.h:321:38: warning: 'beachmat::lin_sparse_matrix::get_col' hides overloaded virtual functions [-Woverloaded-virtual]
sparse_index<const double*, int> get_col(size_t c, double* work_x, int* work_i) {
^
/Library/Frameworks/R.framework/Versions/4.5-arm64/Resources/library/beachmat/include/beachmat3/lin_matrix.h:52:24: note: hidden overloaded virtual function 'beachmat::lin_matrix::get_col' declared here: different number of parameters (4 vs 3)
virtual const int* get_col(size_t c, int* work, size_t first, size_t last) = 0;
^
/Library/Frameworks/R.framework/Versions/4.5-arm64/Resources/library/beachmat/include/beachmat3/lin_matrix.h:81:27: note: hidden overloaded virtual function 'beachmat::lin_matrix::get_col' declared here: different number of parameters (4 vs 3)
virtual const double* get_col(size_t c, double* work, size_t first, size_t last) = 0;
^
/Library/Frameworks/R.framework/Versions/4.5-arm64/Resources/library/beachmat/include/beachmat3/lin_matrix.h:338:38: warning: 'beachmat::lin_sparse_matrix::get_row' hides overloaded virtual functions [-Woverloaded-virtual]
sparse_index<const double*, int> get_row(size_t r, double* work_x, int* work_i) {
^
/Library/Frameworks/R.framework/Versions/4.5-arm64/Resources/library/beachmat/include/beachmat3/lin_matrix.h:66:24: note: hidden overloaded virtual function 'beachmat::lin_matrix::get_row' declared here: different number of parameters (4 vs 3)
virtual const int* get_row(size_t r, int* work, size_t first, size_t last) = 0;
^
/Library/Frameworks/R.framework/Versions/4.5-arm64/Resources/library/beachmat/include/beachmat3/lin_matrix.h:95:27: note: hidden overloaded virtual function 'beachmat::lin_matrix::get_row' declared here: different number of parameters (4 vs 3)
virtual const double* get_row(size_t r, double* work, size_t first, size_t last) = 0;
^
8 warnings generated.
clang++ -arch arm64 -std=gnu++11 -I"/Library/Frameworks/R.framework/Resources/include" -DNDEBUG -I../inst/include/ -I'/Library/Frameworks/R.framework/Versions/4.5-arm64/Resources/library/Rcpp/include' -I'/Library/Frameworks/R.framework/Versions/4.5-arm64/Resources/library/beachmat/include' -I/opt/R/arm64/include -fPIC -falign-functions=64 -Wall -g -O2 -c pool_size_factors.cpp -o pool_size_factors.o
In file included from pool_size_factors.cpp:2:
In file included from /Library/Frameworks/R.framework/Versions/4.5-arm64/Resources/library/beachmat/include/beachmat3/beachmat.h:24:
In file included from /Library/Frameworks/R.framework/Versions/4.5-arm64/Resources/library/beachmat/include/beachmat3/read_lin_block.h:11:
/Library/Frameworks/R.framework/Versions/4.5-arm64/Resources/library/beachmat/include/beachmat3/lin_matrix.h:218:43: warning: 'beachmat::lin_sparse_matrix::get_row' hides overloaded virtual functions [-Woverloaded-virtual]
virtual sparse_index<const int*, int> get_row(size_t r, int* work_x, int* work_i, size_t first, size_t last) = 0;
^
/Library/Frameworks/R.framework/Versions/4.5-arm64/Resources/library/beachmat/include/beachmat3/lin_matrix.h:66:24: note: hidden overloaded virtual function 'beachmat::lin_matrix::get_row' declared here: different number of parameters (4 vs 5)
virtual const int* get_row(size_t r, int* work, size_t first, size_t last) = 0;
^
/Library/Frameworks/R.framework/Versions/4.5-arm64/Resources/library/beachmat/include/beachmat3/lin_matrix.h:95:27: note: hidden overloaded virtual function 'beachmat::lin_matrix::get_row' declared here: different number of parameters (4 vs 5)
virtual const double* get_row(size_t r, double* work, size_t first, size_t last) = 0;
^
/Library/Frameworks/R.framework/Versions/4.5-arm64/Resources/library/beachmat/include/beachmat3/lin_matrix.h:236:43: warning: 'beachmat::lin_sparse_matrix::get_col' hides overloaded virtual functions [-Woverloaded-virtual]
virtual sparse_index<const int*, int> get_col(size_t c, int* work_x, int* work_i, size_t first, size_t last) = 0;
^
/Library/Frameworks/R.framework/Versions/4.5-arm64/Resources/library/beachmat/include/beachmat3/lin_matrix.h:52:24: note: hidden overloaded virtual function 'beachmat::lin_matrix::get_col' declared here: different number of parameters (4 vs 5)
virtual const int* get_col(size_t c, int* work, size_t first, size_t last) = 0;
^
/Library/Frameworks/R.framework/Versions/4.5-arm64/Resources/library/beachmat/include/beachmat3/lin_matrix.h:81:27: note: hidden overloaded virtual function 'beachmat::lin_matrix::get_col' declared here: different number of parameters (4 vs 5)
virtual const double* get_col(size_t c, double* work, size_t first, size_t last) = 0;
^
/Library/Frameworks/R.framework/Versions/4.5-arm64/Resources/library/beachmat/include/beachmat3/lin_matrix.h:254:46: warning: 'beachmat::lin_sparse_matrix::get_row' hides overloaded virtual functions [-Woverloaded-virtual]
virtual sparse_index<const double*, int> get_row(size_t r, double* work_x, int* work_i, size_t first, size_t last) = 0;
^
/Library/Frameworks/R.framework/Versions/4.5-arm64/Resources/library/beachmat/include/beachmat3/lin_matrix.h:66:24: note: hidden overloaded virtual function 'beachmat::lin_matrix::get_row' declared here: different number of parameters (4 vs 5)
virtual const int* get_row(size_t r, int* work, size_t first, size_t last) = 0;
^
/Library/Frameworks/R.framework/Versions/4.5-arm64/Resources/library/beachmat/include/beachmat3/lin_matrix.h:95:27: note: hidden overloaded virtual function 'beachmat::lin_matrix::get_row' declared here: different number of parameters (4 vs 5)
virtual const double* get_row(size_t r, double* work, size_t first, size_t last) = 0;
^
/Library/Frameworks/R.framework/Versions/4.5-arm64/Resources/library/beachmat/include/beachmat3/lin_matrix.h:272:46: warning: 'beachmat::lin_sparse_matrix::get_col' hides overloaded virtual functions [-Woverloaded-virtual]
virtual sparse_index<const double*, int> get_col(size_t c, double* work_x, int* work_i, size_t first, size_t last) = 0;
^
/Library/Frameworks/R.framework/Versions/4.5-arm64/Resources/library/beachmat/include/beachmat3/lin_matrix.h:52:24: note: hidden overloaded virtual function 'beachmat::lin_matrix::get_col' declared here: different number of parameters (4 vs 5)
virtual const int* get_col(size_t c, int* work, size_t first, size_t last) = 0;
^
/Library/Frameworks/R.framework/Versions/4.5-arm64/Resources/library/beachmat/include/beachmat3/lin_matrix.h:81:27: note: hidden overloaded virtual function 'beachmat::lin_matrix::get_col' declared here: different number of parameters (4 vs 5)
virtual const double* get_col(size_t c, double* work, size_t first, size_t last) = 0;
^
/Library/Frameworks/R.framework/Versions/4.5-arm64/Resources/library/beachmat/include/beachmat3/lin_matrix.h:287:35: warning: 'beachmat::lin_sparse_matrix::get_col' hides overloaded virtual functions [-Woverloaded-virtual]
sparse_index<const int*, int> get_col(size_t c, int* work_x, int* work_i) {
^
/Library/Frameworks/R.framework/Versions/4.5-arm64/Resources/library/beachmat/include/beachmat3/lin_matrix.h:52:24: note: hidden overloaded virtual function 'beachmat::lin_matrix::get_col' declared here: different number of parameters (4 vs 3)
virtual const int* get_col(size_t c, int* work, size_t first, size_t last) = 0;
^
/Library/Frameworks/R.framework/Versions/4.5-arm64/Resources/library/beachmat/include/beachmat3/lin_matrix.h:81:27: note: hidden overloaded virtual function 'beachmat::lin_matrix::get_col' declared here: different number of parameters (4 vs 3)
virtual const double* get_col(size_t c, double* work, size_t first, size_t last) = 0;
^
/Library/Frameworks/R.framework/Versions/4.5-arm64/Resources/library/beachmat/include/beachmat3/lin_matrix.h:304:35: warning: 'beachmat::lin_sparse_matrix::get_row' hides overloaded virtual functions [-Woverloaded-virtual]
sparse_index<const int*, int> get_row(size_t r, int* work_x, int* work_i) {
^
/Library/Frameworks/R.framework/Versions/4.5-arm64/Resources/library/beachmat/include/beachmat3/lin_matrix.h:66:24: note: hidden overloaded virtual function 'beachmat::lin_matrix::get_row' declared here: different number of parameters (4 vs 3)
virtual const int* get_row(size_t r, int* work, size_t first, size_t last) = 0;
^
/Library/Frameworks/R.framework/Versions/4.5-arm64/Resources/library/beachmat/include/beachmat3/lin_matrix.h:95:27: note: hidden overloaded virtual function 'beachmat::lin_matrix::get_row' declared here: different number of parameters (4 vs 3)
virtual const double* get_row(size_t r, double* work, size_t first, size_t last) = 0;
^
/Library/Frameworks/R.framework/Versions/4.5-arm64/Resources/library/beachmat/include/beachmat3/lin_matrix.h:321:38: warning: 'beachmat::lin_sparse_matrix::get_col' hides overloaded virtual functions [-Woverloaded-virtual]
sparse_index<const double*, int> get_col(size_t c, double* work_x, int* work_i) {
^
/Library/Frameworks/R.framework/Versions/4.5-arm64/Resources/library/beachmat/include/beachmat3/lin_matrix.h:52:24: note: hidden overloaded virtual function 'beachmat::lin_matrix::get_col' declared here: different number of parameters (4 vs 3)
virtual const int* get_col(size_t c, int* work, size_t first, size_t last) = 0;
^
/Library/Frameworks/R.framework/Versions/4.5-arm64/Resources/library/beachmat/include/beachmat3/lin_matrix.h:81:27: note: hidden overloaded virtual function 'beachmat::lin_matrix::get_col' declared here: different number of parameters (4 vs 3)
virtual const double* get_col(size_t c, double* work, size_t first, size_t last) = 0;
^
/Library/Frameworks/R.framework/Versions/4.5-arm64/Resources/library/beachmat/include/beachmat3/lin_matrix.h:338:38: warning: 'beachmat::lin_sparse_matrix::get_row' hides overloaded virtual functions [-Woverloaded-virtual]
sparse_index<const double*, int> get_row(size_t r, double* work_x, int* work_i) {
^
/Library/Frameworks/R.framework/Versions/4.5-arm64/Resources/library/beachmat/include/beachmat3/lin_matrix.h:66:24: note: hidden overloaded virtual function 'beachmat::lin_matrix::get_row' declared here: different number of parameters (4 vs 3)
virtual const int* get_row(size_t r, int* work, size_t first, size_t last) = 0;
^
/Library/Frameworks/R.framework/Versions/4.5-arm64/Resources/library/beachmat/include/beachmat3/lin_matrix.h:95:27: note: hidden overloaded virtual function 'beachmat::lin_matrix::get_row' declared here: different number of parameters (4 vs 3)
virtual const double* get_row(size_t r, double* work, size_t first, size_t last) = 0;
^
8 warnings generated.
clang++ -arch arm64 -std=gnu++11 -I"/Library/Frameworks/R.framework/Resources/include" -DNDEBUG -I../inst/include/ -I'/Library/Frameworks/R.framework/Versions/4.5-arm64/Resources/library/Rcpp/include' -I'/Library/Frameworks/R.framework/Versions/4.5-arm64/Resources/library/beachmat/include' -I/opt/R/arm64/include -fPIC -falign-functions=64 -Wall -g -O2 -c sparse_summarize.cpp -o sparse_summarize.o
clang++ -arch arm64 -std=gnu++11 -I"/Library/Frameworks/R.framework/Resources/include" -DNDEBUG -I../inst/include/ -I'/Library/Frameworks/R.framework/Versions/4.5-arm64/Resources/library/Rcpp/include' -I'/Library/Frameworks/R.framework/Versions/4.5-arm64/Resources/library/beachmat/include' -I/opt/R/arm64/include -fPIC -falign-functions=64 -Wall -g -O2 -c sum_counts.cpp -o sum_counts.o
In file included from sum_counts.cpp:2:
In file included from /Library/Frameworks/R.framework/Versions/4.5-arm64/Resources/library/beachmat/include/beachmat3/beachmat.h:24:
In file included from /Library/Frameworks/R.framework/Versions/4.5-arm64/Resources/library/beachmat/include/beachmat3/read_lin_block.h:11:
/Library/Frameworks/R.framework/Versions/4.5-arm64/Resources/library/beachmat/include/beachmat3/lin_matrix.h:218:43: warning: 'beachmat::lin_sparse_matrix::get_row' hides overloaded virtual functions [-Woverloaded-virtual]
virtual sparse_index<const int*, int> get_row(size_t r, int* work_x, int* work_i, size_t first, size_t last) = 0;
^
/Library/Frameworks/R.framework/Versions/4.5-arm64/Resources/library/beachmat/include/beachmat3/lin_matrix.h:66:24: note: hidden overloaded virtual function 'beachmat::lin_matrix::get_row' declared here: different number of parameters (4 vs 5)
virtual const int* get_row(size_t r, int* work, size_t first, size_t last) = 0;
^
/Library/Frameworks/R.framework/Versions/4.5-arm64/Resources/library/beachmat/include/beachmat3/lin_matrix.h:95:27: note: hidden overloaded virtual function 'beachmat::lin_matrix::get_row' declared here: different number of parameters (4 vs 5)
virtual const double* get_row(size_t r, double* work, size_t first, size_t last) = 0;
^
/Library/Frameworks/R.framework/Versions/4.5-arm64/Resources/library/beachmat/include/beachmat3/lin_matrix.h:236:43: warning: 'beachmat::lin_sparse_matrix::get_col' hides overloaded virtual functions [-Woverloaded-virtual]
virtual sparse_index<const int*, int> get_col(size_t c, int* work_x, int* work_i, size_t first, size_t last) = 0;
^
/Library/Frameworks/R.framework/Versions/4.5-arm64/Resources/library/beachmat/include/beachmat3/lin_matrix.h:52:24: note: hidden overloaded virtual function 'beachmat::lin_matrix::get_col' declared here: different number of parameters (4 vs 5)
virtual const int* get_col(size_t c, int* work, size_t first, size_t last) = 0;
^
/Library/Frameworks/R.framework/Versions/4.5-arm64/Resources/library/beachmat/include/beachmat3/lin_matrix.h:81:27: note: hidden overloaded virtual function 'beachmat::lin_matrix::get_col' declared here: different number of parameters (4 vs 5)
virtual const double* get_col(size_t c, double* work, size_t first, size_t last) = 0;
^
/Library/Frameworks/R.framework/Versions/4.5-arm64/Resources/library/beachmat/include/beachmat3/lin_matrix.h:254:46: warning: 'beachmat::lin_sparse_matrix::get_row' hides overloaded virtual functions [-Woverloaded-virtual]
virtual sparse_index<const double*, int> get_row(size_t r, double* work_x, int* work_i, size_t first, size_t last) = 0;
^
/Library/Frameworks/R.framework/Versions/4.5-arm64/Resources/library/beachmat/include/beachmat3/lin_matrix.h:66:24: note: hidden overloaded virtual function 'beachmat::lin_matrix::get_row' declared here: different number of parameters (4 vs 5)
virtual const int* get_row(size_t r, int* work, size_t first, size_t last) = 0;
^
/Library/Frameworks/R.framework/Versions/4.5-arm64/Resources/library/beachmat/include/beachmat3/lin_matrix.h:95:27: note: hidden overloaded virtual function 'beachmat::lin_matrix::get_row' declared here: different number of parameters (4 vs 5)
virtual const double* get_row(size_t r, double* work, size_t first, size_t last) = 0;
^
/Library/Frameworks/R.framework/Versions/4.5-arm64/Resources/library/beachmat/include/beachmat3/lin_matrix.h:272:46: warning: 'beachmat::lin_sparse_matrix::get_col' hides overloaded virtual functions [-Woverloaded-virtual]
virtual sparse_index<const double*, int> get_col(size_t c, double* work_x, int* work_i, size_t first, size_t last) = 0;
^
/Library/Frameworks/R.framework/Versions/4.5-arm64/Resources/library/beachmat/include/beachmat3/lin_matrix.h:52:24: note: hidden overloaded virtual function 'beachmat::lin_matrix::get_col' declared here: different number of parameters (4 vs 5)
virtual const int* get_col(size_t c, int* work, size_t first, size_t last) = 0;
^
/Library/Frameworks/R.framework/Versions/4.5-arm64/Resources/library/beachmat/include/beachmat3/lin_matrix.h:81:27: note: hidden overloaded virtual function 'beachmat::lin_matrix::get_col' declared here: different number of parameters (4 vs 5)
virtual const double* get_col(size_t c, double* work, size_t first, size_t last) = 0;
^
/Library/Frameworks/R.framework/Versions/4.5-arm64/Resources/library/beachmat/include/beachmat3/lin_matrix.h:287:35: warning: 'beachmat::lin_sparse_matrix::get_col' hides overloaded virtual functions [-Woverloaded-virtual]
sparse_index<const int*, int> get_col(size_t c, int* work_x, int* work_i) {
^
/Library/Frameworks/R.framework/Versions/4.5-arm64/Resources/library/beachmat/include/beachmat3/lin_matrix.h:52:24: note: hidden overloaded virtual function 'beachmat::lin_matrix::get_col' declared here: different number of parameters (4 vs 3)
virtual const int* get_col(size_t c, int* work, size_t first, size_t last) = 0;
^
/Library/Frameworks/R.framework/Versions/4.5-arm64/Resources/library/beachmat/include/beachmat3/lin_matrix.h:81:27: note: hidden overloaded virtual function 'beachmat::lin_matrix::get_col' declared here: different number of parameters (4 vs 3)
virtual const double* get_col(size_t c, double* work, size_t first, size_t last) = 0;
^
/Library/Frameworks/R.framework/Versions/4.5-arm64/Resources/library/beachmat/include/beachmat3/lin_matrix.h:304:35: warning: 'beachmat::lin_sparse_matrix::get_row' hides overloaded virtual functions [-Woverloaded-virtual]
sparse_index<const int*, int> get_row(size_t r, int* work_x, int* work_i) {
^
/Library/Frameworks/R.framework/Versions/4.5-arm64/Resources/library/beachmat/include/beachmat3/lin_matrix.h:66:24: note: hidden overloaded virtual function 'beachmat::lin_matrix::get_row' declared here: different number of parameters (4 vs 3)
virtual const int* get_row(size_t r, int* work, size_t first, size_t last) = 0;
^
/Library/Frameworks/R.framework/Versions/4.5-arm64/Resources/library/beachmat/include/beachmat3/lin_matrix.h:95:27: note: hidden overloaded virtual function 'beachmat::lin_matrix::get_row' declared here: different number of parameters (4 vs 3)
virtual const double* get_row(size_t r, double* work, size_t first, size_t last) = 0;
^
/Library/Frameworks/R.framework/Versions/4.5-arm64/Resources/library/beachmat/include/beachmat3/lin_matrix.h:321:38: warning: 'beachmat::lin_sparse_matrix::get_col' hides overloaded virtual functions [-Woverloaded-virtual]
sparse_index<const double*, int> get_col(size_t c, double* work_x, int* work_i) {
^
/Library/Frameworks/R.framework/Versions/4.5-arm64/Resources/library/beachmat/include/beachmat3/lin_matrix.h:52:24: note: hidden overloaded virtual function 'beachmat::lin_matrix::get_col' declared here: different number of parameters (4 vs 3)
virtual const int* get_col(size_t c, int* work, size_t first, size_t last) = 0;
^
/Library/Frameworks/R.framework/Versions/4.5-arm64/Resources/library/beachmat/include/beachmat3/lin_matrix.h:81:27: note: hidden overloaded virtual function 'beachmat::lin_matrix::get_col' declared here: different number of parameters (4 vs 3)
virtual const double* get_col(size_t c, double* work, size_t first, size_t last) = 0;
^
/Library/Frameworks/R.framework/Versions/4.5-arm64/Resources/library/beachmat/include/beachmat3/lin_matrix.h:338:38: warning: 'beachmat::lin_sparse_matrix::get_row' hides overloaded virtual functions [-Woverloaded-virtual]
sparse_index<const double*, int> get_row(size_t r, double* work_x, int* work_i) {
^
/Library/Frameworks/R.framework/Versions/4.5-arm64/Resources/library/beachmat/include/beachmat3/lin_matrix.h:66:24: note: hidden overloaded virtual function 'beachmat::lin_matrix::get_row' declared here: different number of parameters (4 vs 3)
virtual const int* get_row(size_t r, int* work, size_t first, size_t last) = 0;
^
/Library/Frameworks/R.framework/Versions/4.5-arm64/Resources/library/beachmat/include/beachmat3/lin_matrix.h:95:27: note: hidden overloaded virtual function 'beachmat::lin_matrix::get_row' declared here: different number of parameters (4 vs 3)
virtual const double* get_row(size_t r, double* work, size_t first, size_t last) = 0;
^
8 warnings generated.
clang++ -arch arm64 -std=gnu++11 -I"/Library/Frameworks/R.framework/Resources/include" -DNDEBUG -I../inst/include/ -I'/Library/Frameworks/R.framework/Versions/4.5-arm64/Resources/library/Rcpp/include' -I'/Library/Frameworks/R.framework/Versions/4.5-arm64/Resources/library/beachmat/include' -I/opt/R/arm64/include -fPIC -falign-functions=64 -Wall -g -O2 -c utils.cpp -o utils.o
clang++ -arch arm64 -std=gnu++11 -dynamiclib -Wl,-headerpad_max_install_names -undefined dynamic_lookup -L/Library/Frameworks/R.framework/Resources/lib -L/opt/R/arm64/lib -o scuttle.so RcppExports.o cumulative_prop.o downsample_counts.o fit_linear_model.o pool_size_factors.o sparse_summarize.o sum_counts.o utils.o -L/Library/Frameworks/R.framework/Resources/lib -lRlapack -L/Library/Frameworks/R.framework/Resources/lib -lRblas -L/opt/gfortran/lib/gcc/aarch64-apple-darwin20.0/14.2.0 -L/opt/gfortran/lib -lemutls_w -lheapt_w -lgfortran -lquadmath -F/Library/Frameworks/R.framework/.. -framework R
installing to /Library/Frameworks/R.framework/Versions/4.5-arm64/Resources/library/00LOCK-scuttle/00new/scuttle/libs
** R
** inst
** byte-compile and prepare package for lazy loading
** help
*** installing help indices
** building package indices
** installing vignettes
** testing if installed package can be loaded from temporary location
** checking absolute paths in shared objects and dynamic libraries
** testing if installed package can be loaded from final location
** testing if installed package keeps a record of temporary installation path
* DONE (scuttle)
scuttle.Rcheck/tests/testthat.Rout
R version 4.5.1 Patched (2025-06-14 r88325) -- "Great Square Root"
Copyright (C) 2025 The R Foundation for Statistical Computing
Platform: aarch64-apple-darwin20
R is free software and comes with ABSOLUTELY NO WARRANTY.
You are welcome to redistribute it under certain conditions.
Type 'license()' or 'licence()' for distribution details.
R is a collaborative project with many contributors.
Type 'contributors()' for more information and
'citation()' on how to cite R or R packages in publications.
Type 'demo()' for some demos, 'help()' for on-line help, or
'help.start()' for an HTML browser interface to help.
Type 'q()' to quit R.
> library(testthat)
> library(scuttle)
Loading required package: SingleCellExperiment
Loading required package: SummarizedExperiment
Loading required package: MatrixGenerics
Loading required package: matrixStats
Attaching package: 'MatrixGenerics'
The following objects are masked from 'package:matrixStats':
colAlls, colAnyNAs, colAnys, colAvgsPerRowSet, colCollapse,
colCounts, colCummaxs, colCummins, colCumprods, colCumsums,
colDiffs, colIQRDiffs, colIQRs, colLogSumExps, colMadDiffs,
colMads, colMaxs, colMeans2, colMedians, colMins, colOrderStats,
colProds, colQuantiles, colRanges, colRanks, colSdDiffs, colSds,
colSums2, colTabulates, colVarDiffs, colVars, colWeightedMads,
colWeightedMeans, colWeightedMedians, colWeightedSds,
colWeightedVars, rowAlls, rowAnyNAs, rowAnys, rowAvgsPerColSet,
rowCollapse, rowCounts, rowCummaxs, rowCummins, rowCumprods,
rowCumsums, rowDiffs, rowIQRDiffs, rowIQRs, rowLogSumExps,
rowMadDiffs, rowMads, rowMaxs, rowMeans2, rowMedians, rowMins,
rowOrderStats, rowProds, rowQuantiles, rowRanges, rowRanks,
rowSdDiffs, rowSds, rowSums2, rowTabulates, rowVarDiffs, rowVars,
rowWeightedMads, rowWeightedMeans, rowWeightedMedians,
rowWeightedSds, rowWeightedVars
Loading required package: GenomicRanges
Loading required package: stats4
Loading required package: BiocGenerics
Loading required package: generics
Attaching package: 'generics'
The following objects are masked from 'package:base':
as.difftime, as.factor, as.ordered, intersect, is.element, setdiff,
setequal, union
Attaching package: 'BiocGenerics'
The following objects are masked from 'package:stats':
IQR, mad, sd, var, xtabs
The following objects are masked from 'package:base':
Filter, Find, Map, Position, Reduce, anyDuplicated, aperm, append,
as.data.frame, basename, cbind, colnames, dirname, do.call,
duplicated, eval, evalq, get, grep, grepl, is.unsorted, lapply,
mapply, match, mget, order, paste, pmax, pmax.int, pmin, pmin.int,
rank, rbind, rownames, sapply, saveRDS, table, tapply, unique,
unsplit, which.max, which.min
Loading required package: S4Vectors
Attaching package: 'S4Vectors'
The following object is masked from 'package:utils':
findMatches
The following objects are masked from 'package:base':
I, expand.grid, unname
Loading required package: IRanges
Loading required package: GenomeInfoDb
Loading required package: Biobase
Welcome to Bioconductor
Vignettes contain introductory material; view with
'browseVignettes()'. To cite Bioconductor, see
'citation("Biobase")', and for packages 'citation("pkgname")'.
Attaching package: 'Biobase'
The following object is masked from 'package:MatrixGenerics':
rowMedians
The following objects are masked from 'package:matrixStats':
anyMissing, rowMedians
> test_check("scuttle")
Loading required package: Matrix
Attaching package: 'Matrix'
The following object is masked from 'package:S4Vectors':
expand
Loading required package: S4Arrays
Loading required package: abind
Attaching package: 'S4Arrays'
The following object is masked from 'package:abind':
abind
The following object is masked from 'package:base':
rowsum
Loading required package: SparseArray
Attaching package: 'DelayedArray'
The following objects are masked from 'package:base':
apply, scale, sweep
[ FAIL 0 | WARN 13 | SKIP 0 | PASS 1707 ]
[ FAIL 0 | WARN 13 | SKIP 0 | PASS 1707 ]
>
> proc.time()
user system elapsed
132.189 9.481 168.094
scuttle.Rcheck/scuttle-Ex.timings
| name | user | system | elapsed | |
| addPerCellQCMetrics | 0.856 | 0.048 | 0.905 | |
| aggregateAcrossCells | 1.192 | 0.093 | 1.294 | |
| aggregateAcrossFeatures | 0.396 | 0.033 | 0.432 | |
| calculateAverage | 0.331 | 0.011 | 0.343 | |
| calculateCPM | 0.366 | 0.005 | 0.372 | |
| calculateFPKM | 0.354 | 0.016 | 0.389 | |
| calculateTPM | 0.316 | 0.009 | 0.332 | |
| cleanSizeFactors | 0.021 | 0.001 | 0.022 | |
| computePooledFactors | 9.287 | 0.171 | 9.461 | |
| computeSpikeFactors | 0.364 | 0.016 | 0.381 | |
| correctGroupSummary | 0.056 | 0.001 | 0.057 | |
| downsampleBatches | 4.983 | 0.060 | 5.042 | |
| downsampleMatrix | 6.807 | 0.035 | 6.863 | |
| fitLinearModel | 0.069 | 0.003 | 0.073 | |
| geometricSizeFactors | 0.310 | 0.007 | 0.318 | |
| isOutlier | 0.524 | 0.009 | 0.534 | |
| librarySizeFactors | 0.296 | 0.013 | 0.309 | |
| logNormCounts | 0.864 | 0.033 | 0.897 | |
| makePerCellDF | 0.516 | 0.012 | 0.532 | |
| makePerFeatureDF | 0.406 | 0.011 | 0.425 | |
| medianSizeFactors | 0.309 | 0.010 | 0.322 | |
| mockSCE | 0.324 | 0.007 | 0.334 | |
| normalizeCounts | 1.659 | 0.041 | 1.719 | |
| numDetectedAcrossCells | 0.345 | 0.009 | 0.361 | |
| numDetectedAcrossFeatures | 0.304 | 0.008 | 0.318 | |
| perCellQCFilters | 0.537 | 0.007 | 0.550 | |
| perCellQCMetrics | 1.028 | 0.019 | 1.046 | |
| perFeatureQCMetrics | 0.402 | 0.006 | 0.409 | |
| quickPerCellQC | 0.848 | 0.011 | 0.884 | |
| readSparseCounts | 0.006 | 0.001 | 0.008 | |
| sumCountsAcrossCells | 0.286 | 0.010 | 0.310 | |
| sumCountsAcrossFeatures | 0.252 | 0.007 | 0.261 | |
| summarizeAssayByGroup | 0.222 | 0.014 | 0.237 | |
| uniquifyDataFrameByGroup | 0.023 | 0.004 | 0.028 | |
| uniquifyFeatureNames | 0.001 | 0.000 | 0.000 | |