| Back to Multiple platform build/check report for BioC 3.21: simplified long |
|
This page was generated on 2025-10-16 11:38 -0400 (Thu, 16 Oct 2025).
| Hostname | OS | Arch (*) | R version | Installed pkgs |
|---|---|---|---|---|
| nebbiolo1 | Linux (Ubuntu 24.04.3 LTS) | x86_64 | 4.5.1 (2025-06-13) -- "Great Square Root" | 4833 |
| merida1 | macOS 12.7.6 Monterey | x86_64 | 4.5.1 RC (2025-06-05 r88288) -- "Great Square Root" | 4614 |
| kjohnson1 | macOS 13.7.5 Ventura | arm64 | 4.5.1 Patched (2025-06-14 r88325) -- "Great Square Root" | 4555 |
| kunpeng2 | Linux (openEuler 24.03 LTS) | aarch64 | R Under development (unstable) (2025-02-19 r87757) -- "Unsuffered Consequences" | 4586 |
| Click on any hostname to see more info about the system (e.g. compilers) (*) as reported by 'uname -p', except on Windows and Mac OS X | ||||
| Package 1913/2341 | Hostname | OS / Arch | INSTALL | BUILD | CHECK | BUILD BIN | ||||||||
| scHOT 1.20.1 (landing page) Shila Ghazanfar
| nebbiolo1 | Linux (Ubuntu 24.04.3 LTS) / x86_64 | OK | OK | OK | |||||||||
| merida1 | macOS 12.7.6 Monterey / x86_64 | OK | OK | OK | OK | |||||||||
| kjohnson1 | macOS 13.7.5 Ventura / arm64 | OK | OK | OK | OK | |||||||||
| kunpeng2 | Linux (openEuler 24.03 LTS) / aarch64 | OK | OK | OK | ||||||||||
|
To the developers/maintainers of the scHOT package: - Allow up to 24 hours (and sometimes 48 hours) for your latest push to git@git.bioconductor.org:packages/scHOT.git to reflect on this report. See Troubleshooting Build Report for more information. - Use the following Renviron settings to reproduce errors and warnings. - If 'R CMD check' started to fail recently on the Linux builder(s) over a missing dependency, add the missing dependency to 'Suggests:' in your DESCRIPTION file. See Renviron.bioc for more information. |
| Package: scHOT |
| Version: 1.20.1 |
| Command: /home/biocbuild/bbs-3.21-bioc/R/bin/R CMD check --install=check:scHOT.install-out.txt --library=/home/biocbuild/bbs-3.21-bioc/R/site-library --timings scHOT_1.20.1.tar.gz |
| StartedAt: 2025-10-16 03:18:18 -0400 (Thu, 16 Oct 2025) |
| EndedAt: 2025-10-16 03:24:31 -0400 (Thu, 16 Oct 2025) |
| EllapsedTime: 373.3 seconds |
| RetCode: 0 |
| Status: OK |
| CheckDir: scHOT.Rcheck |
| Warnings: 0 |
##############################################################################
##############################################################################
###
### Running command:
###
### /home/biocbuild/bbs-3.21-bioc/R/bin/R CMD check --install=check:scHOT.install-out.txt --library=/home/biocbuild/bbs-3.21-bioc/R/site-library --timings scHOT_1.20.1.tar.gz
###
##############################################################################
##############################################################################
* using log directory ‘/home/biocbuild/bbs-3.21-bioc/meat/scHOT.Rcheck’
* using R version 4.5.1 (2025-06-13)
* using platform: x86_64-pc-linux-gnu
* R was compiled by
gcc (Ubuntu 13.3.0-6ubuntu2~24.04) 13.3.0
GNU Fortran (Ubuntu 13.3.0-6ubuntu2~24.04) 13.3.0
* running under: Ubuntu 24.04.3 LTS
* using session charset: UTF-8
* checking for file ‘scHOT/DESCRIPTION’ ... OK
* checking extension type ... Package
* this is package ‘scHOT’ version ‘1.20.1’
* package encoding: UTF-8
* checking package namespace information ... OK
* checking package dependencies ... OK
* checking if this is a source package ... OK
* checking if there is a namespace ... OK
* checking for hidden files and directories ... OK
* checking for portable file names ... OK
* checking for sufficient/correct file permissions ... OK
* checking whether package ‘scHOT’ can be installed ... OK
* checking installed package size ... OK
* checking package directory ... OK
* checking ‘build’ directory ... OK
* checking DESCRIPTION meta-information ... OK
* checking top-level files ... OK
* checking for left-over files ... OK
* checking index information ... OK
* checking package subdirectories ... OK
* checking code files for non-ASCII characters ... OK
* checking R files for syntax errors ... OK
* checking whether the package can be loaded ... OK
* checking whether the package can be loaded with stated dependencies ... OK
* checking whether the package can be unloaded cleanly ... OK
* checking whether the namespace can be loaded with stated dependencies ... OK
* checking whether the namespace can be unloaded cleanly ... OK
* checking loading without being on the library search path ... OK
* checking dependencies in R code ... OK
* checking S3 generic/method consistency ... OK
* checking replacement functions ... OK
* checking foreign function calls ... OK
* checking R code for possible problems ... OK
* checking Rd files ... OK
* checking Rd metadata ... OK
* checking Rd cross-references ... OK
* checking for missing documentation entries ... OK
* checking for code/documentation mismatches ... OK
* checking Rd \usage sections ... OK
* checking Rd contents ... OK
* checking for unstated dependencies in examples ... OK
* checking contents of ‘data’ directory ... OK
* checking data for non-ASCII characters ... OK
* checking LazyData ... OK
* checking data for ASCII and uncompressed saves ... OK
* checking files in ‘vignettes’ ... OK
* checking examples ... OK
Examples with CPU (user + system) or elapsed time > 5s
user system elapsed
scHOT 24.356 0.281 24.638
scHOT_performPermutationTest 23.727 0.101 23.828
scHOT_estimatePvalues 23.052 0.128 23.182
* checking for unstated dependencies in vignettes ... OK
* checking package vignettes ... OK
* checking re-building of vignette outputs ... OK
* checking PDF version of manual ... OK
* DONE
Status: OK
scHOT.Rcheck/00install.out
############################################################################## ############################################################################## ### ### Running command: ### ### /home/biocbuild/bbs-3.21-bioc/R/bin/R CMD INSTALL scHOT ### ############################################################################## ############################################################################## * installing to library ‘/home/biocbuild/bbs-3.21-bioc/R/site-library’ * installing *source* package ‘scHOT’ ... ** this is package ‘scHOT’ version ‘1.20.1’ ** using staged installation ** R ** data *** moving datasets to lazyload DB ** byte-compile and prepare package for lazy loading ** help *** installing help indices ** building package indices ** installing vignettes ** testing if installed package can be loaded from temporary location ** testing if installed package can be loaded from final location ** testing if installed package keeps a record of temporary installation path * DONE (scHOT)
scHOT.Rcheck/scHOT-Ex.timings
| name | user | system | elapsed | |
| params-set | 0.253 | 0.020 | 0.272 | |
| plotColouredExpression | 1.775 | 0.074 | 1.849 | |
| plotHigherOrderSequence | 1.716 | 0.146 | 1.862 | |
| positionColData-set | 0.095 | 0.001 | 0.096 | |
| positionType-set | 0.112 | 0.002 | 0.114 | |
| scHOT | 24.356 | 0.281 | 24.638 | |
| scHOT_addTestingScaffold | 0.107 | 0.001 | 0.108 | |
| scHOT_buildFromMatrix | 0.075 | 0.008 | 0.083 | |
| scHOT_buildFromSCE | 0.295 | 0.026 | 0.321 | |
| scHOT_calculateGlobalHigherOrderFunction | 0.155 | 0.013 | 0.167 | |
| scHOT_calculateHigherOrderTestStatistics | 0.428 | 0.029 | 0.456 | |
| scHOT_estimatePvalues | 23.052 | 0.128 | 23.182 | |
| scHOT_output-set | 0.086 | 0.002 | 0.088 | |
| scHOT_performPermutationTest | 23.727 | 0.101 | 23.828 | |
| scHOT_setPermutationScaffold | 0.153 | 0.001 | 0.154 | |
| scHOT_setWeightMatrix | 0.132 | 0.002 | 0.134 | |
| scHOT_stripOutput | 0.107 | 0.001 | 0.107 | |
| spatialWeightMatrix | 0.003 | 0.000 | 0.003 | |
| testingScaffold-set | 0.093 | 0.000 | 0.093 | |
| thin | 0.008 | 0.001 | 0.009 | |
| trajectoryWeightMatrix | 0.003 | 0.000 | 0.002 | |
| weightMatrix-set | 0.222 | 0.006 | 0.228 | |
| weightedPearson | 0 | 0 | 0 | |
| weightedSpearman | 0 | 0 | 0 | |
| weightedVariance | 0.000 | 0.001 | 0.000 | |
| weightedZIKendall | 0.000 | 0.000 | 0.001 | |
| weightedZISpearman | 0.000 | 0.000 | 0.001 | |