| Back to Multiple platform build/check report for BioC 3.21: simplified long |
|
This page was generated on 2025-10-16 11:38 -0400 (Thu, 16 Oct 2025).
| Hostname | OS | Arch (*) | R version | Installed pkgs |
|---|---|---|---|---|
| nebbiolo1 | Linux (Ubuntu 24.04.3 LTS) | x86_64 | 4.5.1 (2025-06-13) -- "Great Square Root" | 4833 |
| merida1 | macOS 12.7.6 Monterey | x86_64 | 4.5.1 RC (2025-06-05 r88288) -- "Great Square Root" | 4614 |
| kjohnson1 | macOS 13.7.5 Ventura | arm64 | 4.5.1 Patched (2025-06-14 r88325) -- "Great Square Root" | 4555 |
| kunpeng2 | Linux (openEuler 24.03 LTS) | aarch64 | R Under development (unstable) (2025-02-19 r87757) -- "Unsuffered Consequences" | 4586 |
| Click on any hostname to see more info about the system (e.g. compilers) (*) as reported by 'uname -p', except on Windows and Mac OS X | ||||
| Package 1866/2341 | Hostname | OS / Arch | INSTALL | BUILD | CHECK | BUILD BIN | ||||||||
| safe 3.48.0 (landing page) Ludwig Geistlinger
| nebbiolo1 | Linux (Ubuntu 24.04.3 LTS) / x86_64 | OK | OK | OK | |||||||||
| merida1 | macOS 12.7.6 Monterey / x86_64 | OK | OK | OK | OK | |||||||||
| kjohnson1 | macOS 13.7.5 Ventura / arm64 | OK | OK | OK | OK | |||||||||
| kunpeng2 | Linux (openEuler 24.03 LTS) / aarch64 | OK | OK | OK | ||||||||||
|
To the developers/maintainers of the safe package: - Allow up to 24 hours (and sometimes 48 hours) for your latest push to git@git.bioconductor.org:packages/safe.git to reflect on this report. See Troubleshooting Build Report for more information. - Use the following Renviron settings to reproduce errors and warnings. - If 'R CMD check' started to fail recently on the Linux builder(s) over a missing dependency, add the missing dependency to 'Suggests:' in your DESCRIPTION file. See Renviron.bioc for more information. |
| Package: safe |
| Version: 3.48.0 |
| Command: /home/biocbuild/bbs-3.21-bioc/R/bin/R CMD check --install=check:safe.install-out.txt --library=/home/biocbuild/bbs-3.21-bioc/R/site-library --timings safe_3.48.0.tar.gz |
| StartedAt: 2025-10-16 03:08:34 -0400 (Thu, 16 Oct 2025) |
| EndedAt: 2025-10-16 03:13:22 -0400 (Thu, 16 Oct 2025) |
| EllapsedTime: 288.5 seconds |
| RetCode: 0 |
| Status: OK |
| CheckDir: safe.Rcheck |
| Warnings: 0 |
##############################################################################
##############################################################################
###
### Running command:
###
### /home/biocbuild/bbs-3.21-bioc/R/bin/R CMD check --install=check:safe.install-out.txt --library=/home/biocbuild/bbs-3.21-bioc/R/site-library --timings safe_3.48.0.tar.gz
###
##############################################################################
##############################################################################
* using log directory ‘/home/biocbuild/bbs-3.21-bioc/meat/safe.Rcheck’
* using R version 4.5.1 (2025-06-13)
* using platform: x86_64-pc-linux-gnu
* R was compiled by
gcc (Ubuntu 13.3.0-6ubuntu2~24.04) 13.3.0
GNU Fortran (Ubuntu 13.3.0-6ubuntu2~24.04) 13.3.0
* running under: Ubuntu 24.04.3 LTS
* using session charset: UTF-8
* checking for file ‘safe/DESCRIPTION’ ... OK
* this is package ‘safe’ version ‘3.48.0’
* checking package namespace information ... OK
* checking package dependencies ... OK
* checking if this is a source package ... OK
* checking if there is a namespace ... OK
* checking for hidden files and directories ... OK
* checking for portable file names ... OK
* checking for sufficient/correct file permissions ... OK
* checking whether package ‘safe’ can be installed ... OK
* checking installed package size ... OK
* checking package directory ... OK
* checking ‘build’ directory ... OK
* checking DESCRIPTION meta-information ... OK
* checking top-level files ... OK
* checking for left-over files ... OK
* checking index information ... OK
* checking package subdirectories ... OK
* checking code files for non-ASCII characters ... OK
* checking R files for syntax errors ... OK
* checking whether the package can be loaded ... OK
* checking whether the package can be loaded with stated dependencies ... OK
* checking whether the package can be unloaded cleanly ... OK
* checking whether the namespace can be loaded with stated dependencies ... OK
* checking whether the namespace can be unloaded cleanly ... OK
* checking loading without being on the library search path ... OK
* checking dependencies in R code ... NOTE
'library' or 'require' call to ‘SparseM’ which was already attached by Depends.
Please remove these calls from your code.
'library' or 'require' calls in package code:
‘GO.db’ ‘GOstats’ ‘PFAM.db’ ‘Rgraphviz’ ‘doRNG’ ‘foreach’
‘reactome.db’ ‘survival’
Please use :: or requireNamespace() instead.
See section 'Suggested packages' in the 'Writing R Extensions' manual.
* checking S3 generic/method consistency ... OK
* checking replacement functions ... OK
* checking foreign function calls ... OK
* checking R code for possible problems ... NOTE
getCOXresiduals: no visible global function definition for ‘Surv’
getCOXresiduals: no visible global function definition for ‘coxph’
getCOXresiduals: no visible global function definition for ‘residuals’
getCmatrix: no visible binding for global variable ‘GOTERM’
safe: no visible binding for global variable ‘reactomeEXTID2PATHID’
safe: no visible global function definition for ‘safe.express’
safe: no visible global function definition for ‘getDoParWorkers’
safe: no visible global function definition for ‘%dorng%’
safe: no visible global function definition for ‘foreach’
safe.toptable: no visible binding for global variable ‘GOTERM’
safe.toptable: no visible binding for global variable ‘PFAMSCOP’
safe.toptable: no visible binding for global variable ‘reactome.db’
safedag: no visible binding for global variable ‘GOTERM’
safedag: no visible global function definition for ‘GOGraph’
safedag: no visible global function definition for ‘makeNodeAttrs’
safedag: no visible global function definition for ‘subGraph’
safedag: no visible global function definition for ‘agopen’
safeplot: no visible binding for global variable ‘GOTERM’
safeplot: no visible binding for global variable ‘PFAMID’
Undefined global functions or variables:
%dorng% GOGraph GOTERM PFAMID PFAMSCOP Surv agopen coxph foreach
getDoParWorkers makeNodeAttrs reactome.db reactomeEXTID2PATHID
residuals safe.express subGraph
Consider adding
importFrom("stats", "residuals")
to your NAMESPACE file.
* checking Rd files ... OK
* checking Rd metadata ... OK
* checking Rd cross-references ... OK
* checking for missing documentation entries ... OK
* checking for code/documentation mismatches ... OK
* checking Rd \usage sections ... OK
* checking Rd contents ... OK
* checking for unstated dependencies in examples ... OK
* checking contents of ‘data’ directory ... OK
* checking data for non-ASCII characters ... OK
* checking data for ASCII and uncompressed saves ... OK
* checking files in ‘vignettes’ ... OK
* checking examples ... OK
* checking for unstated dependencies in vignettes ... OK
* checking package vignettes ... OK
* checking re-building of vignette outputs ... OK
* checking PDF version of manual ... OK
* DONE
Status: 2 NOTEs
See
‘/home/biocbuild/bbs-3.21-bioc/meat/safe.Rcheck/00check.log’
for details.
safe.Rcheck/00install.out
############################################################################## ############################################################################## ### ### Running command: ### ### /home/biocbuild/bbs-3.21-bioc/R/bin/R CMD INSTALL safe ### ############################################################################## ############################################################################## * installing to library ‘/home/biocbuild/bbs-3.21-bioc/R/site-library’ * installing *source* package ‘safe’ ... ** this is package ‘safe’ version ‘3.48.0’ ** using staged installation ** R ** data ** byte-compile and prepare package for lazy loading ** help *** installing help indices ** building package indices ** installing vignettes ** testing if installed package can be loaded from temporary location ** testing if installed package can be loaded from final location ** testing if installed package keeps a record of temporary installation path * DONE (safe)
safe.Rcheck/safe-Ex.timings
| name | user | system | elapsed | |
| getCmatrix | 0.000 | 0.000 | 0.001 | |
| safe | 0.185 | 0.005 | 0.191 | |
| safeplot | 0.106 | 0.001 | 0.107 | |