Back to Multiple platform build/check report for BioC 3.21:   simplified   long
ABCDEFGHIJKLMNOPQ[R]STUVWXYZ

This page was generated on 2025-10-16 11:37 -0400 (Thu, 16 Oct 2025).

HostnameOSArch (*)R versionInstalled pkgs
nebbiolo1Linux (Ubuntu 24.04.3 LTS)x86_644.5.1 (2025-06-13) -- "Great Square Root" 4833
merida1macOS 12.7.6 Montereyx86_644.5.1 RC (2025-06-05 r88288) -- "Great Square Root" 4614
kjohnson1macOS 13.7.5 Venturaarm644.5.1 Patched (2025-06-14 r88325) -- "Great Square Root" 4555
kunpeng2Linux (openEuler 24.03 LTS)aarch64R Under development (unstable) (2025-02-19 r87757) -- "Unsuffered Consequences" 4586
Click on any hostname to see more info about the system (e.g. compilers)      (*) as reported by 'uname -p', except on Windows and Mac OS X

All results for package regioneR


To the developers/maintainers of the regioneR package:
- Allow up to 24 hours (and sometimes 48 hours) for your latest push to git@git.bioconductor.org:packages/regioneR.git to reflect on this report. See Troubleshooting Build Report for more information.
- Use the following Renviron settings to reproduce errors and warnings.
- If 'R CMD check' started to fail recently on the Linux builder(s) over a missing dependency, add the missing dependency to 'Suggests:' in your DESCRIPTION file. See Renviron.bioc for more information.

raw results

Package 1746/2341HostnameOS / ArchINSTALLBUILDCHECKBUILD BIN
regioneR 1.40.1  (landing page)
Bernat Gel
Snapshot Date: 2025-10-13 13:40 -0400 (Mon, 13 Oct 2025)
git_url: https://git.bioconductor.org/packages/regioneR
git_branch: RELEASE_3_21
git_last_commit: 9f9c28f
git_last_commit_date: 2025-05-27 09:10:41 -0400 (Tue, 27 May 2025)
nebbiolo1Linux (Ubuntu 24.04.3 LTS) / x86_64  OK    OK    OK  UNNEEDED, same version is already published
merida1macOS 12.7.6 Monterey / x86_64  OK    OK    OK    OK  UNNEEDED, same version is already published
kjohnson1macOS 13.7.5 Ventura / arm64  OK    OK    OK    OK  UNNEEDED, same version is already published
kunpeng2Linux (openEuler 24.03 LTS) / aarch64  OK    TIMEOUT  skipped



Results for Bioconductor software packages that depend directly on package regioneR

QUICK STATSOS / ArchINSTALLBUILDCHECKBUILD BIN
nebbiolo1Linux (Ubuntu 24.04.3 LTS) / x86_64
008
008
0107
merida1macOS 12.7.6 Monterey / x86_64
008
008
0107
008
kjohnson1macOS 13.7.5 Ventura / arm64
008
008
0107
008
kunpeng2Linux (openEuler 24.03 LTS) / aarch64
008
008
1105
Package 1/8HostnameOS / ArchINSTALLBUILDCHECKBUILD BIN
annotatr 1.34.0  (landing page)
Raymond G. Cavalcante
git_last_commit: a16eede
git_last_commit_date: 2025-04-15 11:06:31 -0400
nebbiolo1Linux (Ubuntu 24.04.3 LTS) / x86_64  OK    OK    ERROR  
merida1macOS 12.7.6 Monterey / x86_64  OK    OK    ERROR    OK  
kjohnson1macOS 13.7.5 Ventura / arm64  OK    OK    ERROR    OK  
kunpeng2Linux (openEuler 24.03 LTS) / aarch64  OK    OK    ERROR  
Package 2/8HostnameOS / ArchINSTALLBUILDCHECKBUILD BIN
ChIPpeakAnno 3.42.0  (landing page)
Jianhong Ou
git_last_commit: 6a1e893
git_last_commit_date: 2025-04-15 09:45:26 -0400
nebbiolo1Linux (Ubuntu 24.04.3 LTS) / x86_64  OK    OK    OK  UNNEEDED, same version is already published
merida1macOS 12.7.6 Monterey / x86_64  OK    OK    OK    OK  UNNEEDED, same version is already published
kjohnson1macOS 13.7.5 Ventura / arm64  OK    OK    OK    OK  UNNEEDED, same version is already published
kunpeng2Linux (openEuler 24.03 LTS) / aarch64  OK    OK    TIMEOUT  
Package 3/8HostnameOS / ArchINSTALLBUILDCHECKBUILD BIN
CNVfilteR 1.22.0  (landing page)
Jose Marcos Moreno-Cabrera
git_last_commit: efef6b4
git_last_commit_date: 2025-04-15 11:51:14 -0400
nebbiolo1Linux (Ubuntu 24.04.3 LTS) / x86_64  OK    OK    OK  UNNEEDED, same version is already published
merida1macOS 12.7.6 Monterey / x86_64  OK    OK    OK    OK  UNNEEDED, same version is already published
kjohnson1macOS 13.7.5 Ventura / arm64  OK    OK    OK    OK  UNNEEDED, same version is already published
kunpeng2Linux (openEuler 24.03 LTS) / aarch64  OK    OK    OK  
Package 4/8HostnameOS / ArchINSTALLBUILDCHECKBUILD BIN
CopyNumberPlots 1.24.0  (landing page)
Bernat Gel
git_last_commit: be5b59c
git_last_commit_date: 2025-04-15 11:43:55 -0400
nebbiolo1Linux (Ubuntu 24.04.3 LTS) / x86_64  OK    OK    OK  UNNEEDED, same version is already published
merida1macOS 12.7.6 Monterey / x86_64  OK    OK    OK    OK  UNNEEDED, same version is already published
kjohnson1macOS 13.7.5 Ventura / arm64  OK    OK    OK    OK  UNNEEDED, same version is already published
kunpeng2Linux (openEuler 24.03 LTS) / aarch64  OK    OK    OK  
Package 5/8HostnameOS / ArchINSTALLBUILDCHECKBUILD BIN
karyoploteR 1.34.2  (landing page)
Bernat Gel
git_last_commit: ecc98d7
git_last_commit_date: 2025-06-06 04:31:07 -0400
nebbiolo1Linux (Ubuntu 24.04.3 LTS) / x86_64  OK    OK    OK  UNNEEDED, same version is already published
merida1macOS 12.7.6 Monterey / x86_64  OK    OK    OK    OK  UNNEEDED, same version is already published
kjohnson1macOS 13.7.5 Ventura / arm64  OK    OK    OK    OK  UNNEEDED, same version is already published
kunpeng2Linux (openEuler 24.03 LTS) / aarch64  OK    OK    OK  
Package 6/8HostnameOS / ArchINSTALLBUILDCHECKBUILD BIN
regioneReloaded 1.10.0  (landing page)
Roberto Malinverni
git_last_commit: 234eb5f
git_last_commit_date: 2025-04-15 12:55:23 -0400
nebbiolo1Linux (Ubuntu 24.04.3 LTS) / x86_64  OK    OK    OK  UNNEEDED, same version is already published
merida1macOS 12.7.6 Monterey / x86_64  OK    OK    OK    OK  UNNEEDED, same version is already published
kjohnson1macOS 13.7.5 Ventura / arm64  OK    OK    OK    OK  UNNEEDED, same version is already published
kunpeng2Linux (openEuler 24.03 LTS) / aarch64  OK    OK    OK  
Package 7/8HostnameOS / ArchINSTALLBUILDCHECKBUILD BIN
RgnTX 1.10.0  (landing page)
Yue Wang
git_last_commit: 682feeb
git_last_commit_date: 2025-04-15 12:52:17 -0400
nebbiolo1Linux (Ubuntu 24.04.3 LTS) / x86_64  OK    OK    OK  UNNEEDED, same version is already published
merida1macOS 12.7.6 Monterey / x86_64  OK    OK    OK    OK  UNNEEDED, same version is already published
kjohnson1macOS 13.7.5 Ventura / arm64  OK    OK    OK    OK  UNNEEDED, same version is already published
kunpeng2Linux (openEuler 24.03 LTS) / aarch64  OK    OK    OK  
Package 8/8HostnameOS / ArchINSTALLBUILDCHECKBUILD BIN
UMI4Cats 1.18.2  (landing page)
Mireia Ramos-Rodriguez
git_last_commit: 6919621
git_last_commit_date: 2025-09-23 05:15:27 -0400
nebbiolo1Linux (Ubuntu 24.04.3 LTS) / x86_64  OK    OK    OK  UNNEEDED, same version is already published
merida1macOS 12.7.6 Monterey / x86_64  OK    OK    OK    OK  UNNEEDED, same version is already published
kjohnson1macOS 13.7.5 Ventura / arm64  OK    OK    OK    OK  UNNEEDED, same version is already published
kunpeng2Linux (openEuler 24.03 LTS) / aarch64  OK    OK    NA