Back to Multiple platform build/check report for BioC 3.22:   simplified   long
ABCDEFGHIJ[K]LMNOPQRSTUVWXYZ

This page was generated on 2025-11-20 12:07 -0500 (Thu, 20 Nov 2025).

HostnameOSArch (*)R versionInstalled pkgs
nebbiolo2Linux (Ubuntu 24.04.3 LTS)x86_644.5.2 (2025-10-31) -- "[Not] Part in a Rumble" 4615
merida1macOS 12.7.6 Montereyx86_644.5.2 Patched (2025-11-05 r88990) -- "[Not] Part in a Rumble" 4610
kjohnson1macOS 13.7.5 Venturaarm644.5.2 Patched (2025-11-04 r88984) -- "[Not] Part in a Rumble" 4598
taishanLinux (openEuler 24.03 LTS)aarch644.5.0 (2025-04-11) -- "How About a Twenty-Six" 4668
Click on any hostname to see more info about the system (e.g. compilers)      (*) as reported by 'uname -p', except on Windows and Mac OS X

Package 1109/2361HostnameOS / ArchINSTALLBUILDCHECKBUILD BIN
karyoploteR 1.36.0  (landing page)
Bernat Gel
Snapshot Date: 2025-11-17 13:45 -0500 (Mon, 17 Nov 2025)
git_url: https://git.bioconductor.org/packages/karyoploteR
git_branch: RELEASE_3_22
git_last_commit: 50652ef
git_last_commit_date: 2025-10-29 10:36:38 -0500 (Wed, 29 Oct 2025)
nebbiolo2Linux (Ubuntu 24.04.3 LTS) / x86_64  OK    OK    OK  UNNEEDED, same version is already published
merida1macOS 12.7.6 Monterey / x86_64  OK    OK    OK    OK  UNNEEDED, same version is already published
kjohnson1macOS 13.7.5 Ventura / arm64  OK    OK    OK    OK  UNNEEDED, same version is already published
taishanLinux (openEuler 24.03 LTS) / aarch64  OK    OK    OK  


CHECK results for karyoploteR on taishan

To the developers/maintainers of the karyoploteR package:
- Allow up to 24 hours (and sometimes 48 hours) for your latest push to git@git.bioconductor.org:packages/karyoploteR.git to reflect on this report. See Troubleshooting Build Report for more information.
- Use the following Renviron settings to reproduce errors and warnings.
- If 'R CMD check' started to fail recently on the Linux builder(s) over a missing dependency, add the missing dependency to 'Suggests:' in your DESCRIPTION file. See Renviron.bioc for more information.
- See Martin Grigorov's blog post for how to debug Linux ARM64 related issues on a x86_64 host.

raw results


Summary

Package: karyoploteR
Version: 1.36.0
Command: /home/biocbuild/R/R/bin/R CMD check --install=check:karyoploteR.install-out.txt --library=/home/biocbuild/R/R/site-library --no-vignettes --timings karyoploteR_1.36.0.tar.gz
StartedAt: 2025-11-18 11:13:29 -0000 (Tue, 18 Nov 2025)
EndedAt: 2025-11-18 11:27:18 -0000 (Tue, 18 Nov 2025)
EllapsedTime: 828.9 seconds
RetCode: 0
Status:   OK  
CheckDir: karyoploteR.Rcheck
Warnings: 0

Command output

##############################################################################
##############################################################################
###
### Running command:
###
###   /home/biocbuild/R/R/bin/R CMD check --install=check:karyoploteR.install-out.txt --library=/home/biocbuild/R/R/site-library --no-vignettes --timings karyoploteR_1.36.0.tar.gz
###
##############################################################################
##############################################################################


* using log directory ‘/home/biocbuild/bbs-3.22-bioc/meat/karyoploteR.Rcheck’
* using R version 4.5.0 (2025-04-11)
* using platform: aarch64-unknown-linux-gnu
* R was compiled by
    aarch64-unknown-linux-gnu-gcc (GCC) 14.2.0
    GNU Fortran (GCC) 14.2.0
* running under: openEuler 24.03 (LTS)
* using session charset: UTF-8
* using option ‘--no-vignettes’
* checking for file ‘karyoploteR/DESCRIPTION’ ... OK
* checking extension type ... Package
* this is package ‘karyoploteR’ version ‘1.36.0’
* package encoding: UTF-8
* checking package namespace information ... OK
* checking package dependencies ... OK
* checking if this is a source package ... OK
* checking if there is a namespace ... OK
* checking for hidden files and directories ... OK
* checking for portable file names ... OK
* checking for sufficient/correct file permissions ... OK
* checking whether package ‘karyoploteR’ can be installed ... OK
* checking installed package size ... OK
* checking package directory ... OK
* checking ‘build’ directory ... OK
* checking DESCRIPTION meta-information ... NOTE
Packages listed in more than one of Depends, Imports, Suggests, Enhances:
  ‘regioneR’ ‘GenomicRanges’
A package should be listed in only one of these fields.
* checking top-level files ... OK
* checking for left-over files ... OK
* checking index information ... OK
* checking package subdirectories ... NOTE
Problems with news in ‘NEWS’:
  Cannot process chunk/lines:
    NEW FEATURES
  Cannot process chunk/lines:
    SIGNIFICANT USER-VISIBLE CHANGES
  Cannot process chunk/lines:
    NEW FEATURES
  Cannot process chunk/lines:
    SIGNIFICANT USER-VISIBLE CHANGES
* checking code files for non-ASCII characters ... OK
* checking R files for syntax errors ... OK
* checking whether the package can be loaded ... OK
* checking whether the package can be loaded with stated dependencies ... OK
* checking whether the package can be unloaded cleanly ... OK
* checking whether the namespace can be loaded with stated dependencies ... OK
* checking whether the namespace can be unloaded cleanly ... OK
* checking loading without being on the library search path ... OK
* checking whether startup messages can be suppressed ... OK
* checking dependencies in R code ... OK
* checking S3 generic/method consistency ... OK
* checking replacement functions ... OK
* checking foreign function calls ... OK
* checking R code for possible problems ... OK
* checking Rd files ... NOTE
checkRd: (-1) kpPlotBAMCoverage.Rd:48: Lost braces
    48 | There's more information at the \url{https://bernatgel.github.io/karyoploter_tutorial/}{karyoploteR tutorial}.
       |                                                                                        ^
checkRd: (-1) kpPlotBAMDensity.Rd:48: Lost braces
    48 | There's more information at the \url{https://bernatgel.github.io/karyoploter_tutorial/}{karyoploteR tutorial}.
       |                                                                                        ^
checkRd: (-1) kpPlotCoverage.Rd:46: Lost braces
    46 |  There's more information at the \url{https://bernatgel.github.io/karyoploter_tutorial/}{karyoploteR tutorial}.
       |                                                                                         ^
checkRd: (-1) kpPlotDensity.Rd:42: Lost braces
    42 | There's more information at the \url{https://bernatgel.github.io/karyoploter_tutorial/}{karyoploteR tutorial}.
       |                                                                                        ^
checkRd: (-1) kpPlotManhattan.Rd:80: Lost braces
    80 | There's more information at the \url{https://bernatgel.github.io/karyoploter_tutorial/}{karyoploteR tutorial}.
       |                                                                                        ^
checkRd: (-1) kpPlotMarkers.Rd:81: Lost braces
    81 | There's more information at the \url{https://bernatgel.github.io/karyoploter_tutorial/}{karyoploteR tutorial}.
       |                                                                                        ^
checkRd: (-1) kpPlotRainfall.Rd:47: Lost braces
    47 | There's more information at the \url{https://bernatgel.github.io/karyoploter_tutorial/}{karyoploteR tutorial}.
       |                                                                                        ^
checkRd: (-1) kpPoints.Rd:54: Lost braces
    54 | There's more information at the \url{https://bernatgel.github.io/karyoploter_tutorial/}{karyoploteR tutorial}.
       |                                                                                        ^
checkRd: (-1) kpRect.Rd:55: Lost braces
    55 | There's more information at the \url{https://bernatgel.github.io/karyoploter_tutorial/}{karyoploteR tutorial}.
       |                                                                                        ^
checkRd: (-1) plotKaryotype.Rd:61: Lost braces
    61 | There's more information at the \url{https://bernatgel.github.io/karyoploter_tutorial/}{karyoploteR tutorial}.
       |                                                                                        ^
* checking Rd metadata ... OK
* checking Rd cross-references ... NOTE
Found the following Rd file(s) with Rd \link{} targets missing package
anchors:
  getCytobands.Rd: GenomicRanges, memoise, forget
  kpPlotBAMCoverage.Rd: bamsignals
  kpPlotBAMDensity.Rd: Rsamtools
  kpPlotBigWig.Rd: BigWigFile
Please provide package anchors for all Rd \link{} targets not in the
package itself and the base packages.
* checking for missing documentation entries ... OK
* checking for code/documentation mismatches ... OK
* checking Rd \usage sections ... OK
* checking Rd contents ... OK
* checking for unstated dependencies in examples ... OK
* checking R/sysdata.rda ... OK
* checking files in ‘vignettes’ ... OK
* checking examples ... OK
Examples with CPU (user + system) or elapsed time > 5s
                         user system elapsed
mergeTranscripts      134.980  0.722 136.106
kpPlotGenes            99.582  0.797 100.688
kpPlotDensity          40.763  2.522  43.685
kpPlotHorizon          21.685  0.196  21.946
kpPlotRegions          16.721  0.032  16.801
kpPlotTranscripts       9.743  0.016   9.787
makeGenesDataFromTxDb   8.117  0.144   8.282
kpPlotBAMCoverage       6.539  0.311   6.868
addGeneNames            6.075  0.480   6.604
kpPlotManhattan         5.978  0.079   6.069
* checking for unstated dependencies in ‘tests’ ... OK
* checking tests ...
  Running ‘testthat.R’
 OK
* checking for unstated dependencies in vignettes ... OK
* checking package vignettes ... OK
* checking running R code from vignettes ... SKIPPED
* checking re-building of vignette outputs ... SKIPPED
* checking PDF version of manual ... OK
* DONE

Status: 4 NOTEs
See
  ‘/home/biocbuild/bbs-3.22-bioc/meat/karyoploteR.Rcheck/00check.log’
for details.


Installation output

karyoploteR.Rcheck/00install.out

##############################################################################
##############################################################################
###
### Running command:
###
###   /home/biocbuild/R/R/bin/R CMD INSTALL karyoploteR
###
##############################################################################
##############################################################################


* installing to library ‘/home/biocbuild/R/R-4.5.0/site-library’
* installing *source* package ‘karyoploteR’ ...
** this is package ‘karyoploteR’ version ‘1.36.0’
** using staged installation
** R
** inst
** byte-compile and prepare package for lazy loading
** help
*** installing help indices
** building package indices
** installing vignettes
** testing if installed package can be loaded from temporary location
** testing if installed package can be loaded from final location
** testing if installed package keeps a record of temporary installation path
* DONE (karyoploteR)

Tests output

karyoploteR.Rcheck/tests/testthat.Rout


R version 4.5.0 (2025-04-11) -- "How About a Twenty-Six"
Copyright (C) 2025 The R Foundation for Statistical Computing
Platform: aarch64-unknown-linux-gnu

R is free software and comes with ABSOLUTELY NO WARRANTY.
You are welcome to redistribute it under certain conditions.
Type 'license()' or 'licence()' for distribution details.

R is a collaborative project with many contributors.
Type 'contributors()' for more information and
'citation()' on how to cite R or R packages in publications.

Type 'demo()' for some demos, 'help()' for on-line help, or
'help.start()' for an HTML browser interface to help.
Type 'q()' to quit R.

> library(testthat)
> library(karyoploteR)
Loading required package: regioneR
Loading required package: GenomicRanges
Loading required package: stats4
Loading required package: BiocGenerics
Loading required package: generics

Attaching package: 'generics'

The following objects are masked from 'package:base':

    as.difftime, as.factor, as.ordered, intersect, is.element, setdiff,
    setequal, union


Attaching package: 'BiocGenerics'

The following objects are masked from 'package:stats':

    IQR, mad, sd, var, xtabs

The following objects are masked from 'package:base':

    Filter, Find, Map, Position, Reduce, anyDuplicated, aperm, append,
    as.data.frame, basename, cbind, colnames, dirname, do.call,
    duplicated, eval, evalq, get, grep, grepl, is.unsorted, lapply,
    mapply, match, mget, order, paste, pmax, pmax.int, pmin, pmin.int,
    rank, rbind, rownames, sapply, saveRDS, table, tapply, unique,
    unsplit, which.max, which.min

Loading required package: S4Vectors

Attaching package: 'S4Vectors'

The following object is masked from 'package:utils':

    findMatches

The following objects are masked from 'package:base':

    I, expand.grid, unname

Loading required package: IRanges
Loading required package: Seqinfo
> 
> test_check("karyoploteR")
[ FAIL 0 | WARN 0 | SKIP 3 | PASS 177 ]

══ Skipped tests (3) ═══════════════════════════════════════════════════════════
• empty test (3): 'test_plotKaryotype.R:27:1', 'test_plotKaryotype.R:34:1',
  'test_plotKaryotype.R:44:1'

[ FAIL 0 | WARN 0 | SKIP 3 | PASS 177 ]
> 
> proc.time()
   user  system elapsed 
 23.135   1.252  24.428 

Example timings

karyoploteR.Rcheck/karyoploteR-Ex.timings

nameusersystemelapsed
addGeneNames6.0750.4806.604
autotrack0.0010.0000.001
colByCategory0.0030.0000.003
colByChr0.7650.0520.820
colByRegion1.4080.1521.564
colByValue0.2570.0160.273
darker0.0010.0000.001
filterParams000
findIntersections0.1790.0110.191
getChromosomeNamesBoundingBox0.0680.0040.072
getColorSchemas0.0010.0010.002
getCytobandColors0.0000.0000.001
getCytobands0.0000.0020.002
getDataPanelBoundingBox0.0730.0000.074
getDefaultPlotParams0.1060.0030.110
getMainTitleBoundingBox0.0540.0010.054
getTextSize0.1200.0040.124
getVariantsColors0.0000.0000.001
horizonColors0.0010.0030.004
is.color0.0010.0010.001
kpAbline1.4320.0911.539
kpAddBaseNumbers0.5330.0280.563
kpAddChromosomeNames0.0540.0000.055
kpAddChromosomeSeparators0.7420.0320.777
kpAddColorRect0.2570.0120.269
kpAddCytobandLabels0.6140.0120.628
kpAddCytobands0.0520.0000.053
kpAddCytobandsAsLine0.1120.0000.113
kpAddLabels0.6870.0040.693
kpAddMainTitle0.0540.0000.054
kpArea0.5120.0120.526
kpArrows0.8710.0350.910
kpAxis0.5010.0200.522
kpBars0.2940.0200.316
kpDataBackground0.3550.0150.375
kpHeatmap0.2110.0040.216
kpLines0.4540.0120.468
kpPlotBAMCoverage6.5390.3116.868
kpPlotBAMDensity1.8850.0721.962
kpPlotBigWig2.2000.0442.254
kpPlotCoverage0.6050.0080.615
kpPlotDensity40.763 2.52243.685
kpPlotGenes 99.582 0.797100.688
kpPlotHorizon21.685 0.19621.946
kpPlotLinks1.4260.0281.459
kpPlotLoess0.1010.0000.102
kpPlotManhattan5.9780.0796.069
kpPlotMarkers2.4730.0082.487
kpPlotNames0.1650.0000.165
kpPlotRainfall1.1270.0001.130
kpPlotRegions16.721 0.03216.801
kpPlotRibbon0.1220.0000.122
kpPlotTranscripts9.7430.0169.787
kpPoints0.3890.0000.390
kpPolygon0.3310.0000.331
kpRect1.1300.0001.134
kpSegments0.7890.0000.792
kpText0.4820.0000.483
lighter0.0000.0000.001
makeGenesDataFromTxDb8.1170.1448.282
mergeTranscripts134.980 0.722136.106
plotDefaultPlotParams0.2830.0000.283
plotKaryotype1.5620.0001.565
plotPalettes0.0170.0040.022
prepareParameters20.0560.0000.056
prepareParameters40.0580.0000.059
processClipping0.0600.0000.059
transparent0.0010.0000.001