| Back to Multiple platform build/check report for BioC 3.22: simplified long | 
  | 
This page was generated on 2025-11-03 12:04 -0500 (Mon, 03 Nov 2025).
| Hostname | OS | Arch (*) | R version | Installed pkgs | 
|---|---|---|---|---|
| nebbiolo2 | Linux (Ubuntu 24.04.3 LTS) | x86_64 | 4.5.1 Patched (2025-08-23 r88802) -- "Great Square Root" | 4902 | 
| lconway | macOS 12.7.6 Monterey | x86_64 | 4.5.1 Patched (2025-09-10 r88807) -- "Great Square Root" | 4692 | 
| kjohnson3 | macOS 13.7.7 Ventura | arm64 | 4.5.1 Patched (2025-09-10 r88807) -- "Great Square Root" | 4638 | 
| Click on any hostname to see more info about the system (e.g. compilers) (*) as reported by 'uname -p', except on Windows and Mac OS X | ||||
| Package 1750/2361 | Hostname | OS / Arch | INSTALL | BUILD | CHECK | BUILD BIN | ||||||||
| recount 1.36.0  (landing page) Leonardo Collado-Torres 
  | nebbiolo2 | Linux (Ubuntu 24.04.3 LTS) / x86_64 | OK | OK | OK | |||||||||
| lconway | macOS 12.7.6 Monterey / x86_64 | OK | OK | OK | OK | |||||||||
| kjohnson3 | macOS 13.7.7 Ventura / arm64 | OK | OK | OK | OK | |||||||||
| 
To the developers/maintainers of the recount package: - Allow up to 24 hours (and sometimes 48 hours) for your latest push to git@git.bioconductor.org:packages/recount.git to reflect on this report. See Troubleshooting Build Report for more information. - Use the following Renviron settings to reproduce errors and warnings. - If 'R CMD check' started to fail recently on the Linux builder(s) over a missing dependency, add the missing dependency to 'Suggests:' in your DESCRIPTION file. See Renviron.bioc for more information.  | 
| Package: recount | 
| Version: 1.36.0 | 
| Command: /Library/Frameworks/R.framework/Resources/bin/R CMD build --keep-empty-dirs --no-resave-data recount | 
| StartedAt: 2025-11-02 18:27:28 -0500 (Sun, 02 Nov 2025) | 
| EndedAt: 2025-11-02 18:35:53 -0500 (Sun, 02 Nov 2025) | 
| EllapsedTime: 504.5 seconds | 
| RetCode: 0 | 
| Status: OK | 
| PackageFile: recount_1.36.0.tar.gz | 
| PackageFileSize: 7.472 MiB | 
##############################################################################
##############################################################################
###
### Running command:
###
###   /Library/Frameworks/R.framework/Resources/bin/R CMD build --keep-empty-dirs --no-resave-data recount
###
##############################################################################
##############################################################################
* checking for file ‘recount/DESCRIPTION’ ... OK
* preparing ‘recount’:
* checking DESCRIPTION meta-information ... OK
* installing the package to build vignettes
* creating vignettes ... OK
* checking for LF line-endings in source and make files and shell scripts
* checking for empty or unneeded directories
  NB: this package now depends on R (>= 3.5.0)
  WARNING: Added dependency on R >= 3.5.0 because serialized objects in
  serialize/load version 3 cannot be read in older versions of R.
  File(s) containing such objects:
    ‘recount/data/recount_exons.RData’ ‘recount/data/recount_genes.RData’
    ‘recount/data/rse_gene_SRP009615.RData’
* building ‘recount_1.36.0.tar.gz’