| Back to Multiple platform build/check report for BioC 3.21: simplified long |
|
This page was generated on 2025-10-16 11:41 -0400 (Thu, 16 Oct 2025).
| Hostname | OS | Arch (*) | R version | Installed pkgs |
|---|---|---|---|---|
| nebbiolo1 | Linux (Ubuntu 24.04.3 LTS) | x86_64 | 4.5.1 (2025-06-13) -- "Great Square Root" | 4833 |
| merida1 | macOS 12.7.6 Monterey | x86_64 | 4.5.1 RC (2025-06-05 r88288) -- "Great Square Root" | 4614 |
| kjohnson1 | macOS 13.7.5 Ventura | arm64 | 4.5.1 Patched (2025-06-14 r88325) -- "Great Square Root" | 4555 |
| kunpeng2 | Linux (openEuler 24.03 LTS) | aarch64 | R Under development (unstable) (2025-02-19 r87757) -- "Unsuffered Consequences" | 4586 |
| Click on any hostname to see more info about the system (e.g. compilers) (*) as reported by 'uname -p', except on Windows and Mac OS X | ||||
| Package 1661/2341 | Hostname | OS / Arch | INSTALL | BUILD | CHECK | BUILD BIN | ||||||||
| qPLEXanalyzer 1.26.0 (landing page) Ashley Sawle
| nebbiolo1 | Linux (Ubuntu 24.04.3 LTS) / x86_64 | OK | OK | OK | |||||||||
| merida1 | macOS 12.7.6 Monterey / x86_64 | OK | OK | OK | OK | |||||||||
| kjohnson1 | macOS 13.7.5 Ventura / arm64 | OK | OK | OK | OK | |||||||||
| kunpeng2 | Linux (openEuler 24.03 LTS) / aarch64 | OK | OK | OK | ||||||||||
|
To the developers/maintainers of the qPLEXanalyzer package: - Allow up to 24 hours (and sometimes 48 hours) for your latest push to git@git.bioconductor.org:packages/qPLEXanalyzer.git to reflect on this report. See Troubleshooting Build Report for more information. - Use the following Renviron settings to reproduce errors and warnings. - If 'R CMD check' started to fail recently on the Linux builder(s) over a missing dependency, add the missing dependency to 'Suggests:' in your DESCRIPTION file. See Renviron.bioc for more information. - See Martin Grigorov's blog post for how to debug Linux ARM64 related issues on a x86_64 host. |
| Package: qPLEXanalyzer |
| Version: 1.26.0 |
| Command: /home/biocbuild/R/R/bin/R CMD check --install=check:qPLEXanalyzer.install-out.txt --library=/home/biocbuild/R/R/site-library --no-vignettes --timings qPLEXanalyzer_1.26.0.tar.gz |
| StartedAt: 2025-10-14 12:54:13 -0000 (Tue, 14 Oct 2025) |
| EndedAt: 2025-10-14 13:00:46 -0000 (Tue, 14 Oct 2025) |
| EllapsedTime: 392.4 seconds |
| RetCode: 0 |
| Status: OK |
| CheckDir: qPLEXanalyzer.Rcheck |
| Warnings: 0 |
##############################################################################
##############################################################################
###
### Running command:
###
### /home/biocbuild/R/R/bin/R CMD check --install=check:qPLEXanalyzer.install-out.txt --library=/home/biocbuild/R/R/site-library --no-vignettes --timings qPLEXanalyzer_1.26.0.tar.gz
###
##############################################################################
##############################################################################
* using log directory ‘/home/biocbuild/bbs-3.21-bioc/meat/qPLEXanalyzer.Rcheck’
* using R Under development (unstable) (2025-02-19 r87757)
* using platform: aarch64-unknown-linux-gnu
* R was compiled by
aarch64-unknown-linux-gnu-gcc (GCC) 14.2.0
GNU Fortran (GCC) 14.2.0
* running under: openEuler 24.03 (LTS-SP1)
* using session charset: UTF-8
* using option ‘--no-vignettes’
* checking for file ‘qPLEXanalyzer/DESCRIPTION’ ... OK
* checking extension type ... Package
* this is package ‘qPLEXanalyzer’ version ‘1.26.0’
* package encoding: UTF-8
* checking package namespace information ... OK
* checking package dependencies ... OK
* checking if this is a source package ... OK
* checking if there is a namespace ... OK
* checking for hidden files and directories ... OK
* checking for portable file names ... OK
* checking for sufficient/correct file permissions ... OK
* checking whether package ‘qPLEXanalyzer’ can be installed ... OK
* checking installed package size ... OK
* checking package directory ... OK
* checking ‘build’ directory ... OK
* checking DESCRIPTION meta-information ... OK
* checking top-level files ... OK
* checking for left-over files ... OK
* checking index information ... OK
* checking package subdirectories ... NOTE
Problems with news in ‘NEWS’:
Cannot process chunk/lines:
Updates to vignette to avoid build errors when attempting to connect to Uniprot
* checking code files for non-ASCII characters ... OK
* checking R files for syntax errors ... OK
* checking whether the package can be loaded ... OK
* checking whether the package can be loaded with stated dependencies ... OK
* checking whether the package can be unloaded cleanly ... OK
* checking whether the namespace can be loaded with stated dependencies ... OK
* checking whether the namespace can be unloaded cleanly ... OK
* checking loading without being on the library search path ... OK
* checking dependencies in R code ... OK
* checking S3 generic/method consistency ... OK
* checking replacement functions ... OK
* checking foreign function calls ... OK
* checking R code for possible problems ... NOTE
coefVar: no visible binding for global variable ‘SampleName’
coefVar: no visible binding for global variable ‘CV’
coefVar: no visible binding for global variable ‘cum_sum’
coefVar: no visible binding for global variable ‘fraction’
convertToMSnset: no visible binding for global variable ‘SampleName’
corrPlot: no visible binding for global variable ‘X’
corrPlot: no visible binding for global variable ‘AddValues’
corrPlot: no visible binding for global variable ‘Cor’
corrPlot: no visible binding for global variable ‘Y’
corrPlot: no visible binding for global variable ‘CorTxt’
coveragePlot: no visible binding for global variable ‘Accessions’
coveragePlot: no visible binding for global variable ‘Sequences’
getContrastResults: no visible binding for global variable ‘B’
getContrastResults: no visible binding for global variable ‘AveExpr’
getContrastResults: no visible binding for global variable ‘logFC’
groupScaling: no visible binding for global variable ‘sInt’
groupScaling: no visible binding for global variable
‘meanscaledIntensity’
hierarchicalPlot: no visible binding for global variable ‘x’
hierarchicalPlot: no visible binding for global variable ‘y’
hierarchicalPlot: no visible binding for global variable ‘xend’
hierarchicalPlot: no visible binding for global variable ‘yend’
hierarchicalPlot: no visible binding for global variable ‘SampleName’
intensityBoxplot: no visible binding for global variable ‘Intensity’
intensityBoxplot: no visible binding for global variable ‘logInt’
intensityBoxplot: no visible binding for global variable ‘SampleName’
intensityPlot: no visible binding for global variable ‘Intensity’
intensityPlot: no visible binding for global variable ‘SampleName’
maVolPlot: no visible binding for global variable ‘group’
maVolPlot: no visible binding for global variable ‘adj.P.Val’
maVolPlot: no visible binding for global variable ‘GeneSymbol’
maVolPlot: no visible binding for global variable ‘SymbolLab’
mergePeptides: no visible binding for global variable ‘Accessions’
mergePeptides: no visible binding for global variable ‘Sequences’
mergePeptides: no visible binding for global variable ‘Seq_Acc’
mergePeptides: no visible global function definition for ‘where’
mergePeptides: no visible binding for global variable ‘Count’
mergeSites: no visible binding for global variable ‘Accessions’
mergeSites: no visible binding for global variable ‘Sites’
mergeSites: no visible binding for global variable ‘Type’
mergeSites: no visible binding for global variable ‘Sites_Acc’
mergeSites: no visible global function definition for ‘where’
mergeSites: no visible binding for global variable ‘Count’
peptideIntensityPlot: no visible binding for global variable
‘PeptideID’
peptideIntensityPlot: no visible binding for global variable
‘Intensity’
peptideIntensityPlot: no visible binding for global variable
‘Accessions’
peptideIntensityPlot: no visible binding for global variable
‘SampleName’
peptideIntensityPlot: no visible binding for global variable
‘logIntensity’
peptideIntensityPlot: no visible binding for global variable
‘Sequences’
peptideIntensityPlot: no visible binding for global variable
‘Modifications’
plotMeanVar: no visible binding for global variable ‘x’
plotMeanVar: no visible binding for global variable ‘y’
plotMeanVar: no visible binding for global variable ‘Mean’
plotMeanVar: no visible binding for global variable ‘Variance’
rliPlot: no visible binding for global variable ‘RowID’
rliPlot: no visible binding for global variable ‘Intensity’
rliPlot: no visible binding for global variable ‘logInt’
rliPlot: no visible binding for global variable ‘medianLogInt’
rliPlot: no visible binding for global variable ‘SampleName’
rliPlot: no visible binding for global variable ‘RLI’
summarizeIntensities: no visible binding for global variable
‘Accessions’
summarizeIntensities: no visible binding for global variable
‘Sequences’
summarizeIntensities: no visible global function definition for ‘where’
summarizeIntensities: no visible binding for global variable ‘Count’
Undefined global functions or variables:
Accessions AddValues AveExpr B CV Cor CorTxt Count GeneSymbol
Intensity Mean Modifications PeptideID RLI RowID SampleName Seq_Acc
Sequences Sites Sites_Acc SymbolLab Type Variance X Y adj.P.Val
cum_sum fraction group logFC logInt logIntensity meanscaledIntensity
medianLogInt sInt where x xend y yend
* checking Rd files ... OK
* checking Rd metadata ... OK
* checking Rd cross-references ... NOTE
Found the following Rd file(s) with Rd \link{} targets missing package
anchors:
IRSnorm.Rd: MSnSet-class
computeDiffStats.Rd: limma, MSnSet-class, eBayes
convertToMSnset.Rd: MSnSet-class
groupScaling.Rd: MSnSet-class
mergePeptides.Rd: MSnSet-class
mergeSites.Rd: MSnSet-class
normalizeQuantiles.Rd: MSnSet-class
normalizeScaling.Rd: MSnSet-class
regressIntensity.Rd: MSnSet-class
rowScaling.Rd: MSnSet-class
summarizeIntensities.Rd: MSnSet-class
Please provide package anchors for all Rd \link{} targets not in the
package itself and the base packages.
* checking for missing documentation entries ... OK
* checking for code/documentation mismatches ... OK
* checking Rd \usage sections ... OK
* checking Rd contents ... OK
* checking for unstated dependencies in examples ... OK
* checking contents of ‘data’ directory ... OK
* checking data for non-ASCII characters ... OK
* checking data for ASCII and uncompressed saves ... OK
* checking files in ‘vignettes’ ... OK
* checking examples ... OK
* checking for unstated dependencies in vignettes ... OK
* checking package vignettes ... OK
* checking running R code from vignettes ... SKIPPED
* checking re-building of vignette outputs ... SKIPPED
* checking PDF version of manual ... OK
* DONE
Status: 3 NOTEs
See
‘/home/biocbuild/bbs-3.21-bioc/meat/qPLEXanalyzer.Rcheck/00check.log’
for details.
qPLEXanalyzer.Rcheck/00install.out
############################################################################## ############################################################################## ### ### Running command: ### ### /home/biocbuild/R/R/bin/R CMD INSTALL qPLEXanalyzer ### ############################################################################## ############################################################################## * installing to library ‘/home/biocbuild/R/R-devel_2025-02-19/site-library’ * installing *source* package ‘qPLEXanalyzer’ ... ** this is package ‘qPLEXanalyzer’ version ‘1.26.0’ ** using staged installation ** R ** data ** inst ** byte-compile and prepare package for lazy loading Note: wrong number of arguments to '==' Note: wrong number of arguments to '==' ** help *** installing help indices ** building package indices ** installing vignettes ** testing if installed package can be loaded from temporary location ** testing if installed package can be loaded from final location ** testing if installed package keeps a record of temporary installation path * DONE (qPLEXanalyzer)
qPLEXanalyzer.Rcheck/qPLEXanalyzer-Ex.timings
| name | user | system | elapsed | |
| IRSnorm | 3.605 | 0.032 | 3.643 | |
| assignColours | 0.272 | 0.004 | 0.277 | |
| coefVar | 1.548 | 0.096 | 1.647 | |
| computeDiffStats | 0.629 | 0.016 | 0.647 | |
| convertToMSnset | 0.256 | 0.000 | 0.257 | |
| corrPlot | 1.354 | 0.032 | 1.389 | |
| coveragePlot | 1.139 | 0.004 | 1.146 | |
| getContrastResults | 0.719 | 0.008 | 0.729 | |
| groupScaling | 0.306 | 0.000 | 0.306 | |
| hierarchicalPlot | 1.612 | 0.108 | 1.723 | |
| intensityBoxplot | 1.715 | 0.043 | 1.762 | |
| intensityPlot | 1.548 | 0.009 | 1.559 | |
| maVolPlot | 1.715 | 0.007 | 1.727 | |
| mergePeptides | 0.832 | 0.012 | 0.846 | |
| mergeSites | 0.256 | 0.000 | 0.256 | |
| normalizeQuantiles | 0.258 | 0.004 | 0.268 | |
| normalizeScaling | 0.257 | 0.020 | 0.277 | |
| pcaPlot | 1.214 | 0.012 | 1.228 | |
| peptideIntensityPlot | 1.116 | 0.003 | 1.121 | |
| plotMeanVar | 0.841 | 0.008 | 0.851 | |
| regressIntensity | 2.759 | 0.020 | 2.785 | |
| rliPlot | 2.694 | 0.008 | 2.707 | |
| rowScaling | 0.697 | 0.000 | 0.699 | |
| summarizeIntensities | 0.474 | 0.008 | 0.482 | |