| Back to Multiple platform build/check report for BioC 3.21: simplified long | 
 | 
This page was generated on 2025-04-22 13:16 -0400 (Tue, 22 Apr 2025).
| Hostname | OS | Arch (*) | R version | Installed pkgs | 
|---|---|---|---|---|
| nebbiolo1 | Linux (Ubuntu 24.04.1 LTS) | x86_64 | 4.5.0 RC (2025-04-04 r88126) -- "How About a Twenty-Six" | 4831 | 
| palomino7 | Windows Server 2022 Datacenter | x64 | 4.5.0 RC (2025-04-04 r88126 ucrt) -- "How About a Twenty-Six" | 4573 | 
| lconway | macOS 12.7.1 Monterey | x86_64 | 4.5.0 RC (2025-04-04 r88126) -- "How About a Twenty-Six" | 4599 | 
| kjohnson3 | macOS 13.7.1 Ventura | arm64 | 4.5.0 RC (2025-04-04 r88126) -- "How About a Twenty-Six" | 4553 | 
| kunpeng2 | Linux (openEuler 24.03 LTS) | aarch64 | R Under development (unstable) (2025-02-19 r87757) -- "Unsuffered Consequences" | 4570 | 
| Click on any hostname to see more info about the system (e.g. compilers) (*) as reported by 'uname -p', except on Windows and Mac OS X | ||||
| Package 1606/2341 | Hostname | OS / Arch | INSTALL | BUILD | CHECK | BUILD BIN | ||||||||
| poem 1.0.0  (landing page) Siyuan Luo 
 | nebbiolo1 | Linux (Ubuntu 24.04.1 LTS) / x86_64 | OK | OK | WARNINGS |  | ||||||||
| palomino7 | Windows Server 2022 Datacenter / x64 | OK | OK | WARNINGS | OK |  | ||||||||
| lconway | macOS 12.7.1 Monterey / x86_64 | OK | OK | WARNINGS | OK |  | ||||||||
| kjohnson3 | macOS 13.7.1 Ventura / arm64 | OK | OK | WARNINGS | OK |  | ||||||||
| kunpeng2 | Linux (openEuler 24.03 LTS) / aarch64 | OK | OK | WARNINGS | ||||||||||
| To the developers/maintainers of the poem package: - Allow up to 24 hours (and sometimes 48 hours) for your latest push to git@git.bioconductor.org:packages/poem.git to reflect on this report. See Troubleshooting Build Report for more information. - Use the following Renviron settings to reproduce errors and warnings. - If 'R CMD check' started to fail recently on the Linux builder(s) over a missing dependency, add the missing dependency to 'Suggests:' in your DESCRIPTION file. See Renviron.bioc for more information. | 
| Package: poem | 
| Version: 1.0.0 | 
| Command: /Library/Frameworks/R.framework/Resources/bin/R CMD check --install=check:poem.install-out.txt --library=/Library/Frameworks/R.framework/Resources/library --no-vignettes --timings poem_1.0.0.tar.gz | 
| StartedAt: 2025-04-21 22:41:45 -0400 (Mon, 21 Apr 2025) | 
| EndedAt: 2025-04-21 22:47:35 -0400 (Mon, 21 Apr 2025) | 
| EllapsedTime: 350.0 seconds | 
| RetCode: 0 | 
| Status: WARNINGS | 
| CheckDir: poem.Rcheck | 
| Warnings: 1 | 
##############################################################################
##############################################################################
###
### Running command:
###
###   /Library/Frameworks/R.framework/Resources/bin/R CMD check --install=check:poem.install-out.txt --library=/Library/Frameworks/R.framework/Resources/library --no-vignettes --timings poem_1.0.0.tar.gz
###
##############################################################################
##############################################################################
* using log directory ‘/Users/biocbuild/bbs-3.21-bioc/meat/poem.Rcheck’
* using R version 4.5.0 RC (2025-04-04 r88126)
* using platform: x86_64-apple-darwin20
* R was compiled by
    Apple clang version 14.0.0 (clang-1400.0.29.202)
    GNU Fortran (GCC) 14.2.0
* running under: macOS Monterey 12.7.6
* using session charset: UTF-8
* using option ‘--no-vignettes’
* checking for file ‘poem/DESCRIPTION’ ... OK
* this is package ‘poem’ version ‘1.0.0’
* package encoding: UTF-8
* checking package namespace information ... OK
* checking package dependencies ... OK
* checking if this is a source package ... OK
* checking if there is a namespace ... OK
* checking for hidden files and directories ... OK
* checking for portable file names ... OK
* checking for sufficient/correct file permissions ... OK
* checking whether package ‘poem’ can be installed ... OK
* checking installed package size ... OK
* checking package directory ... OK
* checking ‘build’ directory ... OK
* checking DESCRIPTION meta-information ... OK
* checking top-level files ... OK
* checking for left-over files ... OK
* checking index information ... OK
* checking package subdirectories ... OK
* checking code files for non-ASCII characters ... OK
* checking R files for syntax errors ... OK
* checking whether the package can be loaded ... OK
* checking whether the package can be loaded with stated dependencies ... OK
* checking whether the package can be unloaded cleanly ... OK
* checking whether the namespace can be loaded with stated dependencies ... OK
* checking whether the namespace can be unloaded cleanly ... OK
* checking dependencies in R code ... OK
* checking S3 generic/method consistency ... OK
* checking replacement functions ... OK
* checking foreign function calls ... OK
* checking R code for possible problems ... OK
* checking Rd files ... OK
* checking Rd metadata ... OK
* checking Rd cross-references ... WARNING
Missing link(s) in Rd file 'fuzzyHardMetrics.Rd':
  ‘FuzzyPartitionMetrics’
See section 'Cross-references' in the 'Writing R Extensions' manual.
Found the following Rd file(s) with Rd \link{} targets missing package
anchors:
  fuzzyHardMetrics.Rd: FuzzyPartitionMetrics
Please provide package anchors for all Rd \link{} targets not in the
package itself and the base packages.
* checking for missing documentation entries ... OK
* checking for code/documentation mismatches ... OK
* checking Rd \usage sections ... OK
* checking Rd contents ... OK
* checking for unstated dependencies in examples ... OK
* checking contents of ‘data’ directory ... OK
* checking data for non-ASCII characters ... OK
* checking data for ASCII and uncompressed saves ... OK
* checking files in ‘vignettes’ ... OK
* checking examples ... OK
* checking for unstated dependencies in ‘tests’ ... OK
* checking tests ...
  Running ‘testthat.R’
 OK
* checking for unstated dependencies in vignettes ... OK
* checking package vignettes ... OK
* checking running R code from vignettes ... SKIPPED
* checking re-building of vignette outputs ... SKIPPED
* checking PDF version of manual ... OK
* DONE
Status: 1 WARNING
See
  ‘/Users/biocbuild/bbs-3.21-bioc/meat/poem.Rcheck/00check.log’
for details.
poem.Rcheck/00install.out
############################################################################## ############################################################################## ### ### Running command: ### ### /Library/Frameworks/R.framework/Resources/bin/R CMD INSTALL poem ### ############################################################################## ############################################################################## * installing to library ‘/Library/Frameworks/R.framework/Versions/4.5-x86_64/Resources/library’ * installing *source* package ‘poem’ ... ** this is package ‘poem’ version ‘1.0.0’ ** using staged installation ** R ** data ** inst ** byte-compile and prepare package for lazy loading ** help *** installing help indices ** building package indices ** installing vignettes ** testing if installed package can be loaded from temporary location ** testing if installed package can be loaded from final location ** testing if installed package keeps a record of temporary installation path * DONE (poem)
poem.Rcheck/tests/testthat.Rout
R version 4.5.0 RC (2025-04-04 r88126) -- "How About a Twenty-Six"
Copyright (C) 2025 The R Foundation for Statistical Computing
Platform: x86_64-apple-darwin20
R is free software and comes with ABSOLUTELY NO WARRANTY.
You are welcome to redistribute it under certain conditions.
Type 'license()' or 'licence()' for distribution details.
R is a collaborative project with many contributors.
Type 'contributors()' for more information and
'citation()' on how to cite R or R packages in publications.
Type 'demo()' for some demos, 'help()' for on-line help, or
'help.start()' for an HTML browser interface to help.
Type 'q()' to quit R.
> # This file is part of the standard setup for testthat.
> # It is recommended that you do not modify it.
> #
> # Where should you do additional test configuration?
> # Learn more about the roles of various files in:
> # * https://r-pkgs.org/tests.html
> # * https://testthat.r-lib.org/reference/test_package.html#special-files
> 
> library(testthat)
> library(poem)
> 
> test_check("poem")
Standard error of the mean NDC across permutations:0.00342
You might want to increase the number of permutations to increase the robustness of the adjusted metrics.
Comparing between a fuzzy truth and a fuzzy prediction...
Running 100 extra permutations.
Standard error of the mean NDC across permutations:0.00227
Comparing between a fuzzy truth and a fuzzy prediction...
Running 100 extra permutations.
Standard error of the mean NDC across permutations:0.00228
Comparing between a fuzzy truth and a fuzzy prediction...
Comparing between a fuzzy truth and a hard prediction...
Standard error of the mean NDC across permutations:0.000185
the specified variable is considered as categorical...
the specified variable is considered as categorical...
the specified variable is considered as categorical...
Comparing between a fuzzy truth and a hard prediction...
Standard error of the mean NDC across permutations:0.000889
Comparing between a fuzzy truth and a hard prediction...
Standard error of the mean NDC across permutations:0.000296
Comparing between a fuzzy truth and a hard prediction...
Comparing between a fuzzy truth and a hard prediction...
[ FAIL 0 | WARN 14 | SKIP 0 | PASS 57 ]
[ FAIL 0 | WARN 14 | SKIP 0 | PASS 57 ]
> 
> proc.time()
   user  system elapsed 
 19.031   0.935  20.150 
poem.Rcheck/poem-Ex.timings
| name | user | system | elapsed | |
| CDbw | 0.030 | 0.001 | 0.031 | |
| CHAOS | 0.011 | 0.002 | 0.015 | |
| ELSA | 0.369 | 0.041 | 0.416 | |
| PAS | 0.108 | 0.008 | 0.118 | |
| dbcv | 0.113 | 0.009 | 0.122 | |
| emb2knn | 0.004 | 0.003 | 0.007 | |
| emb2snn | 0.009 | 0.001 | 0.010 | |
| findSpatialKNN | 0.016 | 0.011 | 0.029 | |
| fuzzyHardMetrics | 0.063 | 0.001 | 0.064 | |
| fuzzyHardMetrics2 | 0.029 | 0.000 | 0.031 | |
| fuzzyHardSpotConcordance | 0.003 | 0.000 | 0.003 | |
| fuzzyPartitionMetrics | 0 | 0 | 0 | |
| fuzzySpotConcordance | 0.000 | 0.000 | 0.001 | |
| getEmbeddingMetrics | 0.040 | 0.001 | 0.041 | |
| getFuzzyLabel | 0.031 | 0.005 | 0.036 | |
| getFuzzyPartitionMetrics | 0.091 | 0.002 | 0.093 | |
| getGraphMetrics | 0.071 | 0.003 | 0.074 | |
| getNeighboringPairConcordance | 0.044 | 0.003 | 0.046 | |
| getPartitionMetrics | 0.040 | 0.001 | 0.041 | |
| getSpatialExternalMetrics | 0.497 | 0.028 | 0.529 | |
| getSpatialInternalMetrics | 0.301 | 0.006 | 0.309 | |
| knnComposition | 0.040 | 0.006 | 0.047 | |
| mockData | 0.001 | 0.000 | 0.002 | |
| spatialARI | 0.012 | 0.002 | 0.015 | |