| Back to Multiple platform build/check report for BioC 3.21: simplified long |
|
This page was generated on 2025-10-16 11:39 -0400 (Thu, 16 Oct 2025).
| Hostname | OS | Arch (*) | R version | Installed pkgs |
|---|---|---|---|---|
| nebbiolo1 | Linux (Ubuntu 24.04.3 LTS) | x86_64 | 4.5.1 (2025-06-13) -- "Great Square Root" | 4833 |
| merida1 | macOS 12.7.6 Monterey | x86_64 | 4.5.1 RC (2025-06-05 r88288) -- "Great Square Root" | 4614 |
| kjohnson1 | macOS 13.7.5 Ventura | arm64 | 4.5.1 Patched (2025-06-14 r88325) -- "Great Square Root" | 4555 |
| kunpeng2 | Linux (openEuler 24.03 LTS) | aarch64 | R Under development (unstable) (2025-02-19 r87757) -- "Unsuffered Consequences" | 4586 |
| Click on any hostname to see more info about the system (e.g. compilers) (*) as reported by 'uname -p', except on Windows and Mac OS X | ||||
| Package 1601/2341 | Hostname | OS / Arch | INSTALL | BUILD | CHECK | BUILD BIN | ||||||||
| plyxp 1.2.7 (landing page) Justin Landis
| nebbiolo1 | Linux (Ubuntu 24.04.3 LTS) / x86_64 | OK | OK | OK | |||||||||
| merida1 | macOS 12.7.6 Monterey / x86_64 | OK | OK | OK | OK | |||||||||
| kjohnson1 | macOS 13.7.5 Ventura / arm64 | OK | OK | OK | OK | |||||||||
| kunpeng2 | Linux (openEuler 24.03 LTS) / aarch64 | OK | OK | OK | ||||||||||
|
To the developers/maintainers of the plyxp package: - Allow up to 24 hours (and sometimes 48 hours) for your latest push to git@git.bioconductor.org:packages/plyxp.git to reflect on this report. See Troubleshooting Build Report for more information. - Use the following Renviron settings to reproduce errors and warnings. - If 'R CMD check' started to fail recently on the Linux builder(s) over a missing dependency, add the missing dependency to 'Suggests:' in your DESCRIPTION file. See Renviron.bioc for more information. |
| Package: plyxp |
| Version: 1.2.7 |
| Command: /Library/Frameworks/R.framework/Resources/bin/R CMD check --install=check:plyxp.install-out.txt --library=/Library/Frameworks/R.framework/Resources/library --no-vignettes --timings plyxp_1.2.7.tar.gz |
| StartedAt: 2025-10-14 08:19:19 -0400 (Tue, 14 Oct 2025) |
| EndedAt: 2025-10-14 08:25:48 -0400 (Tue, 14 Oct 2025) |
| EllapsedTime: 388.9 seconds |
| RetCode: 0 |
| Status: OK |
| CheckDir: plyxp.Rcheck |
| Warnings: 0 |
##############################################################################
##############################################################################
###
### Running command:
###
### /Library/Frameworks/R.framework/Resources/bin/R CMD check --install=check:plyxp.install-out.txt --library=/Library/Frameworks/R.framework/Resources/library --no-vignettes --timings plyxp_1.2.7.tar.gz
###
##############################################################################
##############################################################################
* using log directory ‘/Users/biocbuild/bbs-3.21-bioc/meat/plyxp.Rcheck’
* using R version 4.5.1 RC (2025-06-05 r88288)
* using platform: x86_64-apple-darwin20
* R was compiled by
Apple clang version 14.0.0 (clang-1400.0.29.202)
GNU Fortran (GCC) 14.2.0
* running under: macOS Monterey 12.7.6
* using session charset: UTF-8
* using option ‘--no-vignettes’
* checking for file ‘plyxp/DESCRIPTION’ ... OK
* this is package ‘plyxp’ version ‘1.2.7’
* package encoding: UTF-8
* checking package namespace information ... OK
* checking package dependencies ... OK
* checking if this is a source package ... OK
* checking if there is a namespace ... OK
* checking for hidden files and directories ... OK
* checking for portable file names ... OK
* checking for sufficient/correct file permissions ... OK
* checking whether package ‘plyxp’ can be installed ... OK
* checking installed package size ... OK
* checking package directory ... OK
* checking ‘build’ directory ... OK
* checking DESCRIPTION meta-information ... OK
* checking top-level files ... OK
* checking for left-over files ... OK
* checking index information ... OK
* checking package subdirectories ... OK
* checking code files for non-ASCII characters ... OK
* checking R files for syntax errors ... OK
* checking whether the package can be loaded ... OK
* checking whether the package can be loaded with stated dependencies ... OK
* checking whether the package can be unloaded cleanly ... OK
* checking whether the namespace can be loaded with stated dependencies ... OK
* checking whether the namespace can be unloaded cleanly ... OK
* checking dependencies in R code ... OK
* checking S3 generic/method consistency ... OK
* checking replacement functions ... OK
* checking foreign function calls ... OK
* checking R code for possible problems ... OK
* checking Rd files ... OK
* checking Rd metadata ... OK
* checking Rd cross-references ... OK
* checking for missing documentation entries ... OK
* checking for code/documentation mismatches ... OK
* checking Rd \usage sections ... OK
* checking Rd contents ... OK
* checking for unstated dependencies in examples ... OK
* checking contents of ‘data’ directory ... OK
* checking data for non-ASCII characters ... OK
* checking LazyData ... OK
* checking data for ASCII and uncompressed saves ... OK
* checking files in ‘vignettes’ ... OK
* checking examples ... OK
* checking for unstated dependencies in ‘tests’ ... OK
* checking tests ...
Running ‘testthat.R’
OK
* checking for unstated dependencies in vignettes ... OK
* checking package vignettes ... OK
* checking running R code from vignettes ... SKIPPED
* checking re-building of vignette outputs ... SKIPPED
* checking PDF version of manual ... OK
* DONE
Status: OK
plyxp.Rcheck/00install.out
############################################################################## ############################################################################## ### ### Running command: ### ### /Library/Frameworks/R.framework/Resources/bin/R CMD INSTALL plyxp ### ############################################################################## ############################################################################## * installing to library ‘/Library/Frameworks/R.framework/Versions/4.5-x86_64/Resources/library’ * installing *source* package ‘plyxp’ ... ** this is package ‘plyxp’ version ‘1.2.7’ ** using staged installation ** R ** data *** moving datasets to lazyload DB ** byte-compile and prepare package for lazy loading ** help *** installing help indices *** copying figures ** building package indices ** installing vignettes ** testing if installed package can be loaded from temporary location ** testing if installed package can be loaded from final location ** testing if installed package keeps a record of temporary installation path * DONE (plyxp)
plyxp.Rcheck/tests/testthat.Rout
R version 4.5.1 RC (2025-06-05 r88288) -- "Great Square Root"
Copyright (C) 2025 The R Foundation for Statistical Computing
Platform: x86_64-apple-darwin20
R is free software and comes with ABSOLUTELY NO WARRANTY.
You are welcome to redistribute it under certain conditions.
Type 'license()' or 'licence()' for distribution details.
R is a collaborative project with many contributors.
Type 'contributors()' for more information and
'citation()' on how to cite R or R packages in publications.
Type 'demo()' for some demos, 'help()' for on-line help, or
'help.start()' for an HTML browser interface to help.
Type 'q()' to quit R.
> library("testthat")
> library("plyxp")
Attaching package: 'plyxp'
The following object is masked from 'package:stats':
filter
>
> test_check("plyxp")
[ FAIL 0 | WARN 0 | SKIP 6 | PASS 120 ]
══ Skipped tests (6) ═══════════════════════════════════════════════════════════
• On CRAN (6): 'test_printing.R:2:3', 'test_printing.R:6:3',
'test_printing.R:13:3', 'test_printing.R:20:3', 'test_printing.R:24:3',
'test_printing.R:28:3'
[ FAIL 0 | WARN 0 | SKIP 6 | PASS 120 ]
>
> proc.time()
user system elapsed
25.710 1.304 27.678
plyxp.Rcheck/plyxp-Ex.timings
| name | user | system | elapsed | |
| PlySummarizedExperiment-methods | 0.094 | 0.015 | 0.109 | |
| arrange | 1.188 | 0.028 | 1.293 | |
| as.data.frame | 0.018 | 0.003 | 0.022 | |
| dot-pronouns | 0.312 | 0.029 | 0.361 | |
| filter | 1.034 | 0.024 | 1.119 | |
| group_by | 0.399 | 0.004 | 0.418 | |
| group_data | 0.286 | 0.004 | 0.308 | |
| group_vars | 0.157 | 0.001 | 0.167 | |
| mutate | 0.413 | 0.002 | 0.439 | |
| new_plyxp | 0.208 | 0.002 | 0.221 | |
| plyxp-context | 0.292 | 0.002 | 0.303 | |
| plyxp-printing | 0.579 | 0.012 | 0.599 | |
| plyxp | 0.241 | 0.002 | 0.243 | |
| pull | 0.155 | 0.003 | 0.157 | |
| reexports | 0.579 | 0.003 | 0.585 | |
| se_simple | 0.020 | 0.001 | 0.022 | |
| select | 1.079 | 0.005 | 1.088 | |
| summarize | 1.343 | 0.007 | 1.392 | |
| vctrs-vec_recycle | 0.022 | 0.001 | 0.023 | |
| vctrs-vec_rep | 0.079 | 0.001 | 0.083 | |
| vctrs_slice | 0.012 | 0.001 | 0.013 | |