Back to Multiple platform build/check report for BioC 3.21:   simplified   long
ABCDEFGHIJKLMNO[P]QRSTUVWXYZ

This page was generated on 2025-10-16 11:39 -0400 (Thu, 16 Oct 2025).

HostnameOSArch (*)R versionInstalled pkgs
nebbiolo1Linux (Ubuntu 24.04.3 LTS)x86_644.5.1 (2025-06-13) -- "Great Square Root" 4833
merida1macOS 12.7.6 Montereyx86_644.5.1 RC (2025-06-05 r88288) -- "Great Square Root" 4614
kjohnson1macOS 13.7.5 Venturaarm644.5.1 Patched (2025-06-14 r88325) -- "Great Square Root" 4555
kunpeng2Linux (openEuler 24.03 LTS)aarch64R Under development (unstable) (2025-02-19 r87757) -- "Unsuffered Consequences" 4586
Click on any hostname to see more info about the system (e.g. compilers)      (*) as reported by 'uname -p', except on Windows and Mac OS X

Package 1600/2341HostnameOS / ArchINSTALLBUILDCHECKBUILD BIN
plyranges 1.28.0  (landing page)
Michael Love
Snapshot Date: 2025-10-13 13:40 -0400 (Mon, 13 Oct 2025)
git_url: https://git.bioconductor.org/packages/plyranges
git_branch: RELEASE_3_21
git_last_commit: 1d0bf92
git_last_commit_date: 2025-04-15 11:20:13 -0400 (Tue, 15 Apr 2025)
nebbiolo1Linux (Ubuntu 24.04.3 LTS) / x86_64  OK    OK    OK  UNNEEDED, same version is already published
merida1macOS 12.7.6 Monterey / x86_64  OK    OK    OK    OK  UNNEEDED, same version is already published
kjohnson1macOS 13.7.5 Ventura / arm64  OK    OK    ERROR    OK  
kunpeng2Linux (openEuler 24.03 LTS) / aarch64  OK    OK    OK  


CHECK results for plyranges on merida1

To the developers/maintainers of the plyranges package:
- Allow up to 24 hours (and sometimes 48 hours) for your latest push to git@git.bioconductor.org:packages/plyranges.git to reflect on this report. See Troubleshooting Build Report for more information.
- Use the following Renviron settings to reproduce errors and warnings.
- If 'R CMD check' started to fail recently on the Linux builder(s) over a missing dependency, add the missing dependency to 'Suggests:' in your DESCRIPTION file. See Renviron.bioc for more information.

raw results


Summary

Package: plyranges
Version: 1.28.0
Command: /Library/Frameworks/R.framework/Resources/bin/R CMD check --install=check:plyranges.install-out.txt --library=/Library/Frameworks/R.framework/Resources/library --no-vignettes --timings plyranges_1.28.0.tar.gz
StartedAt: 2025-10-14 08:19:18 -0400 (Tue, 14 Oct 2025)
EndedAt: 2025-10-14 08:28:58 -0400 (Tue, 14 Oct 2025)
EllapsedTime: 579.8 seconds
RetCode: 0
Status:   OK  
CheckDir: plyranges.Rcheck
Warnings: 0

Command output

##############################################################################
##############################################################################
###
### Running command:
###
###   /Library/Frameworks/R.framework/Resources/bin/R CMD check --install=check:plyranges.install-out.txt --library=/Library/Frameworks/R.framework/Resources/library --no-vignettes --timings plyranges_1.28.0.tar.gz
###
##############################################################################
##############################################################################


* using log directory ‘/Users/biocbuild/bbs-3.21-bioc/meat/plyranges.Rcheck’
* using R version 4.5.1 RC (2025-06-05 r88288)
* using platform: x86_64-apple-darwin20
* R was compiled by
    Apple clang version 14.0.0 (clang-1400.0.29.202)
    GNU Fortran (GCC) 14.2.0
* running under: macOS Monterey 12.7.6
* using session charset: UTF-8
* using option ‘--no-vignettes’
* checking for file ‘plyranges/DESCRIPTION’ ... OK
* checking extension type ... Package
* this is package ‘plyranges’ version ‘1.28.0’
* package encoding: UTF-8
* checking package namespace information ... OK
* checking package dependencies ... OK
* checking if this is a source package ... OK
* checking if there is a namespace ... OK
* checking for hidden files and directories ... OK
* checking for portable file names ... OK
* checking for sufficient/correct file permissions ... OK
* checking whether package ‘plyranges’ can be installed ... OK
* checking installed package size ... OK
* checking package directory ... OK
* checking ‘build’ directory ... OK
* checking DESCRIPTION meta-information ... OK
* checking top-level files ... OK
* checking for left-over files ... OK
* checking index information ... OK
* checking package subdirectories ... OK
* checking code files for non-ASCII characters ... OK
* checking R files for syntax errors ... OK
* checking whether the package can be loaded ... OK
* checking whether the package can be loaded with stated dependencies ... OK
* checking whether the package can be unloaded cleanly ... OK
* checking whether the namespace can be loaded with stated dependencies ... OK
* checking whether the namespace can be unloaded cleanly ... OK
* checking dependencies in R code ... OK
* checking S3 generic/method consistency ... OK
* checking replacement functions ... OK
* checking foreign function calls ... OK
* checking R code for possible problems ... OK
* checking Rd files ... NOTE
checkRd: (-1) group_by-ranges.Rd:57: Lost braces in \itemize; meant \describe ?
checkRd: (-1) group_by-ranges.Rd:58: Lost braces in \itemize; meant \describe ?
checkRd: (-1) ranges-anchor.Rd:58: Lost braces in \itemize; meant \describe ?
checkRd: (-1) ranges-anchor.Rd:59: Lost braces in \itemize; meant \describe ?
checkRd: (-1) ranges-anchor.Rd:60: Lost braces in \itemize; meant \describe ?
checkRd: (-1) ranges-anchor.Rd:61-62: Lost braces in \itemize; meant \describe ?
checkRd: (-1) ranges-anchor.Rd:63-64: Lost braces in \itemize; meant \describe ?
* checking Rd metadata ... OK
* checking Rd cross-references ... NOTE
Non-topic package-anchored link(s) in Rd file 'tidyverse-reexports.Rd':
  ‘[magrittr:pipe]{%>%}’

See section 'Cross-references' in the 'Writing R Extensions' manual.

Found the following Rd file(s) with Rd \link{} targets missing package
anchors:
  as_ranges.Rd: Rle, RleList, IRanges, GRanges
  ranges-construct.Rd: tibble
  ranges-filter-overlaps.Rd: GRanges
Please provide package anchors for all Rd \link{} targets not in the
package itself and the base packages.
* checking for missing documentation entries ... OK
* checking for code/documentation mismatches ... OK
* checking Rd \usage sections ... OK
* checking Rd contents ... OK
* checking for unstated dependencies in examples ... OK
* checking files in ‘vignettes’ ... OK
* checking examples ... OK
Examples with CPU (user + system) or elapsed time > 5s
             user system elapsed
io-bed-read 4.808   1.17   6.012
* checking for unstated dependencies in ‘tests’ ... OK
* checking tests ...
  Running ‘testthat.R’
 OK
* checking for unstated dependencies in vignettes ... OK
* checking package vignettes ... OK
* checking running R code from vignettes ... SKIPPED
* checking re-building of vignette outputs ... SKIPPED
* checking PDF version of manual ... OK
* DONE

Status: 2 NOTEs
See
  ‘/Users/biocbuild/bbs-3.21-bioc/meat/plyranges.Rcheck/00check.log’
for details.


Installation output

plyranges.Rcheck/00install.out

##############################################################################
##############################################################################
###
### Running command:
###
###   /Library/Frameworks/R.framework/Resources/bin/R CMD INSTALL plyranges
###
##############################################################################
##############################################################################


* installing to library ‘/Library/Frameworks/R.framework/Versions/4.5-x86_64/Resources/library’
* installing *source* package ‘plyranges’ ...
** this is package ‘plyranges’ version ‘1.28.0’
** using staged installation
** R
** inst
** byte-compile and prepare package for lazy loading
** help
*** installing help indices
*** copying figures
** building package indices
** installing vignettes
** testing if installed package can be loaded from temporary location
** testing if installed package can be loaded from final location
** testing if installed package keeps a record of temporary installation path
* DONE (plyranges)

Tests output

plyranges.Rcheck/tests/testthat.Rout


R version 4.5.1 RC (2025-06-05 r88288) -- "Great Square Root"
Copyright (C) 2025 The R Foundation for Statistical Computing
Platform: x86_64-apple-darwin20

R is free software and comes with ABSOLUTELY NO WARRANTY.
You are welcome to redistribute it under certain conditions.
Type 'license()' or 'licence()' for distribution details.

R is a collaborative project with many contributors.
Type 'contributors()' for more information and
'citation()' on how to cite R or R packages in publications.

Type 'demo()' for some demos, 'help()' for on-line help, or
'help.start()' for an HTML browser interface to help.
Type 'q()' to quit R.

> library(testthat)
> library(plyranges)
Loading required package: BiocGenerics
Loading required package: generics

Attaching package: 'generics'

The following objects are masked from 'package:base':

    as.difftime, as.factor, as.ordered, intersect, is.element, setdiff,
    setequal, union


Attaching package: 'BiocGenerics'

The following objects are masked from 'package:stats':

    IQR, mad, sd, var, xtabs

The following objects are masked from 'package:base':

    Filter, Find, Map, Position, Reduce, anyDuplicated, aperm, append,
    as.data.frame, basename, cbind, colnames, dirname, do.call,
    duplicated, eval, evalq, get, grep, grepl, is.unsorted, lapply,
    mapply, match, mget, order, paste, pmax, pmax.int, pmin, pmin.int,
    rank, rbind, rownames, sapply, saveRDS, table, tapply, unique,
    unsplit, which.max, which.min

Loading required package: IRanges
Loading required package: S4Vectors
Loading required package: stats4

Attaching package: 'S4Vectors'

The following object is masked from 'package:utils':

    findMatches

The following objects are masked from 'package:base':

    I, expand.grid, unname

Loading required package: GenomicRanges
Loading required package: GenomeInfoDb

Attaching package: 'plyranges'

The following object is masked from 'package:IRanges':

    slice

The following object is masked from 'package:stats':

    filter

> 
> test_check("plyranges")
[ FAIL 0 | WARN 8 | SKIP 0 | PASS 397 ]

[ FAIL 0 | WARN 8 | SKIP 0 | PASS 397 ]
> 
> proc.time()
   user  system elapsed 
 99.949   3.523 104.553 

Example timings

plyranges.Rcheck/plyranges-Ex.timings

nameusersystemelapsed
add-nearest-distance0.7770.0100.795
as_ranges0.1890.0060.195
compute_coverage0.0340.0040.038
element-setops0.2460.0200.267
filter-ranges1.4400.1111.575
group_by-ranges0.6860.0090.699
io-bam-read1.9660.0552.039
io-bed-read4.8081.1706.012
io-bed-write0.0000.0010.001
io-bigwig-read0.2140.0030.218
io-bigwig-write0.0000.0000.001
io-gff-read0.8030.0240.864
io-gff-write000
io-wig-read0.7100.0390.785
mutate-ranges1.3950.0471.453
n0.4440.0030.448
n_distinct0.0670.0000.068
overlap-joins0.4440.0110.457
ranges-anchor0.2080.0040.211
ranges-arrange0.1020.0020.104
ranges-bind0.3700.0050.376
ranges-chop0.7020.0170.721
ranges-construct0.2110.0070.219
ranges-count-overlaps0.1330.0020.135
ranges-disjoin2.5170.0432.565
ranges-expand0.9720.0070.980
ranges-filter-overlaps0.2740.0040.279
ranges-flank0.2100.0040.213
ranges-follow0.3810.0070.388
ranges-info0.0970.0030.099
ranges-interweave0.3790.0030.382
ranges-names0.2550.0020.258
ranges-nearest0.8700.0060.877
ranges-overlaps-self0.3040.0040.309
ranges-overlaps0.3560.0070.364
ranges-pairs0.7350.0070.743
ranges-precede0.3120.0040.316
ranges-reduce2.1600.0112.197
ranges-select0.1760.0070.184
ranges-setops1.8100.0081.844
ranges-shift0.3400.0040.357
ranges-summarise0.3170.0020.332
ranges-tile0.2050.0030.218
slice-ranges1.3420.0181.424
stretch0.5030.0040.521