| Back to Multiple platform build/check report for BioC 3.21: simplified long |
|
This page was generated on 2025-10-16 11:41 -0400 (Thu, 16 Oct 2025).
| Hostname | OS | Arch (*) | R version | Installed pkgs |
|---|---|---|---|---|
| nebbiolo1 | Linux (Ubuntu 24.04.3 LTS) | x86_64 | 4.5.1 (2025-06-13) -- "Great Square Root" | 4833 |
| merida1 | macOS 12.7.6 Monterey | x86_64 | 4.5.1 RC (2025-06-05 r88288) -- "Great Square Root" | 4614 |
| kjohnson1 | macOS 13.7.5 Ventura | arm64 | 4.5.1 Patched (2025-06-14 r88325) -- "Great Square Root" | 4555 |
| kunpeng2 | Linux (openEuler 24.03 LTS) | aarch64 | R Under development (unstable) (2025-02-19 r87757) -- "Unsuffered Consequences" | 4586 |
| Click on any hostname to see more info about the system (e.g. compilers) (*) as reported by 'uname -p', except on Windows and Mac OS X | ||||
| Package 1550/2341 | Hostname | OS / Arch | INSTALL | BUILD | CHECK | BUILD BIN | ||||||||
| pdInfoBuilder 1.72.0 (landing page) Benilton Carvalho
| nebbiolo1 | Linux (Ubuntu 24.04.3 LTS) / x86_64 | OK | OK | OK | |||||||||
| merida1 | macOS 12.7.6 Monterey / x86_64 | OK | OK | OK | OK | |||||||||
| kjohnson1 | macOS 13.7.5 Ventura / arm64 | OK | OK | OK | OK | |||||||||
| kunpeng2 | Linux (openEuler 24.03 LTS) / aarch64 | OK | OK | OK | ||||||||||
|
To the developers/maintainers of the pdInfoBuilder package: - Allow up to 24 hours (and sometimes 48 hours) for your latest push to git@git.bioconductor.org:packages/pdInfoBuilder.git to reflect on this report. See Troubleshooting Build Report for more information. - Use the following Renviron settings to reproduce errors and warnings. - If 'R CMD check' started to fail recently on the Linux builder(s) over a missing dependency, add the missing dependency to 'Suggests:' in your DESCRIPTION file. See Renviron.bioc for more information. - See Martin Grigorov's blog post for how to debug Linux ARM64 related issues on a x86_64 host. |
| Package: pdInfoBuilder |
| Version: 1.72.0 |
| Command: /home/biocbuild/R/R/bin/R CMD check --install=check:pdInfoBuilder.install-out.txt --library=/home/biocbuild/R/R/site-library --no-vignettes --timings pdInfoBuilder_1.72.0.tar.gz |
| StartedAt: 2025-10-14 12:24:23 -0000 (Tue, 14 Oct 2025) |
| EndedAt: 2025-10-14 12:28:20 -0000 (Tue, 14 Oct 2025) |
| EllapsedTime: 236.2 seconds |
| RetCode: 0 |
| Status: OK |
| CheckDir: pdInfoBuilder.Rcheck |
| Warnings: 0 |
##############################################################################
##############################################################################
###
### Running command:
###
### /home/biocbuild/R/R/bin/R CMD check --install=check:pdInfoBuilder.install-out.txt --library=/home/biocbuild/R/R/site-library --no-vignettes --timings pdInfoBuilder_1.72.0.tar.gz
###
##############################################################################
##############################################################################
* using log directory ‘/home/biocbuild/bbs-3.21-bioc/meat/pdInfoBuilder.Rcheck’
* using R Under development (unstable) (2025-02-19 r87757)
* using platform: aarch64-unknown-linux-gnu
* R was compiled by
aarch64-unknown-linux-gnu-gcc (GCC) 14.2.0
GNU Fortran (GCC) 14.2.0
* running under: openEuler 24.03 (LTS-SP1)
* using session charset: UTF-8
* using option ‘--no-vignettes’
* checking for file ‘pdInfoBuilder/DESCRIPTION’ ... OK
* this is package ‘pdInfoBuilder’ version ‘1.72.0’
* checking package namespace information ... OK
* checking package dependencies ... OK
* checking if this is a source package ... OK
* checking if there is a namespace ... OK
* checking for hidden files and directories ... OK
* checking for portable file names ... OK
* checking for sufficient/correct file permissions ... OK
* checking whether package ‘pdInfoBuilder’ can be installed ... OK
* used C compiler: ‘aarch64-unknown-linux-gnu-gcc (GCC) 14.2.0’
* checking installed package size ... OK
* checking package directory ... OK
* checking ‘build’ directory ... OK
* checking DESCRIPTION meta-information ... OK
* checking top-level files ... OK
* checking for left-over files ... OK
* checking index information ... OK
* checking package subdirectories ... OK
* checking code files for non-ASCII characters ... OK
* checking R files for syntax errors ... OK
* checking whether the package can be loaded ... OK
* checking whether the package can be loaded with stated dependencies ... OK
* checking whether the package can be unloaded cleanly ... OK
* checking whether the namespace can be loaded with stated dependencies ... OK
* checking whether the namespace can be unloaded cleanly ... OK
* checking loading without being on the library search path ... OK
* checking dependencies in R code ... NOTE
Namespaces in Imports field not imported from:
‘BiocGenerics’ ‘IRanges’ ‘oligoClasses’
All declared Imports should be used.
* checking S3 generic/method consistency ... OK
* checking replacement functions ... OK
* checking foreign function calls ... OK
* checking R code for possible problems ... NOTE
annot2fdata: no visible global function definition for ‘error’
cdf2table: no visible global function definition for ‘getDoParWorkers’
cdf2table: no visible global function definition for ‘%dopar%’
cdf2table: no visible global function definition for ‘foreach’
cdf2table: no visible binding for global variable ‘unitLst’
cdfUnits2table: no visible global function definition for ‘%do%’
cdfUnits2table: no visible global function definition for ‘foreach’
cdfUnits2table: no visible binding for global variable ‘i’
connectDb: no visible global function definition for ‘dbExecute’
createChrDict: no visible global function definition for ‘na.omit’
createIndicesDb : makeIndex: no visible global function definition for
‘dbGetQuery’
createIndicesDb: no visible global function definition for ‘dbGetQuery’
createSeqMat: no visible global function definition for ‘dbGetQuery’
createSeqMat.cnv: no visible global function definition for
‘dbGetQuery’
createTableInfoTable: no visible global function definition for
‘dbGetQuery’
dbCreateIndex: no visible global function definition for ‘dbExecute’
dbCreateTable: no visible global function definition for ‘dbExecute’
dbCreateTableInfo: no visible global function definition for
‘dbGetQuery’
getAllFSetMpsTables: no visible global function definition for
‘%dopar%’
getAllFSetMpsTables: no visible global function definition for
‘foreach’
getAllFSetMpsTables: no visible binding for global variable ‘i’
increaseDbPerformance: no visible global function definition for
‘dbExecute’
initDb: no visible global function definition for ‘dbGetQuery’
insertInFragmentLengthTable: no visible global function definition for
‘dbGetQuery’
loadAffySeqCsv: no visible global function definition for ‘dbGetQuery’
loadUnits: no visible global function definition for ‘dbGetQuery’
parseBpmapCel: no visible global function definition for ‘aggregate’
parseCdfSeqAnnotSnp: no visible global function definition for
‘aggregate’
parseNgsTrio: no visible global function definition for ‘aggregate’
snp6.createIndicesDb : makeIndex: no visible global function definition
for ‘dbGetQuery’
snp6.createIndicesDb: no visible global function definition for
‘dbGetQuery’
snp6.createTableInfoTable: no visible global function definition for
‘dbGetQuery’
snp6.initDb: no visible global function definition for ‘dbGetQuery’
snp6.loadUnits.cnv: no visible global function definition for
‘dbGetQuery’
snp6.loadUnits.snp: no visible global function definition for
‘dbGetQuery’
snp6.sortFeatureTables: no visible global function definition for
‘dbGetQuery’
sortFeatureTables: no visible global function definition for
‘dbGetQuery’
makePdInfoPackage,AffyClariomSPDInfoPkgSeed: no visible global function
definition for ‘dbExecute’
makePdInfoPackage,AffyExpressionPDInfoPkgSeed: no visible global
function definition for ‘dbGetQuery’
makePdInfoPackage,AffyHTAPDInfoPkgSeed: no visible global function
definition for ‘dbGetQuery’
makePdInfoPackage,AffyMiRNAPDInfoPkgSeed: no visible global function
definition for ‘dbGetQuery’
makePdInfoPackage,AffySNPCNVPDInfoPkgSeed2: no visible global function
definition for ‘dbGetQuery’
makePdInfoPackage,AffySNPPDInfoPkgSeed2: no visible global function
definition for ‘dbGetQuery’
makePdInfoPackage,AffySTPDInfoPkgSeed: no visible global function
definition for ‘dbGetQuery’
makePdInfoPackage,AffyTilingPDInfoPkgSeed: no visible global function
definition for ‘dbGetQuery’
makePdInfoPackage,GenericPDInfoPkgSeed: no visible global function
definition for ‘dbGetQuery’
makePdInfoPackage,NgsExpressionPDInfoPkgSeed: no visible global
function definition for ‘dbGetQuery’
makePdInfoPackage,NgsTilingPDInfoPkgSeed: no visible global function
definition for ‘dbGetQuery’
Undefined global functions or variables:
%do% %dopar% aggregate dbExecute dbGetQuery error foreach
getDoParWorkers i na.omit unitLst
Consider adding
importFrom("stats", "aggregate", "na.omit")
to your NAMESPACE file.
* checking Rd files ... OK
* checking Rd metadata ... OK
* checking Rd cross-references ... OK
* checking for missing documentation entries ... OK
* checking for code/documentation mismatches ... OK
* checking Rd \usage sections ... OK
* checking Rd contents ... OK
* checking for unstated dependencies in examples ... OK
* checking line endings in C/C++/Fortran sources/headers ... OK
* checking line endings in Makefiles ... OK
* checking for GNU extensions in Makefiles ... OK
* checking include directives in Makefiles ... OK
* checking compiled code ... NOTE
Note: information on .o files is not available
* checking installed files from ‘inst/doc’ ... OK
* checking files in ‘vignettes’ ... OK
* checking examples ... OK
* checking for unstated dependencies in vignettes ... OK
* checking package vignettes ... OK
* checking running R code from vignettes ... SKIPPED
* checking re-building of vignette outputs ... SKIPPED
* checking PDF version of manual ... OK
* DONE
Status: 3 NOTEs
See
‘/home/biocbuild/bbs-3.21-bioc/meat/pdInfoBuilder.Rcheck/00check.log’
for details.
pdInfoBuilder.Rcheck/00install.out
############################################################################## ############################################################################## ### ### Running command: ### ### /home/biocbuild/R/R/bin/R CMD INSTALL pdInfoBuilder ### ############################################################################## ############################################################################## * installing to library ‘/home/biocbuild/R/R-devel_2025-02-19/site-library’ * installing *source* package ‘pdInfoBuilder’ ... ** this is package ‘pdInfoBuilder’ version ‘1.72.0’ ** using staged installation ** libs using C compiler: ‘aarch64-unknown-linux-gnu-gcc (GCC) 14.2.0’ /opt/ohpc/pub/compiler/gcc/14.2.0/bin/aarch64-unknown-linux-gnu-gcc -std=gnu23 -I"/home/biocbuild/R/R/include" -DNDEBUG -I/usr/local/include -fPIC -g -O2 -Wall -Werror=format-security -c pdInfoBuilder.c -o pdInfoBuilder.o /opt/ohpc/pub/compiler/gcc/14.2.0/bin/aarch64-unknown-linux-gnu-gcc -std=gnu23 -shared -L/home/biocbuild/R/R/lib -L/usr/local/lib -o pdInfoBuilder.so pdInfoBuilder.o -L/home/biocbuild/R/R/lib -lR installing to /home/biocbuild/R/R-devel_2025-02-19/site-library/00LOCK-pdInfoBuilder/00new/pdInfoBuilder/libs ** R ** inst ** byte-compile and prepare package for lazy loading No methods found in package ‘RSQLite’ for request: ‘dbGetQuery’ when loading ‘pdInfoBuilder’ ** help *** installing help indices ** building package indices ** installing vignettes ** testing if installed package can be loaded from temporary location No methods found in package ‘RSQLite’ for request: ‘dbGetQuery’ when loading ‘pdInfoBuilder’ ** checking absolute paths in shared objects and dynamic libraries ** testing if installed package can be loaded from final location No methods found in package ‘RSQLite’ for request: ‘dbGetQuery’ when loading ‘pdInfoBuilder’ ** testing if installed package keeps a record of temporary installation path * DONE (pdInfoBuilder)
pdInfoBuilder.Rcheck/pdInfoBuilder-Ex.timings
| name | user | system | elapsed | |
| AffyClariomSPDInfoPkgSeed-class | 0.002 | 0.000 | 0.002 | |
| AffyExpressionPDInfoPkgSeed-class | 0 | 0 | 0 | |
| AffySNPCNVPDInfoPkgSeed-class | 0.000 | 0.000 | 0.001 | |
| AffySNPCNVPDInfoPkgSeed2-class | 0.001 | 0.000 | 0.001 | |
| AffySNPPDInfoPkgSeed-class | 0.383 | 0.040 | 0.425 | |
| AffySNPPDInfoPkgSeed2-class | 0.001 | 0.000 | 0.001 | |
| AffySTPDInfoPkgSeed-class | 0.001 | 0.000 | 0.001 | |
| AffyTilingPDInfoPkgSeed-class | 0.000 | 0.000 | 0.001 | |
| NgsExpressionPDInfoPkgSeed-class | 0.001 | 0.000 | 0.001 | |
| NgsTilingPDInfoPkgSeed-class | 0.001 | 0.000 | 0.001 | |
| NimbleGenPDInfoPkgSeed-class | 0.001 | 0.000 | 0.001 | |
| makePdInfoPackage | 0.001 | 0.000 | 0.000 | |