| Back to Multiple platform build/check report for BioC 3.21: simplified long |
|
This page was generated on 2025-10-16 11:38 -0400 (Thu, 16 Oct 2025).
| Hostname | OS | Arch (*) | R version | Installed pkgs |
|---|---|---|---|---|
| nebbiolo1 | Linux (Ubuntu 24.04.3 LTS) | x86_64 | 4.5.1 (2025-06-13) -- "Great Square Root" | 4833 |
| merida1 | macOS 12.7.6 Monterey | x86_64 | 4.5.1 RC (2025-06-05 r88288) -- "Great Square Root" | 4614 |
| kjohnson1 | macOS 13.7.5 Ventura | arm64 | 4.5.1 Patched (2025-06-14 r88325) -- "Great Square Root" | 4555 |
| kunpeng2 | Linux (openEuler 24.03 LTS) | aarch64 | R Under development (unstable) (2025-02-19 r87757) -- "Unsuffered Consequences" | 4586 |
| Click on any hostname to see more info about the system (e.g. compilers) (*) as reported by 'uname -p', except on Windows and Mac OS X | ||||
| Package 1537/2341 | Hostname | OS / Arch | INSTALL | BUILD | CHECK | BUILD BIN | ||||||||
| pathlinkR 1.4.0 (landing page) Travis Blimkie
| nebbiolo1 | Linux (Ubuntu 24.04.3 LTS) / x86_64 | OK | OK | OK | |||||||||
| merida1 | macOS 12.7.6 Monterey / x86_64 | OK | OK | OK | OK | |||||||||
| kjohnson1 | macOS 13.7.5 Ventura / arm64 | OK | OK | OK | OK | |||||||||
| kunpeng2 | Linux (openEuler 24.03 LTS) / aarch64 | OK | ERROR | skipped | ||||||||||
|
To the developers/maintainers of the pathlinkR package: - Allow up to 24 hours (and sometimes 48 hours) for your latest push to git@git.bioconductor.org:packages/pathlinkR.git to reflect on this report. See Troubleshooting Build Report for more information. - Use the following Renviron settings to reproduce errors and warnings. - If 'R CMD check' started to fail recently on the Linux builder(s) over a missing dependency, add the missing dependency to 'Suggests:' in your DESCRIPTION file. See Renviron.bioc for more information. |
| Package: pathlinkR |
| Version: 1.4.0 |
| Command: /home/biocbuild/bbs-3.21-bioc/R/bin/R CMD check --install=check:pathlinkR.install-out.txt --library=/home/biocbuild/bbs-3.21-bioc/R/site-library --timings pathlinkR_1.4.0.tar.gz |
| StartedAt: 2025-10-16 02:04:01 -0400 (Thu, 16 Oct 2025) |
| EndedAt: 2025-10-16 02:13:41 -0400 (Thu, 16 Oct 2025) |
| EllapsedTime: 580.0 seconds |
| RetCode: 0 |
| Status: OK |
| CheckDir: pathlinkR.Rcheck |
| Warnings: 0 |
##############################################################################
##############################################################################
###
### Running command:
###
### /home/biocbuild/bbs-3.21-bioc/R/bin/R CMD check --install=check:pathlinkR.install-out.txt --library=/home/biocbuild/bbs-3.21-bioc/R/site-library --timings pathlinkR_1.4.0.tar.gz
###
##############################################################################
##############################################################################
* using log directory ‘/home/biocbuild/bbs-3.21-bioc/meat/pathlinkR.Rcheck’
* using R version 4.5.1 (2025-06-13)
* using platform: x86_64-pc-linux-gnu
* R was compiled by
gcc (Ubuntu 13.3.0-6ubuntu2~24.04) 13.3.0
GNU Fortran (Ubuntu 13.3.0-6ubuntu2~24.04) 13.3.0
* running under: Ubuntu 24.04.3 LTS
* using session charset: UTF-8
* checking for file ‘pathlinkR/DESCRIPTION’ ... OK
* checking extension type ... Package
* this is package ‘pathlinkR’ version ‘1.4.0’
* package encoding: UTF-8
* checking package namespace information ... OK
* checking package dependencies ... OK
* checking if this is a source package ... OK
* checking if there is a namespace ... OK
* checking for hidden files and directories ... OK
* checking for portable file names ... OK
* checking for sufficient/correct file permissions ... OK
* checking whether package ‘pathlinkR’ can be installed ... OK
* checking installed package size ... OK
* checking package directory ... OK
* checking ‘build’ directory ... OK
* checking DESCRIPTION meta-information ... OK
* checking top-level files ... OK
* checking for left-over files ... OK
* checking index information ... OK
* checking package subdirectories ... OK
* checking code files for non-ASCII characters ... OK
* checking R files for syntax errors ... OK
* checking whether the package can be loaded ... OK
* checking whether the package can be loaded with stated dependencies ... OK
* checking whether the package can be unloaded cleanly ... OK
* checking whether the namespace can be loaded with stated dependencies ... OK
* checking whether the namespace can be unloaded cleanly ... OK
* checking loading without being on the library search path ... OK
* checking whether startup messages can be suppressed ... OK
* checking dependencies in R code ... OK
* checking S3 generic/method consistency ... OK
* checking replacement functions ... OK
* checking foreign function calls ... OK
* checking R code for possible problems ... OK
* checking Rd files ... OK
* checking Rd metadata ... OK
* checking Rd cross-references ... OK
* checking for missing documentation entries ... OK
* checking for code/documentation mismatches ... OK
* checking Rd \usage sections ... OK
* checking Rd contents ... OK
* checking for unstated dependencies in examples ... OK
* checking contents of ‘data’ directory ... OK
* checking data for non-ASCII characters ... OK
* checking data for ASCII and uncompressed saves ... OK
* checking files in ‘vignettes’ ... OK
* checking examples ... OK
Examples with CPU (user + system) or elapsed time > 5s
user system elapsed
eruption 6.389 0.348 6.737
* checking for unstated dependencies in ‘tests’ ... OK
* checking tests ...
Running ‘testthat.R’
OK
* checking for unstated dependencies in vignettes ... OK
* checking package vignettes ... OK
* checking re-building of vignette outputs ... OK
* checking PDF version of manual ... OK
* DONE
Status: OK
pathlinkR.Rcheck/00install.out
############################################################################## ############################################################################## ### ### Running command: ### ### /home/biocbuild/bbs-3.21-bioc/R/bin/R CMD INSTALL pathlinkR ### ############################################################################## ############################################################################## * installing to library ‘/home/biocbuild/bbs-3.21-bioc/R/site-library’ * installing *source* package ‘pathlinkR’ ... ** this is package ‘pathlinkR’ version ‘1.4.0’ ** using staged installation ** R ** data ** inst ** byte-compile and prepare package for lazy loading ** help *** installing help indices *** copying figures ** building package indices ** installing vignettes ** testing if installed package can be loaded from temporary location ** testing if installed package can be loaded from final location ** testing if installed package keeps a record of temporary installation path * DONE (pathlinkR)
pathlinkR.Rcheck/tests/testthat.Rout
R version 4.5.1 (2025-06-13) -- "Great Square Root"
Copyright (C) 2025 The R Foundation for Statistical Computing
Platform: x86_64-pc-linux-gnu
R is free software and comes with ABSOLUTELY NO WARRANTY.
You are welcome to redistribute it under certain conditions.
Type 'license()' or 'licence()' for distribution details.
R is a collaborative project with many contributors.
Type 'contributors()' for more information and
'citation()' on how to cite R or R packages in publications.
Type 'demo()' for some demos, 'help()' for on-line help, or
'help.start()' for an HTML browser interface to help.
Type 'q()' to quit R.
> # This file is part of the standard setup for testthat.
> # It is recommended that you do not modify it.
> #
> # Where should you do additional test configuration?
> # Learn more about the roles of various files in:
> # * https://r-pkgs.org/tests.html
> # * https://testthat.r-lib.org/reference/test_package.html#special-files
>
> library(testthat)
> library(pathlinkR)
Thanks for using pathlinkR v1.4.0! If you encounter any
bugs or problems, please submit an issue at the Github page:
https://github.com/hancockinformatics/pathlinkR/issues
>
> test_check("pathlinkR")
Loading required namespace: DESeq2
[ FAIL 0 | WARN 0 | SKIP 10 | PASS 32 ]
══ Skipped tests (10) ══════════════════════════════════════════════════════════
• On CRAN (10): 'test-eruption.R:10:5', 'test-pathnetGGraph.R:29:5',
'test-pathnetVisNetwork.R:29:5', 'test-pathwayPlots.R:6:5',
'test-pathwayPlots.R:25:5', 'test-pathwayPlots.R:44:5',
'test-plotFoldChange.R:6:5', 'test-ppiPlotNetwork.R:15:5',
'test-ppiPlotNetwork.R:39:5', 'test-ppiPlotNetwork.R:73:5'
[ FAIL 0 | WARN 0 | SKIP 10 | PASS 32 ]
>
> proc.time()
user system elapsed
171.216 4.565 175.365
pathlinkR.Rcheck/pathlinkR-Ex.timings
| name | user | system | elapsed | |
| eruption | 6.389 | 0.348 | 6.737 | |
| getPathwayDistances | 1.172 | 0.056 | 1.227 | |
| pathnetCreate | 0.674 | 0.018 | 0.692 | |
| pathnetFoundation | 1.278 | 0.054 | 1.333 | |
| pathnetGGraph | 1.252 | 0.059 | 1.311 | |
| pathnetVisNetwork | 0.699 | 0.044 | 0.754 | |
| pathwayEnrichment | 2.787 | 0.131 | 2.920 | |
| pathwayPlots | 2.306 | 0.059 | 2.365 | |
| plotFoldChange | 1.022 | 0.041 | 1.062 | |
| ppiBuildNetwork | 0.691 | 0.037 | 0.727 | |
| ppiCleanNetwork | 0.048 | 0.012 | 0.061 | |
| ppiEnrichNetwork | 1.683 | 0.059 | 1.741 | |
| ppiExtractSubnetwork | 1.874 | 0.056 | 1.934 | |
| ppiPlotNetwork | 2.775 | 0.201 | 2.975 | |