| Back to Multiple platform build/check report for BioC 3.22: simplified long |
|
This page was generated on 2025-11-07 12:00 -0500 (Fri, 07 Nov 2025).
| Hostname | OS | Arch (*) | R version | Installed pkgs |
|---|---|---|---|---|
| nebbiolo2 | Linux (Ubuntu 24.04.3 LTS) | x86_64 | 4.5.1 Patched (2025-08-23 r88802) -- "Great Square Root" | 4902 |
| kjohnson3 | macOS 13.7.7 Ventura | arm64 | 4.5.1 Patched (2025-09-10 r88807) -- "Great Square Root" | 4638 |
| Click on any hostname to see more info about the system (e.g. compilers) (*) as reported by 'uname -p', except on Windows and Mac OS X | ||||
| Package 1493/2361 | Hostname | OS / Arch | INSTALL | BUILD | CHECK | BUILD BIN | ||||||||
| omada 1.12.0 (landing page) Sokratis Kariotis
| nebbiolo2 | Linux (Ubuntu 24.04.3 LTS) / x86_64 | OK | OK | OK | |||||||||
| kjohnson3 | macOS 13.7.7 Ventura / arm64 | OK | OK | OK | OK | |||||||||
|
To the developers/maintainers of the omada package: - Allow up to 24 hours (and sometimes 48 hours) for your latest push to git@git.bioconductor.org:packages/omada.git to reflect on this report. See Troubleshooting Build Report for more information. - Use the following Renviron settings to reproduce errors and warnings. - If 'R CMD check' started to fail recently on the Linux builder(s) over a missing dependency, add the missing dependency to 'Suggests:' in your DESCRIPTION file. See Renviron.bioc for more information. |
| Package: omada |
| Version: 1.12.0 |
| Command: /home/biocbuild/bbs-3.22-bioc/R/bin/R CMD check --install=check:omada.install-out.txt --library=/home/biocbuild/bbs-3.22-bioc/R/site-library --timings omada_1.12.0.tar.gz |
| StartedAt: 2025-11-07 02:12:46 -0500 (Fri, 07 Nov 2025) |
| EndedAt: 2025-11-07 02:28:33 -0500 (Fri, 07 Nov 2025) |
| EllapsedTime: 947.2 seconds |
| RetCode: 0 |
| Status: OK |
| CheckDir: omada.Rcheck |
| Warnings: 0 |
##############################################################################
##############################################################################
###
### Running command:
###
### /home/biocbuild/bbs-3.22-bioc/R/bin/R CMD check --install=check:omada.install-out.txt --library=/home/biocbuild/bbs-3.22-bioc/R/site-library --timings omada_1.12.0.tar.gz
###
##############################################################################
##############################################################################
* using log directory ‘/home/biocbuild/bbs-3.22-bioc/meat/omada.Rcheck’
* using R version 4.5.1 Patched (2025-08-23 r88802)
* using platform: x86_64-pc-linux-gnu
* R was compiled by
gcc (Ubuntu 13.3.0-6ubuntu2~24.04) 13.3.0
GNU Fortran (Ubuntu 13.3.0-6ubuntu2~24.04) 13.3.0
* running under: Ubuntu 24.04.3 LTS
* using session charset: UTF-8
* checking for file ‘omada/DESCRIPTION’ ... OK
* checking extension type ... Package
* this is package ‘omada’ version ‘1.12.0’
* package encoding: UTF-8
* checking package namespace information ... OK
* checking package dependencies ... INFO
Depends: includes the non-default packages:
'pdfCluster', 'kernlab', 'fpc', 'Rcpp', 'diceR', 'ggplot2',
'reshape', 'genieclust', 'clValid', 'glmnet', 'dplyr'
Adding so many packages to the search path is excessive and importing
selectively is preferable.
* checking if this is a source package ... OK
* checking if there is a namespace ... OK
* checking for hidden files and directories ... OK
* checking for portable file names ... OK
* checking for sufficient/correct file permissions ... OK
* checking whether package ‘omada’ can be installed ... OK
* checking installed package size ... OK
* checking package directory ... OK
* checking ‘build’ directory ... OK
* checking DESCRIPTION meta-information ... OK
* checking top-level files ... NOTE
File
LICENSE
is not mentioned in the DESCRIPTION file.
* checking for left-over files ... OK
* checking index information ... OK
* checking package subdirectories ... OK
* checking code files for non-ASCII characters ... OK
* checking R files for syntax errors ... OK
* checking whether the package can be loaded ... OK
* checking whether the package can be loaded with stated dependencies ... OK
* checking whether the package can be unloaded cleanly ... OK
* checking whether the namespace can be loaded with stated dependencies ... OK
* checking whether the namespace can be unloaded cleanly ... OK
* checking loading without being on the library search path ... OK
* checking dependencies in R code ... NOTE
Packages in Depends field not imported from:
‘Rcpp’ ‘dplyr’ ‘genieclust’ ‘glmnet’ ‘kernlab’ ‘reshape’
These packages need to be imported from (in the NAMESPACE file)
for when this namespace is loaded but not attached.
* checking S3 generic/method consistency ... OK
* checking replacement functions ... OK
* checking foreign function calls ... OK
* checking R code for possible problems ... NOTE
Index.15and28: no visible global function definition for ‘dist’
Index.15and28: no visible global function definition for ‘as.dist’
Index.sPlussMoins: no visible global function definition for ‘dist’
Index.sPlussMoins: no visible global function definition for ‘as.dist’
Index.sPlussMoins: no visible global function definition for ‘median’
Indice.cindex: no visible global function definition for ‘dist’
clusterVoting: no visible global function definition for ‘calinhara’
clusterVoting: no visible global function definition for
‘generalised_dunn_index’
clusterVoting: no visible global function definition for
‘silhouette_index’
clusterVoting: no visible global function definition for
‘negated_davies_bouldin_index’
clusterVoting: no visible binding for global variable ‘k’
clusterVoting: no visible binding for global variable ‘Frequency’
clusteringMethodSelection: no visible binding for global variable
‘value’
clusteringMethodSelection: no visible binding for global variable
‘methods’
featureSelection: no visible binding for global variable ‘featureSet’
featureSelection: no visible binding for global variable ‘means’
Undefined global functions or variables:
Frequency as.dist calinhara dist featureSet generalised_dunn_index k
means median methods negated_davies_bouldin_index silhouette_index
value
Consider adding
importFrom("stats", "as.dist", "dist", "median")
importFrom("utils", "methods")
to your NAMESPACE file.
* checking Rd files ... OK
* checking Rd metadata ... OK
* checking Rd cross-references ... OK
* checking for missing documentation entries ... OK
* checking for code/documentation mismatches ... OK
* checking Rd \usage sections ... OK
* checking Rd contents ... OK
* checking for unstated dependencies in examples ... OK
* checking contents of ‘data’ directory ... OK
* checking data for non-ASCII characters ... OK
* checking LazyData ... OK
* checking data for ASCII and uncompressed saves ... OK
* checking files in ‘vignettes’ ... OK
* checking examples ... OK
Examples with CPU (user + system) or elapsed time > 5s
user system elapsed
get_feature_selection_scores 41.414 0.060 41.474
get_feature_selection_optimal_number_of_features 41.123 0.091 41.215
plot_partition_agreement 30.230 0.090 30.320
get_sample_memberships 29.913 0.052 30.020
get_feature_selection_optimal_features 29.255 0.108 29.365
plot_feature_selection 29.258 0.012 29.271
get_cluster_voting_scores 28.739 0.104 28.846
get_cluster_voting_k_votes 28.656 0.097 28.754
get_partition_agreement_scores 28.591 0.079 28.670
get_cluster_voting_memberships 27.690 0.155 27.845
get_cluster_voting_metric_votes 27.322 0.053 27.376
omada 23.192 0.079 23.278
plot_cluster_voting 21.440 0.046 21.486
plot_average_stabilities 9.742 0.004 9.746
get_optimal_features 9.311 0.008 9.319
get_optimal_number_of_features 9.134 0.003 9.138
get_optimal_stability_score 8.084 0.005 8.088
get_optimal_memberships 7.341 0.005 7.347
get_optimal_parameter_used 7.100 0.006 7.106
featureSelection 7.023 0.061 7.084
* checking for unstated dependencies in ‘tests’ ... OK
* checking tests ...
Running ‘testthat.R’
OK
* checking for unstated dependencies in vignettes ... OK
* checking package vignettes ... OK
* checking re-building of vignette outputs ... OK
* checking PDF version of manual ... OK
* DONE
Status: 3 NOTEs
See
‘/home/biocbuild/bbs-3.22-bioc/meat/omada.Rcheck/00check.log’
for details.
omada.Rcheck/00install.out
############################################################################## ############################################################################## ### ### Running command: ### ### /home/biocbuild/bbs-3.22-bioc/R/bin/R CMD INSTALL omada ### ############################################################################## ############################################################################## * installing to library ‘/home/biocbuild/bbs-3.22-bioc/R/site-library’ * installing *source* package ‘omada’ ... ** this is package ‘omada’ version ‘1.12.0’ ** using staged installation ** R ** data *** moving datasets to lazyload DB ** inst ** byte-compile and prepare package for lazy loading ** help *** installing help indices ** building package indices ** installing vignettes ** testing if installed package can be loaded from temporary location ** testing if installed package can be loaded from final location ** testing if installed package keeps a record of temporary installation path * DONE (omada)
omada.Rcheck/tests/testthat.Rout
R version 4.5.1 Patched (2025-08-23 r88802) -- "Great Square Root"
Copyright (C) 2025 The R Foundation for Statistical Computing
Platform: x86_64-pc-linux-gnu
R is free software and comes with ABSOLUTELY NO WARRANTY.
You are welcome to redistribute it under certain conditions.
Type 'license()' or 'licence()' for distribution details.
R is a collaborative project with many contributors.
Type 'contributors()' for more information and
'citation()' on how to cite R or R packages in publications.
Type 'demo()' for some demos, 'help()' for on-line help, or
'help.start()' for an HTML browser interface to help.
Type 'q()' to quit R.
> library(testthat)
> library(omada)
Loading required package: pdfCluster
pdfCluster 1.0-4
Loading required package: kernlab
Loading required package: fpc
Loading required package: Rcpp
Loading required package: diceR
Loading required package: ggplot2
Attaching package: 'ggplot2'
The following object is masked from 'package:kernlab':
alpha
Loading required package: reshape
Loading required package: genieclust
Loading required package: clValid
Loading required package: cluster
Loading required package: glmnet
Loading required package: Matrix
Attaching package: 'Matrix'
The following object is masked from 'package:reshape':
expand
Loaded glmnet 4.1-10
Loading required package: dplyr
Attaching package: 'dplyr'
The following object is masked from 'package:reshape':
rename
The following object is masked from 'package:pdfCluster':
groups
The following object is masked from 'package:testthat':
matches
The following objects are masked from 'package:stats':
filter, lag
The following objects are masked from 'package:base':
intersect, setdiff, setequal, union
>
> test_check("omada")
[ FAIL 0 | WARN 1 | SKIP 0 | PASS 38 ]
[ FAIL 0 | WARN 1 | SKIP 0 | PASS 38 ]
>
> proc.time()
user system elapsed
135.265 1.496 167.541
omada.Rcheck/omada-Ex.timings
| name | user | system | elapsed | |
| clusterVoting | 3.558 | 0.070 | 3.628 | |
| clusteringMethodSelection | 1.825 | 0.020 | 1.845 | |
| feasibilityAnalysis | 1.167 | 0.037 | 1.205 | |
| feasibilityAnalysisDataBased | 2.277 | 0.016 | 2.294 | |
| featureSelection | 7.023 | 0.061 | 7.084 | |
| get_agreement_scores | 0.158 | 0.007 | 0.164 | |
| get_average_feature_k_stabilities | 4.547 | 0.014 | 4.561 | |
| get_average_stabilities_per_k | 0.779 | 0.001 | 0.780 | |
| get_average_stability | 0.783 | 0.000 | 0.783 | |
| get_cluster_memberships_k | 0.759 | 0.009 | 0.768 | |
| get_cluster_voting_k_votes | 28.656 | 0.097 | 28.754 | |
| get_cluster_voting_memberships | 27.690 | 0.155 | 27.845 | |
| get_cluster_voting_metric_votes | 27.322 | 0.053 | 27.376 | |
| get_cluster_voting_scores | 28.739 | 0.104 | 28.846 | |
| get_feature_selection_optimal_features | 29.255 | 0.108 | 29.365 | |
| get_feature_selection_optimal_number_of_features | 41.123 | 0.091 | 41.215 | |
| get_feature_selection_scores | 41.414 | 0.060 | 41.474 | |
| get_generated_dataset | 3.163 | 0.004 | 3.167 | |
| get_internal_metric_scores | 0.753 | 0.002 | 0.755 | |
| get_max_stability | 0.766 | 0.011 | 0.777 | |
| get_metric_votes_k | 0.740 | 0.028 | 0.768 | |
| get_optimal_features | 9.311 | 0.008 | 9.319 | |
| get_optimal_memberships | 7.341 | 0.005 | 7.347 | |
| get_optimal_number_of_features | 9.134 | 0.003 | 9.138 | |
| get_optimal_parameter_used | 7.100 | 0.006 | 7.106 | |
| get_optimal_stability_score | 8.084 | 0.005 | 8.088 | |
| get_partition_agreement_scores | 28.591 | 0.079 | 28.670 | |
| get_sample_memberships | 29.913 | 0.052 | 30.020 | |
| get_vote_frequencies_k | 1.337 | 0.002 | 1.340 | |
| omada | 23.192 | 0.079 | 23.278 | |
| optimalClustering | 0.082 | 0.000 | 0.081 | |
| partitionAgreement | 0.573 | 0.008 | 0.581 | |
| plot_average_stabilities | 9.742 | 0.004 | 9.746 | |
| plot_cluster_voting | 21.440 | 0.046 | 21.486 | |
| plot_feature_selection | 29.258 | 0.012 | 29.271 | |
| plot_partition_agreement | 30.23 | 0.09 | 30.32 | |
| plot_vote_frequencies | 0.987 | 0.005 | 0.992 | |
| toy_gene_memberships | 0.012 | 0.001 | 0.014 | |
| toy_genes | 0.001 | 0.000 | 0.001 | |