| Back to Multiple platform build/check report for BioC 3.22: simplified long |
|
This page was generated on 2025-11-07 12:01 -0500 (Fri, 07 Nov 2025).
| Hostname | OS | Arch (*) | R version | Installed pkgs |
|---|---|---|---|---|
| nebbiolo2 | Linux (Ubuntu 24.04.3 LTS) | x86_64 | 4.5.1 Patched (2025-08-23 r88802) -- "Great Square Root" | 4902 |
| kjohnson3 | macOS 13.7.7 Ventura | arm64 | 4.5.1 Patched (2025-09-10 r88807) -- "Great Square Root" | 4638 |
| Click on any hostname to see more info about the system (e.g. compilers) (*) as reported by 'uname -p', except on Windows and Mac OS X | ||||
| Package 1475/2361 | Hostname | OS / Arch | INSTALL | BUILD | CHECK | BUILD BIN | ||||||||
| notameViz 1.0.0 (landing page) Vilhelm Suksi
| nebbiolo2 | Linux (Ubuntu 24.04.3 LTS) / x86_64 | OK | OK | OK | |||||||||
| kjohnson3 | macOS 13.7.7 Ventura / arm64 | OK | OK | OK | OK | |||||||||
|
To the developers/maintainers of the notameViz package: - Allow up to 24 hours (and sometimes 48 hours) for your latest push to git@git.bioconductor.org:packages/notameViz.git to reflect on this report. See Troubleshooting Build Report for more information. - Use the following Renviron settings to reproduce errors and warnings. - If 'R CMD check' started to fail recently on the Linux builder(s) over a missing dependency, add the missing dependency to 'Suggests:' in your DESCRIPTION file. See Renviron.bioc for more information. |
| Package: notameViz |
| Version: 1.0.0 |
| Command: /Library/Frameworks/R.framework/Resources/bin/R CMD check --install=check:notameViz.install-out.txt --library=/Library/Frameworks/R.framework/Resources/library --no-vignettes --timings notameViz_1.0.0.tar.gz |
| StartedAt: 2025-11-06 21:06:11 -0500 (Thu, 06 Nov 2025) |
| EndedAt: 2025-11-06 21:07:59 -0500 (Thu, 06 Nov 2025) |
| EllapsedTime: 107.3 seconds |
| RetCode: 0 |
| Status: OK |
| CheckDir: notameViz.Rcheck |
| Warnings: 0 |
##############################################################################
##############################################################################
###
### Running command:
###
### /Library/Frameworks/R.framework/Resources/bin/R CMD check --install=check:notameViz.install-out.txt --library=/Library/Frameworks/R.framework/Resources/library --no-vignettes --timings notameViz_1.0.0.tar.gz
###
##############################################################################
##############################################################################
* using log directory ‘/Users/biocbuild/bbs-3.22-bioc/meat/notameViz.Rcheck’
* using R version 4.5.1 Patched (2025-09-10 r88807)
* using platform: aarch64-apple-darwin20
* R was compiled by
Apple clang version 16.0.0 (clang-1600.0.26.6)
GNU Fortran (GCC) 14.2.0
* running under: macOS Ventura 13.7.7
* using session charset: UTF-8
* using option ‘--no-vignettes’
* checking for file ‘notameViz/DESCRIPTION’ ... OK
* checking extension type ... Package
* this is package ‘notameViz’ version ‘1.0.0’
* package encoding: UTF-8
* checking package namespace information ... OK
* checking package dependencies ... OK
* checking if this is a source package ... OK
* checking if there is a namespace ... OK
* checking for hidden files and directories ... OK
* checking for portable file names ... OK
* checking for sufficient/correct file permissions ... OK
* checking whether package ‘notameViz’ can be installed ... OK
* checking installed package size ... OK
* checking package directory ... OK
* checking ‘build’ directory ... OK
* checking DESCRIPTION meta-information ... NOTE
License stub is invalid DCF.
* checking top-level files ... OK
* checking for left-over files ... OK
* checking index information ... OK
* checking package subdirectories ... OK
* checking code files for non-ASCII characters ... OK
* checking R files for syntax errors ... OK
* checking whether the package can be loaded ... OK
* checking whether the package can be loaded with stated dependencies ... OK
* checking whether the package can be unloaded cleanly ... OK
* checking whether the namespace can be loaded with stated dependencies ... OK
* checking whether the namespace can be unloaded cleanly ... OK
* checking dependencies in R code ... OK
* checking S3 generic/method consistency ... OK
* checking replacement functions ... OK
* checking foreign function calls ... OK
* checking R code for possible problems ... OK
* checking Rd files ... OK
* checking Rd metadata ... OK
* checking Rd cross-references ... NOTE
Found the following Rd file(s) with Rd \link{} targets missing package
anchors:
save_dc_plots.Rd: correct_drift
Please provide package anchors for all Rd \link{} targets not in the
package itself and the base packages.
* checking for missing documentation entries ... OK
* checking for code/documentation mismatches ... OK
* checking Rd \usage sections ... OK
* checking Rd contents ... OK
* checking for unstated dependencies in examples ... OK
* checking files in ‘vignettes’ ... OK
* checking examples ... OK
Examples with CPU (user + system) or elapsed time > 5s
user system elapsed
save_QC_plots 4.119 1.913 4.052
* checking for unstated dependencies in ‘tests’ ... OK
* checking tests ...
Running ‘testthat.R’
OK
* checking for unstated dependencies in vignettes ... OK
* checking package vignettes ... OK
* checking running R code from vignettes ... SKIPPED
* checking re-building of vignette outputs ... SKIPPED
* checking PDF version of manual ... OK
* DONE
Status: 2 NOTEs
See
‘/Users/biocbuild/bbs-3.22-bioc/meat/notameViz.Rcheck/00check.log’
for details.
notameViz.Rcheck/00install.out
############################################################################## ############################################################################## ### ### Running command: ### ### /Library/Frameworks/R.framework/Resources/bin/R CMD INSTALL notameViz ### ############################################################################## ############################################################################## * installing to library ‘/Library/Frameworks/R.framework/Versions/4.5-arm64/Resources/library’ * installing *source* package ‘notameViz’ ... ** this is package ‘notameViz’ version ‘1.0.0’ ** using staged installation ** R ** inst ** byte-compile and prepare package for lazy loading ** help *** installing help indices ** building package indices ** installing vignettes ** testing if installed package can be loaded from temporary location ** testing if installed package can be loaded from final location ** testing if installed package keeps a record of temporary installation path * DONE (notameViz)
notameViz.Rcheck/tests/testthat.Rout
R version 4.5.1 Patched (2025-09-10 r88807) -- "Great Square Root"
Copyright (C) 2025 The R Foundation for Statistical Computing
Platform: aarch64-apple-darwin20
R is free software and comes with ABSOLUTELY NO WARRANTY.
You are welcome to redistribute it under certain conditions.
Type 'license()' or 'licence()' for distribution details.
R is a collaborative project with many contributors.
Type 'contributors()' for more information and
'citation()' on how to cite R or R packages in publications.
Type 'demo()' for some demos, 'help()' for on-line help, or
'help.start()' for an HTML browser interface to help.
Type 'q()' to quit R.
> library(testthat)
> library(notameViz)
Loading required package: ggplot2
Loading required package: SummarizedExperiment
Loading required package: MatrixGenerics
Loading required package: matrixStats
Attaching package: 'MatrixGenerics'
The following objects are masked from 'package:matrixStats':
colAlls, colAnyNAs, colAnys, colAvgsPerRowSet, colCollapse,
colCounts, colCummaxs, colCummins, colCumprods, colCumsums,
colDiffs, colIQRDiffs, colIQRs, colLogSumExps, colMadDiffs,
colMads, colMaxs, colMeans2, colMedians, colMins, colOrderStats,
colProds, colQuantiles, colRanges, colRanks, colSdDiffs, colSds,
colSums2, colTabulates, colVarDiffs, colVars, colWeightedMads,
colWeightedMeans, colWeightedMedians, colWeightedSds,
colWeightedVars, rowAlls, rowAnyNAs, rowAnys, rowAvgsPerColSet,
rowCollapse, rowCounts, rowCummaxs, rowCummins, rowCumprods,
rowCumsums, rowDiffs, rowIQRDiffs, rowIQRs, rowLogSumExps,
rowMadDiffs, rowMads, rowMaxs, rowMeans2, rowMedians, rowMins,
rowOrderStats, rowProds, rowQuantiles, rowRanges, rowRanks,
rowSdDiffs, rowSds, rowSums2, rowTabulates, rowVarDiffs, rowVars,
rowWeightedMads, rowWeightedMeans, rowWeightedMedians,
rowWeightedSds, rowWeightedVars
Loading required package: GenomicRanges
Loading required package: stats4
Loading required package: BiocGenerics
Loading required package: generics
Attaching package: 'generics'
The following objects are masked from 'package:base':
as.difftime, as.factor, as.ordered, intersect, is.element, setdiff,
setequal, union
Attaching package: 'BiocGenerics'
The following objects are masked from 'package:stats':
IQR, mad, sd, var, xtabs
The following objects are masked from 'package:base':
Filter, Find, Map, Position, Reduce, anyDuplicated, aperm, append,
as.data.frame, basename, cbind, colnames, dirname, do.call,
duplicated, eval, evalq, get, grep, grepl, is.unsorted, lapply,
mapply, match, mget, order, paste, pmax, pmax.int, pmin, pmin.int,
rank, rbind, rownames, sapply, saveRDS, table, tapply, unique,
unsplit, which.max, which.min
Loading required package: S4Vectors
Attaching package: 'S4Vectors'
The following object is masked from 'package:utils':
findMatches
The following objects are masked from 'package:base':
I, expand.grid, unname
Loading required package: IRanges
Loading required package: Seqinfo
Loading required package: Biobase
Welcome to Bioconductor
Vignettes contain introductory material; view with
'browseVignettes()'. To cite Bioconductor, see
'citation("Biobase")', and for packages 'citation("pkgname")'.
Attaching package: 'Biobase'
The following object is masked from 'package:MatrixGenerics':
rowMedians
The following objects are masked from 'package:matrixStats':
anyMissing, rowMedians
>
> test_check("notameViz")
Running tests in parallel requires the 3rd edition
INFO [2025-11-06 21:07:47] Saved to: /var/folders/r0/l4fjk6cj5xj0j3brt4bplpl40000gt/T//Rtmp2A5K5T\test\recursive/file8eaf37e56d0c.pdf
INFO [2025-11-06 21:07:47] Saved to: /var/folders/r0/l4fjk6cj5xj0j3brt4bplpl40000gt/T//Rtmp2A5K5T/file8eaf57df791d.pdf
INFO [2025-11-06 21:07:47] Saved to: /var/folders/r0/l4fjk6cj5xj0j3brt4bplpl40000gt/T//Rtmp2A5K5T/file8eaf4025c7fe.emf
INFO [2025-11-06 21:07:47] Saved to: /var/folders/r0/l4fjk6cj5xj0j3brt4bplpl40000gt/T//Rtmp2A5K5T/file8eaf296f90f0.svg
INFO [2025-11-06 21:07:48] Saved to: /var/folders/r0/l4fjk6cj5xj0j3brt4bplpl40000gt/T//Rtmp2A5K5T/file8eaf4fd23d99.png
INFO [2025-11-06 21:07:48] Saved to: /var/folders/r0/l4fjk6cj5xj0j3brt4bplpl40000gt/T//Rtmp2A5K5T/file8eaff483b42.tiff
2025-11-06 21:07:48.307 R[36527:651632878] XType: Using static font registry.
INFO [2025-11-06 21:07:48] Saved to: /var/folders/r0/l4fjk6cj5xj0j3brt4bplpl40000gt/T//Rtmp2A5K5T\test\/HILIC_neg_259_9623a4_4322.emf
INFO [2025-11-06 21:07:48] Saved to: /var/folders/r0/l4fjk6cj5xj0j3brt4bplpl40000gt/T//Rtmp2A5K5T\test\/HILIC_neg_108_1065a2_6121.emf
INFO [2025-11-06 21:07:48] Saved to: /var/folders/r0/l4fjk6cj5xj0j3brt4bplpl40000gt/T//Rtmp2A5K5T\test\/HILIC_neg_158_23a1_4128.emf
INFO [2025-11-06 21:07:48] Saved to: /var/folders/r0/l4fjk6cj5xj0j3brt4bplpl40000gt/T//Rtmp2A5K5T\test\/HILIC_neg_251_0056a0_6161.emf
INFO [2025-11-06 21:07:48] Saved to: /var/folders/r0/l4fjk6cj5xj0j3brt4bplpl40000gt/T//Rtmp2A5K5T\test\/HILIC_neg_401_52a4_211.emf
INFO [2025-11-06 21:07:48] Saved line plots with mean line to: /var/folders/r0/l4fjk6cj5xj0j3brt4bplpl40000gt/T//Rtmp2A5K5T\test\
INFO [2025-11-06 21:07:48] Saved to: /var/folders/r0/l4fjk6cj5xj0j3brt4bplpl40000gt/T//Rtmp2A5K5T\test\/Glucose.emf
INFO [2025-11-06 21:07:49] Saved to: /var/folders/r0/l4fjk6cj5xj0j3brt4bplpl40000gt/T//Rtmp2A5K5T\test\/Threoline.emf
INFO [2025-11-06 21:07:49] Saved to: /var/folders/r0/l4fjk6cj5xj0j3brt4bplpl40000gt/T//Rtmp2A5K5T\test\/5-AVAB.emf
INFO [2025-11-06 21:07:49] Saved to: /var/folders/r0/l4fjk6cj5xj0j3brt4bplpl40000gt/T//Rtmp2A5K5T\test\/1_2 acid.emf
INFO [2025-11-06 21:07:49] Saved to: /var/folders/r0/l4fjk6cj5xj0j3brt4bplpl40000gt/T//Rtmp2A5K5T\test\/20_0 carbon chain.emf
INFO [2025-11-06 21:07:49] Saved line plots with mean line to: /var/folders/r0/l4fjk6cj5xj0j3brt4bplpl40000gt/T//Rtmp2A5K5T\test\
INFO [2025-11-06 21:07:49] Saved to: /var/folders/r0/l4fjk6cj5xj0j3brt4bplpl40000gt/T//Rtmp2A5K5T\test\/HILIC_neg_259_9623a4_4322.emf
INFO [2025-11-06 21:07:49] Saved to: /var/folders/r0/l4fjk6cj5xj0j3brt4bplpl40000gt/T//Rtmp2A5K5T\test\/HILIC_neg_108_1065a2_6121.emf
INFO [2025-11-06 21:07:49] Saved to: /var/folders/r0/l4fjk6cj5xj0j3brt4bplpl40000gt/T//Rtmp2A5K5T\test\/HILIC_neg_158_23a1_4128.emf
INFO [2025-11-06 21:07:49] Saved to: /var/folders/r0/l4fjk6cj5xj0j3brt4bplpl40000gt/T//Rtmp2A5K5T\test\/HILIC_neg_251_0056a0_6161.emf
INFO [2025-11-06 21:07:49] Saved to: /var/folders/r0/l4fjk6cj5xj0j3brt4bplpl40000gt/T//Rtmp2A5K5T\test\/HILIC_neg_401_52a4_211.emf
INFO [2025-11-06 21:07:49] Saved group boxplots to: /var/folders/r0/l4fjk6cj5xj0j3brt4bplpl40000gt/T//Rtmp2A5K5T\test\
INFO [2025-11-06 21:07:49] Saved to: /var/folders/r0/l4fjk6cj5xj0j3brt4bplpl40000gt/T//Rtmp2A5K5T\test\/HILIC_neg_259_9623a4_4322.emf
INFO [2025-11-06 21:07:49] Saved to: /var/folders/r0/l4fjk6cj5xj0j3brt4bplpl40000gt/T//Rtmp2A5K5T\test\/HILIC_neg_108_1065a2_6121.emf
INFO [2025-11-06 21:07:50] Saved to: /var/folders/r0/l4fjk6cj5xj0j3brt4bplpl40000gt/T//Rtmp2A5K5T\test\/HILIC_neg_158_23a1_4128.emf
INFO [2025-11-06 21:07:50] Saved to: /var/folders/r0/l4fjk6cj5xj0j3brt4bplpl40000gt/T//Rtmp2A5K5T\test\/HILIC_neg_251_0056a0_6161.emf
INFO [2025-11-06 21:07:50] Saved to: /var/folders/r0/l4fjk6cj5xj0j3brt4bplpl40000gt/T//Rtmp2A5K5T\test\/HILIC_neg_401_52a4_211.emf
INFO [2025-11-06 21:07:50] Saved group boxplots to: /var/folders/r0/l4fjk6cj5xj0j3brt4bplpl40000gt/T//Rtmp2A5K5T\test\
INFO [2025-11-06 21:07:50] Saved to: /var/folders/r0/l4fjk6cj5xj0j3brt4bplpl40000gt/T//Rtmp2A5K5T\test\/HILIC_neg_259_9623a4_4322.emf
INFO [2025-11-06 21:07:50] Saved to: /var/folders/r0/l4fjk6cj5xj0j3brt4bplpl40000gt/T//Rtmp2A5K5T\test\/HILIC_neg_108_1065a2_6121.emf
INFO [2025-11-06 21:07:50] Saved to: /var/folders/r0/l4fjk6cj5xj0j3brt4bplpl40000gt/T//Rtmp2A5K5T\test\/HILIC_neg_158_23a1_4128.emf
INFO [2025-11-06 21:07:50] Saved to: /var/folders/r0/l4fjk6cj5xj0j3brt4bplpl40000gt/T//Rtmp2A5K5T\test\/HILIC_neg_251_0056a0_6161.emf
INFO [2025-11-06 21:07:50] Saved to: /var/folders/r0/l4fjk6cj5xj0j3brt4bplpl40000gt/T//Rtmp2A5K5T\test\/HILIC_neg_401_52a4_211.emf
INFO [2025-11-06 21:07:50] Saved beeswarm plots to: /var/folders/r0/l4fjk6cj5xj0j3brt4bplpl40000gt/T//Rtmp2A5K5T\test\
INFO [2025-11-06 21:07:50] Saved to: /var/folders/r0/l4fjk6cj5xj0j3brt4bplpl40000gt/T//Rtmp2A5K5T\test\/Glucose.emf
INFO [2025-11-06 21:07:50] Saved to: /var/folders/r0/l4fjk6cj5xj0j3brt4bplpl40000gt/T//Rtmp2A5K5T\test\/Threoline.emf
INFO [2025-11-06 21:07:50] Saved to: /var/folders/r0/l4fjk6cj5xj0j3brt4bplpl40000gt/T//Rtmp2A5K5T\test\/5-AVAB.emf
INFO [2025-11-06 21:07:50] Saved to: /var/folders/r0/l4fjk6cj5xj0j3brt4bplpl40000gt/T//Rtmp2A5K5T\test\/1_2 acid.emf
INFO [2025-11-06 21:07:51] Saved to: /var/folders/r0/l4fjk6cj5xj0j3brt4bplpl40000gt/T//Rtmp2A5K5T\test\/20_0 carbon chain.emf
INFO [2025-11-06 21:07:51] Saved beeswarm plots to: /var/folders/r0/l4fjk6cj5xj0j3brt4bplpl40000gt/T//Rtmp2A5K5T\test\
INFO [2025-11-06 21:07:51] Saved to: /var/folders/r0/l4fjk6cj5xj0j3brt4bplpl40000gt/T//Rtmp2A5K5T\test\/HILIC_neg_259_9623a4_4322.emf
INFO [2025-11-06 21:07:51] Saved to: /var/folders/r0/l4fjk6cj5xj0j3brt4bplpl40000gt/T//Rtmp2A5K5T\test\/HILIC_neg_108_1065a2_6121.emf
INFO [2025-11-06 21:07:51] Saved to: /var/folders/r0/l4fjk6cj5xj0j3brt4bplpl40000gt/T//Rtmp2A5K5T\test\/HILIC_neg_158_23a1_4128.emf
INFO [2025-11-06 21:07:51] Saved to: /var/folders/r0/l4fjk6cj5xj0j3brt4bplpl40000gt/T//Rtmp2A5K5T\test\/HILIC_neg_251_0056a0_6161.emf
INFO [2025-11-06 21:07:51] Saved to: /var/folders/r0/l4fjk6cj5xj0j3brt4bplpl40000gt/T//Rtmp2A5K5T\test\/HILIC_neg_401_52a4_211.emf
INFO [2025-11-06 21:07:51] Saved scatter plots to: /var/folders/r0/l4fjk6cj5xj0j3brt4bplpl40000gt/T//Rtmp2A5K5T\test\
INFO [2025-11-06 21:07:51] Saved to: /var/folders/r0/l4fjk6cj5xj0j3brt4bplpl40000gt/T//Rtmp2A5K5T\test\/HILIC_neg_259_9623a4_4322.emf
INFO [2025-11-06 21:07:51] Saved to: /var/folders/r0/l4fjk6cj5xj0j3brt4bplpl40000gt/T//Rtmp2A5K5T\test\/HILIC_neg_108_1065a2_6121.emf
INFO [2025-11-06 21:07:51] Saved to: /var/folders/r0/l4fjk6cj5xj0j3brt4bplpl40000gt/T//Rtmp2A5K5T\test\/HILIC_neg_158_23a1_4128.emf
INFO [2025-11-06 21:07:51] Saved to: /var/folders/r0/l4fjk6cj5xj0j3brt4bplpl40000gt/T//Rtmp2A5K5T\test\/HILIC_neg_251_0056a0_6161.emf
INFO [2025-11-06 21:07:51] Saved to: /var/folders/r0/l4fjk6cj5xj0j3brt4bplpl40000gt/T//Rtmp2A5K5T\test\/HILIC_neg_401_52a4_211.emf
INFO [2025-11-06 21:07:51] Saved scatter plots to: /var/folders/r0/l4fjk6cj5xj0j3brt4bplpl40000gt/T//Rtmp2A5K5T\test\
INFO [2025-11-06 21:07:52] Saved to: /var/folders/r0/l4fjk6cj5xj0j3brt4bplpl40000gt/T//Rtmp2A5K5T\test\/HILIC_neg_259_9623a4_4322.emf
INFO [2025-11-06 21:07:52] Saved to: /var/folders/r0/l4fjk6cj5xj0j3brt4bplpl40000gt/T//Rtmp2A5K5T\test\/HILIC_neg_108_1065a2_6121.emf
INFO [2025-11-06 21:07:52] Saved to: /var/folders/r0/l4fjk6cj5xj0j3brt4bplpl40000gt/T//Rtmp2A5K5T\test\/HILIC_neg_158_23a1_4128.emf
INFO [2025-11-06 21:07:52] Saved to: /var/folders/r0/l4fjk6cj5xj0j3brt4bplpl40000gt/T//Rtmp2A5K5T\test\/HILIC_neg_251_0056a0_6161.emf
INFO [2025-11-06 21:07:52] Saved to: /var/folders/r0/l4fjk6cj5xj0j3brt4bplpl40000gt/T//Rtmp2A5K5T\test\/HILIC_neg_401_52a4_211.emf
INFO [2025-11-06 21:07:52] Saved line plots with mean line to: /var/folders/r0/l4fjk6cj5xj0j3brt4bplpl40000gt/T//Rtmp2A5K5T\test\
INFO [2025-11-06 21:07:53] Saved to: /var/folders/r0/l4fjk6cj5xj0j3brt4bplpl40000gt/T//Rtmp2A5K5T\test\/HILIC_neg_259_9623a4_4322.emf
INFO [2025-11-06 21:07:53] Saved to: /var/folders/r0/l4fjk6cj5xj0j3brt4bplpl40000gt/T//Rtmp2A5K5T\test\/HILIC_neg_108_1065a2_6121.emf
INFO [2025-11-06 21:07:53] Saved to: /var/folders/r0/l4fjk6cj5xj0j3brt4bplpl40000gt/T//Rtmp2A5K5T\test\/HILIC_neg_158_23a1_4128.emf
INFO [2025-11-06 21:07:53] Saved to: /var/folders/r0/l4fjk6cj5xj0j3brt4bplpl40000gt/T//Rtmp2A5K5T\test\/HILIC_neg_251_0056a0_6161.emf
INFO [2025-11-06 21:07:53] Saved to: /var/folders/r0/l4fjk6cj5xj0j3brt4bplpl40000gt/T//Rtmp2A5K5T\test\/HILIC_neg_401_52a4_211.emf
INFO [2025-11-06 21:07:53] Saved line plots with mean line to: /var/folders/r0/l4fjk6cj5xj0j3brt4bplpl40000gt/T//Rtmp2A5K5T\test\
INFO [2025-11-06 21:07:54]
Saved batch plots to: /var/folders/r0/l4fjk6cj5xj0j3brt4bplpl40000gt/T//Rtmp2A5K5T\test\batch_plots.pdf
INFO [2025-11-06 21:07:54] Identified m/z column Average_Mz and retention time column Average_Rt_min
INFO [2025-11-06 21:07:54] Identified m/z column Average_Mz and retention time column Average_Rt_min
INFO [2025-11-06 21:07:54] Identified m/z column Average_Mz and retention time column Average_Rt_min
INFO [2025-11-06 21:07:54]
92% of features flagged for low quality
INFO [2025-11-06 21:07:54] Identified m/z column Average_Mz and retention time column Average_Rt_min
INFO [2025-11-06 21:07:54] Identified m/z column Average_Mz and retention time column Average_Rt_min
[ FAIL 0 | WARN 2 | SKIP 0 | PASS 26 ]
[ FAIL 0 | WARN 2 | SKIP 0 | PASS 26 ]
>
> proc.time()
user system elapsed
9.531 0.291 10.087
notameViz.Rcheck/notameViz-Ex.timings
| name | user | system | elapsed | |
| manhattan_plot | 2.573 | 0.512 | 1.941 | |
| mz_rt_plot | 1.443 | 0.660 | 0.906 | |
| plot_dendrogram | 0.169 | 0.014 | 0.183 | |
| plot_dist_density | 0.457 | 0.252 | 0.504 | |
| plot_effect_heatmap | 1.440 | 0.576 | 1.031 | |
| plot_injection_lm | 3.156 | 1.702 | 1.587 | |
| plot_p_histogram | 1.099 | 0.677 | 0.619 | |
| plot_pca | 0.122 | 0.011 | 0.137 | |
| plot_pca_arrows | 0.269 | 0.006 | 0.288 | |
| plot_pca_hexbin | 0.114 | 0.006 | 0.123 | |
| plot_pca_loadings | 0.102 | 0.003 | 0.111 | |
| plot_quality | 0.428 | 0.002 | 0.462 | |
| plot_sample_boxplots | 0.321 | 0.003 | 0.335 | |
| plot_sample_heatmap | 0.194 | 0.003 | 0.197 | |
| plot_tsne | 0.149 | 0.005 | 0.158 | |
| plot_tsne_arrows | 0.276 | 0.002 | 0.283 | |
| plot_tsne_hexbin | 0.120 | 0.005 | 0.130 | |
| save_QC_plots | 4.119 | 1.913 | 4.052 | |
| save_batch_plots | 2.831 | 0.018 | 2.894 | |
| save_beeswarm_plots | 1.865 | 0.028 | 2.022 | |
| save_dc_plots | 0.908 | 0.335 | 0.971 | |
| save_group_boxplots | 2.653 | 0.045 | 2.880 | |
| save_group_lineplots | 4.404 | 0.117 | 4.592 | |
| save_plot | 0.190 | 0.003 | 0.193 | |
| save_scatter_plots | 0.848 | 0.007 | 0.898 | |
| save_subject_line_plots | 0.808 | 0.006 | 0.830 | |
| visualize_clusters | 0.610 | 0.007 | 0.618 | |
| volcano_plot | 1.202 | 0.667 | 0.657 | |