| Back to Multiple platform build/check report for BioC 3.22: simplified long |
|
This page was generated on 2025-11-20 12:06 -0500 (Thu, 20 Nov 2025).
| Hostname | OS | Arch (*) | R version | Installed pkgs |
|---|---|---|---|---|
| nebbiolo2 | Linux (Ubuntu 24.04.3 LTS) | x86_64 | 4.5.2 (2025-10-31) -- "[Not] Part in a Rumble" | 4615 |
| merida1 | macOS 12.7.6 Monterey | x86_64 | 4.5.2 Patched (2025-11-05 r88990) -- "[Not] Part in a Rumble" | 4610 |
| kjohnson1 | macOS 13.7.5 Ventura | arm64 | 4.5.2 Patched (2025-11-04 r88984) -- "[Not] Part in a Rumble" | 4598 |
| taishan | Linux (openEuler 24.03 LTS) | aarch64 | 4.5.0 (2025-04-11) -- "How About a Twenty-Six" | 4668 |
| Click on any hostname to see more info about the system (e.g. compilers) (*) as reported by 'uname -p', except on Windows and Mac OS X | ||||
| Package 1474/2361 | Hostname | OS / Arch | INSTALL | BUILD | CHECK | BUILD BIN | ||||||||
| notameStats 1.0.0 (landing page) Vilhelm Suksi
| nebbiolo2 | Linux (Ubuntu 24.04.3 LTS) / x86_64 | OK | OK | OK | |||||||||
| merida1 | macOS 12.7.6 Monterey / x86_64 | OK | OK | OK | OK | |||||||||
| kjohnson1 | macOS 13.7.5 Ventura / arm64 | OK | OK | OK | OK | |||||||||
| taishan | Linux (openEuler 24.03 LTS) / aarch64 | OK | OK | OK | ||||||||||
|
To the developers/maintainers of the notameStats package: - Allow up to 24 hours (and sometimes 48 hours) for your latest push to git@git.bioconductor.org:packages/notameStats.git to reflect on this report. See Troubleshooting Build Report for more information. - Use the following Renviron settings to reproduce errors and warnings. - If 'R CMD check' started to fail recently on the Linux builder(s) over a missing dependency, add the missing dependency to 'Suggests:' in your DESCRIPTION file. See Renviron.bioc for more information. |
| Package: notameStats |
| Version: 1.0.0 |
| Command: /Library/Frameworks/R.framework/Resources/bin/R CMD check --install=check:notameStats.install-out.txt --library=/Library/Frameworks/R.framework/Resources/library --no-vignettes --timings notameStats_1.0.0.tar.gz |
| StartedAt: 2025-11-18 10:13:43 -0500 (Tue, 18 Nov 2025) |
| EndedAt: 2025-11-18 10:16:02 -0500 (Tue, 18 Nov 2025) |
| EllapsedTime: 138.2 seconds |
| RetCode: 0 |
| Status: OK |
| CheckDir: notameStats.Rcheck |
| Warnings: 0 |
##############################################################################
##############################################################################
###
### Running command:
###
### /Library/Frameworks/R.framework/Resources/bin/R CMD check --install=check:notameStats.install-out.txt --library=/Library/Frameworks/R.framework/Resources/library --no-vignettes --timings notameStats_1.0.0.tar.gz
###
##############################################################################
##############################################################################
* using log directory ‘/Users/biocbuild/bbs-3.22-bioc/meat/notameStats.Rcheck’
* using R version 4.5.2 Patched (2025-11-04 r88984)
* using platform: aarch64-apple-darwin20
* R was compiled by
Apple clang version 16.0.0 (clang-1600.0.26.6)
GNU Fortran (GCC) 14.2.0
* running under: macOS Ventura 13.7.8
* using session charset: UTF-8
* using option ‘--no-vignettes’
* checking for file ‘notameStats/DESCRIPTION’ ... OK
* checking extension type ... Package
* this is package ‘notameStats’ version ‘1.0.0’
* package encoding: UTF-8
* checking package namespace information ... OK
* checking package dependencies ... OK
* checking if this is a source package ... OK
* checking if there is a namespace ... OK
* checking for hidden files and directories ... OK
* checking for portable file names ... OK
* checking for sufficient/correct file permissions ... OK
* checking whether package ‘notameStats’ can be installed ... OK
* checking installed package size ... OK
* checking package directory ... OK
* checking ‘build’ directory ... OK
* checking DESCRIPTION meta-information ... NOTE
License stub is invalid DCF.
* checking top-level files ... OK
* checking for left-over files ... OK
* checking index information ... OK
* checking package subdirectories ... OK
* checking code files for non-ASCII characters ... OK
* checking R files for syntax errors ... OK
* checking whether the package can be loaded ... OK
* checking whether the package can be loaded with stated dependencies ... OK
* checking whether the package can be unloaded cleanly ... OK
* checking whether the namespace can be loaded with stated dependencies ... OK
* checking whether the namespace can be unloaded cleanly ... OK
* checking dependencies in R code ... OK
* checking S3 generic/method consistency ... OK
* checking replacement functions ... OK
* checking foreign function calls ... OK
* checking R code for possible problems ... OK
* checking Rd files ... OK
* checking Rd metadata ... OK
* checking Rd cross-references ... OK
* checking for missing documentation entries ... OK
* checking for code/documentation mismatches ... OK
* checking Rd \usage sections ... OK
* checking Rd contents ... OK
* checking for unstated dependencies in examples ... OK
* checking files in ‘vignettes’ ... OK
* checking examples ... OK
Examples with CPU (user + system) or elapsed time > 5s
user system elapsed
pls_da 6.913 0.811 8.754
perform_lmer 6.156 0.976 3.271
perform_auc 6.194 0.869 3.589
muvr_analysis 5.557 0.171 6.723
* checking for unstated dependencies in ‘tests’ ... OK
* checking tests ...
Running ‘testthat.R’
OK
* checking for unstated dependencies in vignettes ... OK
* checking package vignettes ... OK
* checking running R code from vignettes ... SKIPPED
* checking re-building of vignette outputs ... SKIPPED
* checking PDF version of manual ... OK
* DONE
Status: 1 NOTE
See
‘/Users/biocbuild/bbs-3.22-bioc/meat/notameStats.Rcheck/00check.log’
for details.
notameStats.Rcheck/00install.out
############################################################################## ############################################################################## ### ### Running command: ### ### /Library/Frameworks/R.framework/Resources/bin/R CMD INSTALL notameStats ### ############################################################################## ############################################################################## * installing to library ‘/Library/Frameworks/R.framework/Versions/4.5-arm64/Resources/library’ * installing *source* package ‘notameStats’ ... ** this is package ‘notameStats’ version ‘1.0.0’ ** using staged installation ** R ** inst ** byte-compile and prepare package for lazy loading ** help *** installing help indices ** building package indices ** installing vignettes ** testing if installed package can be loaded from temporary location ** testing if installed package can be loaded from final location ** testing if installed package keeps a record of temporary installation path * DONE (notameStats)
notameStats.Rcheck/tests/testthat.Rout
R version 4.5.2 Patched (2025-11-04 r88984) -- "[Not] Part in a Rumble"
Copyright (C) 2025 The R Foundation for Statistical Computing
Platform: aarch64-apple-darwin20
R is free software and comes with ABSOLUTELY NO WARRANTY.
You are welcome to redistribute it under certain conditions.
Type 'license()' or 'licence()' for distribution details.
R is a collaborative project with many contributors.
Type 'contributors()' for more information and
'citation()' on how to cite R or R packages in publications.
Type 'demo()' for some demos, 'help()' for on-line help, or
'help.start()' for an HTML browser interface to help.
Type 'q()' to quit R.
> library(testthat)
> library(notameStats)
Loading required package: SummarizedExperiment
Loading required package: MatrixGenerics
Loading required package: matrixStats
Attaching package: 'MatrixGenerics'
The following objects are masked from 'package:matrixStats':
colAlls, colAnyNAs, colAnys, colAvgsPerRowSet, colCollapse,
colCounts, colCummaxs, colCummins, colCumprods, colCumsums,
colDiffs, colIQRDiffs, colIQRs, colLogSumExps, colMadDiffs,
colMads, colMaxs, colMeans2, colMedians, colMins, colOrderStats,
colProds, colQuantiles, colRanges, colRanks, colSdDiffs, colSds,
colSums2, colTabulates, colVarDiffs, colVars, colWeightedMads,
colWeightedMeans, colWeightedMedians, colWeightedSds,
colWeightedVars, rowAlls, rowAnyNAs, rowAnys, rowAvgsPerColSet,
rowCollapse, rowCounts, rowCummaxs, rowCummins, rowCumprods,
rowCumsums, rowDiffs, rowIQRDiffs, rowIQRs, rowLogSumExps,
rowMadDiffs, rowMads, rowMaxs, rowMeans2, rowMedians, rowMins,
rowOrderStats, rowProds, rowQuantiles, rowRanges, rowRanks,
rowSdDiffs, rowSds, rowSums2, rowTabulates, rowVarDiffs, rowVars,
rowWeightedMads, rowWeightedMeans, rowWeightedMedians,
rowWeightedSds, rowWeightedVars
Loading required package: GenomicRanges
Loading required package: stats4
Loading required package: BiocGenerics
Loading required package: generics
Attaching package: 'generics'
The following objects are masked from 'package:base':
as.difftime, as.factor, as.ordered, intersect, is.element, setdiff,
setequal, union
Attaching package: 'BiocGenerics'
The following objects are masked from 'package:stats':
IQR, mad, sd, var, xtabs
The following objects are masked from 'package:base':
Filter, Find, Map, Position, Reduce, anyDuplicated, aperm, append,
as.data.frame, basename, cbind, colnames, dirname, do.call,
duplicated, eval, evalq, get, grep, grepl, is.unsorted, lapply,
mapply, match, mget, order, paste, pmax, pmax.int, pmin, pmin.int,
rank, rbind, rownames, sapply, saveRDS, table, tapply, unique,
unsplit, which.max, which.min
Loading required package: S4Vectors
Attaching package: 'S4Vectors'
The following object is masked from 'package:utils':
findMatches
The following objects are masked from 'package:base':
I, expand.grid, unname
Loading required package: IRanges
Loading required package: Seqinfo
Loading required package: Biobase
Welcome to Bioconductor
Vignettes contain introductory material; view with
'browseVignettes()'. To cite Bioconductor, see
'citation("Biobase")', and for packages 'citation("pkgname")'.
Attaching package: 'Biobase'
The following object is masked from 'package:MatrixGenerics':
rowMedians
The following objects are masked from 'package:matrixStats':
anyMissing, rowMedians
>
> test_check("notameStats")
Running tests in parallel requires the 3rd edition.
INFO [2025-11-18 10:15:42] Starting to compute Cohen's D between groups B & A from time change 2 - 1
INFO [2025-11-18 10:15:42] Cohen's D computed.
INFO [2025-11-18 10:15:42] Starting to compute Cohen's D between groups B & A
INFO [2025-11-18 10:15:42] Cohen's D computed.
INFO [2025-11-18 10:15:43] Starting to compute fold changes.
INFO [2025-11-18 10:15:43] Fold changes computed.
INFO [2025-11-18 10:15:43] Starting to compute fold changes.
INFO [2025-11-18 10:15:43] Fold changes computed.
INFO [2025-11-18 10:15:43] Starting linear regression.
INFO [2025-11-18 10:15:44] Linear regression performed.
INFO [2025-11-18 10:15:44] Starting linear regression.
INFO [2025-11-18 10:15:44] Linear regression performed.
INFO [2025-11-18 10:15:44]
92% of features flagged for low quality
INFO [2025-11-18 10:15:44] Starting linear regression.
INFO [2025-11-18 10:15:45] Linear regression performed.
INFO [2025-11-18 10:15:45] Starting logistic regression
INFO [2025-11-18 10:15:46] Logistic regression performed.
INFO [2025-11-18 10:15:46] Starting logistic regression
INFO [2025-11-18 10:15:47] Logistic regression performed.
INFO [2025-11-18 10:15:47] Starting to compute Cohen's D between groups B & A
INFO [2025-11-18 10:15:47] Cohen's D computed.
INFO [2025-11-18 10:15:47] Starting to compute Cohen's D between groups C & A
INFO [2025-11-18 10:15:47] Cohen's D computed.
INFO [2025-11-18 10:15:47] Starting to compute Cohen's D between groups C & B
INFO [2025-11-18 10:15:47] Cohen's D computed.
INFO [2025-11-18 10:15:47] Starting to compute Cohen's D between groups B & A from time change 2 - 1
INFO [2025-11-18 10:15:47] Cohen's D computed.
INFO [2025-11-18 10:15:47] Starting to compute Cohen's D between groups B & A from time change 3 - 1
INFO [2025-11-18 10:15:47] Cohen's D computed.
INFO [2025-11-18 10:15:47] Starting to compute Cohen's D between groups B & A from time change 3 - 2
INFO [2025-11-18 10:15:47] Cohen's D computed.
INFO [2025-11-18 10:15:48] Starting to compute Cohen's D between groups C & A from time change 2 - 1
INFO [2025-11-18 10:15:48] Cohen's D computed.
INFO [2025-11-18 10:15:48] Starting to compute Cohen's D between groups C & A from time change 3 - 1
INFO [2025-11-18 10:15:48] Cohen's D computed.
INFO [2025-11-18 10:15:48] Starting to compute Cohen's D between groups C & A from time change 3 - 2
INFO [2025-11-18 10:15:48] Cohen's D computed.
INFO [2025-11-18 10:15:48] Starting to compute Cohen's D between groups C & B from time change 2 - 1
INFO [2025-11-18 10:15:48] Cohen's D computed.
INFO [2025-11-18 10:15:48] Starting to compute Cohen's D between groups C & B from time change 3 - 1
INFO [2025-11-18 10:15:48] Cohen's D computed.
INFO [2025-11-18 10:15:48] Starting to compute Cohen's D between groups C & B from time change 3 - 2
INFO [2025-11-18 10:15:48] Cohen's D computed.
INFO [2025-11-18 10:15:48] Starting to compute Cohen's D between groups B & A from time change 2 - 1
INFO [2025-11-18 10:15:48] Cohen's D computed.
INFO [2025-11-18 10:15:48] Starting to compute Cohen's D between groups B & A from time change 3 - 1
INFO [2025-11-18 10:15:48] Cohen's D computed.
INFO [2025-11-18 10:15:48] Starting to compute Cohen's D between groups B & A from time change 3 - 2
INFO [2025-11-18 10:15:48] Cohen's D computed.
INFO [2025-11-18 10:15:48] Starting to compute Cohen's D between groups C & A from time change 2 - 1
INFO [2025-11-18 10:15:48] Cohen's D computed.
INFO [2025-11-18 10:15:49] Starting to compute Cohen's D between groups C & A from time change 3 - 1
INFO [2025-11-18 10:15:49] Cohen's D computed.
INFO [2025-11-18 10:15:49] Starting to compute Cohen's D between groups C & A from time change 3 - 2
INFO [2025-11-18 10:15:49] Cohen's D computed.
INFO [2025-11-18 10:15:49] Starting to compute Cohen's D between groups C & B from time change 2 - 1
INFO [2025-11-18 10:15:49] Cohen's D computed.
INFO [2025-11-18 10:15:49] Starting to compute Cohen's D between groups C & B from time change 3 - 1
INFO [2025-11-18 10:15:49] Cohen's D computed.
INFO [2025-11-18 10:15:49] Starting to compute Cohen's D between groups C & B from time change 3 - 2
INFO [2025-11-18 10:15:49] Cohen's D computed.
INFO [2025-11-18 10:15:49] Starting to compute Cohen's D between groups B & A from time change 2 - 1
INFO [2025-11-18 10:15:49] Cohen's D computed.
INFO [2025-11-18 10:15:49] Starting to compute Cohen's D between groups B & A from time change 3 - 1
INFO [2025-11-18 10:15:49] Cohen's D computed.
INFO [2025-11-18 10:15:49] Starting to compute Cohen's D between groups B & A from time change 3 - 2
INFO [2025-11-18 10:15:49] Cohen's D computed.
INFO [2025-11-18 10:15:49] Starting to compute Cohen's D between groups C & A from time change 2 - 1
INFO [2025-11-18 10:15:49] Cohen's D computed.
INFO [2025-11-18 10:15:49] Starting to compute Cohen's D between groups C & B from time change 2 - 1
INFO [2025-11-18 10:15:49] Cohen's D computed.
INFO [2025-11-18 10:15:50] Starting to compute Cohen's D between groups B & A from time change 2 - 1
INFO [2025-11-18 10:15:50] Cohen's D computed.
INFO [2025-11-18 10:15:50] Starting to compute Cohen's D between groups B & A from time change 3 - 1
INFO [2025-11-18 10:15:50] Cohen's D computed.
INFO [2025-11-18 10:15:50] Starting to compute Cohen's D between groups B & A from time change 3 - 2
INFO [2025-11-18 10:15:50] Cohen's D computed.
INFO [2025-11-18 10:15:50] Starting to compute Cohen's D between groups C & A from time change 2 - 1
INFO [2025-11-18 10:15:50] Cohen's D computed.
INFO [2025-11-18 10:15:50] Starting to compute Cohen's D between groups C & B from time change 2 - 1
INFO [2025-11-18 10:15:50] Cohen's D computed.
INFO [2025-11-18 10:15:50] Starting to compute Cohen's D between groups B & A from time change 3 - 2
INFO [2025-11-18 10:15:50] Cohen's D computed.
INFO [2025-11-18 10:15:50] Starting to compute Cohen's D between groups C & A from time change 2 - 1
INFO [2025-11-18 10:15:50] Cohen's D computed.
INFO [2025-11-18 10:15:50] Starting to compute Cohen's D between groups C & A from time change 3 - 1
INFO [2025-11-18 10:15:50] Cohen's D computed.
INFO [2025-11-18 10:15:50] Starting to compute Cohen's D between groups C & A from time change 3 - 2
INFO [2025-11-18 10:15:50] Cohen's D computed.
INFO [2025-11-18 10:15:50] Starting to compute Cohen's D between groups C & B from time change 2 - 1
INFO [2025-11-18 10:15:50] Cohen's D computed.
INFO [2025-11-18 10:15:50] Starting to compute Cohen's D between groups C & B from time change 3 - 1
INFO [2025-11-18 10:15:51] Cohen's D computed.
INFO [2025-11-18 10:15:51] Starting to compute Cohen's D between groups C & B from time change 3 - 2
INFO [2025-11-18 10:15:51] Cohen's D computed.
INFO [2025-11-18 10:15:51] Starting paired tests for 1 & 2
INFO [2025-11-18 10:15:51] Found 20 complete pairs.
INFO [2025-11-18 10:15:51] Paired tests performed.
INFO [2025-11-18 10:15:51] Starting tests for 1 & 2
INFO [2025-11-18 10:15:51] Tests performed
INFO [2025-11-18 10:15:51] Starting tests for 1 & 3
INFO [2025-11-18 10:15:51] Tests performed
INFO [2025-11-18 10:15:51] Starting tests for 2 & 3
INFO [2025-11-18 10:15:51] Tests performed
INFO [2025-11-18 10:15:51] Starting tests for 1 & 2
INFO [2025-11-18 10:15:51] Tests performed
INFO [2025-11-18 10:15:51] Starting tests for 1 & 3
INFO [2025-11-18 10:15:51] Tests performed
INFO [2025-11-18 10:15:51] Starting tests for 2 & 3
INFO [2025-11-18 10:15:51] Tests performed
INFO [2025-11-18 10:15:52] Starting paired tests for 1 & 2
INFO [2025-11-18 10:15:52] Found 4 complete pairs.
INFO [2025-11-18 10:15:52] Paired tests performed.
INFO [2025-11-18 10:15:52] Starting paired tests for 1 & 3
INFO [2025-11-18 10:15:52] Found 4 complete pairs.
INFO [2025-11-18 10:15:52] Paired tests performed.
INFO [2025-11-18 10:15:52] Starting paired tests for 2 & 3
INFO [2025-11-18 10:15:52] Found 4 complete pairs.
INFO [2025-11-18 10:15:52] Paired tests performed.
INFO [2025-11-18 10:15:52] Starting paired tests for 1 & 2
INFO [2025-11-18 10:15:52] Found 8 complete pairs.
INFO [2025-11-18 10:15:52] Paired tests performed.
INFO [2025-11-18 10:15:52] Starting paired tests for 1 & 3
INFO [2025-11-18 10:15:52] Found 8 complete pairs.
INFO [2025-11-18 10:15:52] Paired tests performed.
INFO [2025-11-18 10:15:52] Starting paired tests for 2 & 3
INFO [2025-11-18 10:15:52] Found 8 complete pairs.
INFO [2025-11-18 10:15:52] Paired tests performed.
INFO [2025-11-18 10:15:52] Starting paired tests for 1 & 2
INFO [2025-11-18 10:15:52] Found 4 complete pairs.
INFO [2025-11-18 10:15:52] Paired tests performed.
INFO [2025-11-18 10:15:52] Starting paired tests for 1 & 3
INFO [2025-11-18 10:15:52] Found 4 complete pairs.
INFO [2025-11-18 10:15:52] Paired tests performed.
INFO [2025-11-18 10:15:52] Starting paired tests for 2 & 3
INFO [2025-11-18 10:15:52] Found 4 complete pairs.
INFO [2025-11-18 10:15:53] Paired tests performed.
INFO [2025-11-18 10:15:53] Starting tests for A & B
INFO [2025-11-18 10:15:53] Tests performed
INFO [2025-11-18 10:15:53] Starting paired tests for 1 & 2
INFO [2025-11-18 10:15:53] Found 20 complete pairs.
INFO [2025-11-18 10:15:54] Paired tests performed.
INFO [2025-11-18 10:15:54] Starting tests for 1 & 2
INFO [2025-11-18 10:15:54] Tests performed
INFO [2025-11-18 10:15:54] Starting tests for 1 & 3
INFO [2025-11-18 10:15:54] Tests performed
INFO [2025-11-18 10:15:54] Starting tests for 2 & 3
INFO [2025-11-18 10:15:54] Tests performed
INFO [2025-11-18 10:15:54] Starting tests for 1 & 2
INFO [2025-11-18 10:15:54] Tests performed
INFO [2025-11-18 10:15:54] Starting tests for 1 & 3
INFO [2025-11-18 10:15:55] Tests performed
INFO [2025-11-18 10:15:55] Starting tests for 2 & 3
INFO [2025-11-18 10:15:55] Tests performed
INFO [2025-11-18 10:15:55] Starting paired tests for 1 & 2
INFO [2025-11-18 10:15:55] Found 4 complete pairs.
INFO [2025-11-18 10:15:55] Paired tests performed.
INFO [2025-11-18 10:15:55] Starting paired tests for 1 & 3
INFO [2025-11-18 10:15:55] Found 4 complete pairs.
INFO [2025-11-18 10:15:55] Paired tests performed.
INFO [2025-11-18 10:15:55] Starting paired tests for 2 & 3
INFO [2025-11-18 10:15:55] Found 4 complete pairs.
INFO [2025-11-18 10:15:55] Paired tests performed.
INFO [2025-11-18 10:15:55] Starting correlation tests.
INFO [2025-11-18 10:15:55] Performing correlation tests for single object
INFO [2025-11-18 10:15:55] Correlation tests performed.
INFO [2025-11-18 10:15:55] Starting correlation tests.
INFO [2025-11-18 10:15:55] Starting correlation tests.
INFO [2025-11-18 10:15:55] Starting correlation tests.
INFO [2025-11-18 10:15:55] Starting correlation tests.
INFO [2025-11-18 10:15:55] Performing correlation tests for two objects
INFO [2025-11-18 10:15:55] Correlation tests performed.
INFO [2025-11-18 10:15:55] Starting correlation tests.
INFO [2025-11-18 10:15:55] Performing correlation tests for two objects
INFO [2025-11-18 10:15:56] Correlation tests performed.
INFO [2025-11-18 10:15:56] Starting paired tests for 1 & 2
INFO [2025-11-18 10:15:56] Found 20 complete pairs.
INFO [2025-11-18 10:15:56] Paired tests performed.
INFO [2025-11-18 10:15:56] Starting tests for A & B
INFO [2025-11-18 10:15:56] Tests performed
[ FAIL 0 | WARN 1 | SKIP 0 | PASS 88 ]
[ FAIL 0 | WARN 1 | SKIP 0 | PASS 88 ]
>
> proc.time()
user system elapsed
20.518 11.008 19.379
notameStats.Rcheck/notameStats-Ex.timings
| name | user | system | elapsed | |
| cohens_d | 1.283 | 0.151 | 1.440 | |
| fit_rf | 0.089 | 0.017 | 0.120 | |
| fold_change | 0.162 | 0.193 | 0.193 | |
| importance_rf | 0.086 | 0.011 | 0.101 | |
| muvr_analysis | 5.557 | 0.171 | 6.723 | |
| perform_auc | 6.194 | 0.869 | 3.589 | |
| perform_correlation_tests | 1.884 | 1.114 | 1.622 | |
| perform_homoscedasticity_tests | 1.650 | 0.676 | 0.967 | |
| perform_kruskal_wallis | 0.629 | 0.372 | 0.365 | |
| perform_lm | 1.391 | 0.761 | 0.788 | |
| perform_lm_anova | 0.742 | 0.446 | 0.401 | |
| perform_lmer | 6.156 | 0.976 | 3.271 | |
| perform_logistic | 1.704 | 0.688 | 1.011 | |
| perform_non_parametric | 2.469 | 1.373 | 1.658 | |
| perform_oneway_anova | 0.666 | 0.514 | 0.456 | |
| perform_permanova | 0.340 | 0.062 | 0.406 | |
| perform_t_test | 0.507 | 0.552 | 0.714 | |
| pls | 2.579 | 0.188 | 3.185 | |
| pls_da | 6.913 | 0.811 | 8.754 | |
| summarize_results | 1.258 | 0.553 | 0.746 | |
| summary_statistics | 0.473 | 0.350 | 0.439 | |