Back to Multiple platform build/check report for BioC 3.22:   simplified   long
ABCDEFGHIJKL[M]NOPQRSTUVWXYZ

This page was generated on 2025-11-01 12:04 -0400 (Sat, 01 Nov 2025).

HostnameOSArch (*)R versionInstalled pkgs
nebbiolo2Linux (Ubuntu 24.04.3 LTS)x86_644.5.1 Patched (2025-08-23 r88802) -- "Great Square Root" 4901
lconwaymacOS 12.7.6 Montereyx86_644.5.1 Patched (2025-09-10 r88807) -- "Great Square Root" 4691
kjohnson3macOS 13.7.7 Venturaarm644.5.1 Patched (2025-09-10 r88807) -- "Great Square Root" 4637
Click on any hostname to see more info about the system (e.g. compilers)      (*) as reported by 'uname -p', except on Windows and Mac OS X

Package 1429/2361HostnameOS / ArchINSTALLBUILDCHECKBUILD BIN
musicatk 2.4.0  (landing page)
Joshua D. Campbell
Snapshot Date: 2025-10-31 13:45 -0400 (Fri, 31 Oct 2025)
git_url: https://git.bioconductor.org/packages/musicatk
git_branch: RELEASE_3_22
git_last_commit: a2d2204
git_last_commit_date: 2025-10-29 11:03:52 -0400 (Wed, 29 Oct 2025)
nebbiolo2Linux (Ubuntu 24.04.3 LTS) / x86_64  OK    OK    OK  UNNEEDED, same version is already published
lconwaymacOS 12.7.6 Monterey / x86_64  OK    OK    OK    OK  UNNEEDED, same version is already published
kjohnson3macOS 13.7.7 Ventura / arm64  OK    OK    OK    OK  UNNEEDED, same version is already published


CHECK results for musicatk on lconway

To the developers/maintainers of the musicatk package:
- Allow up to 24 hours (and sometimes 48 hours) for your latest push to git@git.bioconductor.org:packages/musicatk.git to reflect on this report. See Troubleshooting Build Report for more information.
- Use the following Renviron settings to reproduce errors and warnings.
- If 'R CMD check' started to fail recently on the Linux builder(s) over a missing dependency, add the missing dependency to 'Suggests:' in your DESCRIPTION file. See Renviron.bioc for more information.

raw results


Summary

Package: musicatk
Version: 2.4.0
Command: /Library/Frameworks/R.framework/Resources/bin/R CMD check --install=check:musicatk.install-out.txt --library=/Library/Frameworks/R.framework/Resources/library --no-vignettes --timings musicatk_2.4.0.tar.gz
StartedAt: 2025-10-31 22:50:16 -0400 (Fri, 31 Oct 2025)
EndedAt: 2025-10-31 23:03:51 -0400 (Fri, 31 Oct 2025)
EllapsedTime: 815.4 seconds
RetCode: 0
Status:   OK  
CheckDir: musicatk.Rcheck
Warnings: 0

Command output

##############################################################################
##############################################################################
###
### Running command:
###
###   /Library/Frameworks/R.framework/Resources/bin/R CMD check --install=check:musicatk.install-out.txt --library=/Library/Frameworks/R.framework/Resources/library --no-vignettes --timings musicatk_2.4.0.tar.gz
###
##############################################################################
##############################################################################


* using log directory ‘/Users/biocbuild/bbs-3.22-bioc/meat/musicatk.Rcheck’
* using R version 4.5.1 Patched (2025-09-10 r88807)
* using platform: x86_64-apple-darwin20
* R was compiled by
    Apple clang version 14.0.0 (clang-1400.0.29.202)
    GNU Fortran (GCC) 14.2.0
* running under: macOS Monterey 12.7.6
* using session charset: UTF-8
* using option ‘--no-vignettes’
* checking for file ‘musicatk/DESCRIPTION’ ... OK
* checking extension type ... Package
* this is package ‘musicatk’ version ‘2.4.0’
* package encoding: UTF-8
* checking package namespace information ... OK
* checking package dependencies ... INFO
Imports includes 44 non-default packages.
Importing from so many packages makes the package vulnerable to any of
them becoming unavailable.  Move as many as possible to Suggests and
use conditionally.
* checking if this is a source package ... OK
* checking if there is a namespace ... OK
* checking for hidden files and directories ... OK
* checking for portable file names ... OK
* checking for sufficient/correct file permissions ... OK
* checking whether package ‘musicatk’ can be installed ... OK
* checking installed package size ... OK
* checking package directory ... OK
* checking ‘build’ directory ... OK
* checking DESCRIPTION meta-information ... OK
* checking top-level files ... OK
* checking for left-over files ... OK
* checking index information ... OK
* checking package subdirectories ... OK
* checking code files for non-ASCII characters ... OK
* checking R files for syntax errors ... OK
* checking whether the package can be loaded ... OK
* checking whether the package can be loaded with stated dependencies ... OK
* checking whether the package can be unloaded cleanly ... OK
* checking whether the namespace can be loaded with stated dependencies ... OK
* checking whether the namespace can be unloaded cleanly ... OK
* checking dependencies in R code ... OK
* checking S3 generic/method consistency ... OK
* checking replacement functions ... OK
* checking foreign function calls ... OK
* checking R code for possible problems ... OK
* checking Rd files ... OK
* checking Rd metadata ... OK
* checking Rd cross-references ... NOTE
Found the following Rd file(s) with Rd \link{} targets missing package
anchors:
  add_flank_to_variants.Rd: BSgenome-class
  build_standard_table.Rd: BSgenome-class
  create_musica_from_variants.Rd: BSgenome-class
  create_sbs192_table.Rd: BSgenome-class
  create_sbs96_table.Rd: BSgenome-class
  extract_variants.Rd: CollapsedVCF-class, ExpandedVCF-class, MAF-class
  variants.Rd: data.table-class
Please provide package anchors for all Rd \link{} targets not in the
package itself and the base packages.
* checking for missing documentation entries ... OK
* checking for code/documentation mismatches ... OK
* checking Rd \usage sections ... OK
* checking Rd contents ... OK
* checking for unstated dependencies in examples ... OK
* checking contents of ‘data’ directory ... OK
* checking data for non-ASCII characters ... OK
* checking LazyData ... OK
* checking data for ASCII and uncompressed saves ... OK
* checking files in ‘vignettes’ ... OK
* checking examples ... OK
Examples with CPU (user + system) or elapsed time > 5s
                              user system elapsed
plot_k_comparison          199.077  1.231 201.062
compare_k_vals             178.118  1.490 180.303
build_standard_table        10.642  1.069  12.002
plot_cluster                 5.597  0.203   5.816
create_umap                  5.119  0.050   5.171
annotate_transcript_strand   4.583  0.343   5.135
* checking for unstated dependencies in ‘tests’ ... OK
* checking tests ...
  Running ‘testthat.R’
 OK
* checking for unstated dependencies in vignettes ... OK
* checking package vignettes ... OK
* checking running R code from vignettes ... SKIPPED
* checking re-building of vignette outputs ... SKIPPED
* checking PDF version of manual ... OK
* DONE

Status: 1 NOTE
See
  ‘/Users/biocbuild/bbs-3.22-bioc/meat/musicatk.Rcheck/00check.log’
for details.


Installation output

musicatk.Rcheck/00install.out

##############################################################################
##############################################################################
###
### Running command:
###
###   /Library/Frameworks/R.framework/Resources/bin/R CMD INSTALL musicatk
###
##############################################################################
##############################################################################


* installing to library ‘/Library/Frameworks/R.framework/Versions/4.5-x86_64/Resources/library’
* installing *source* package ‘musicatk’ ...
** this is package ‘musicatk’ version ‘2.4.0’
** using staged installation
** R
** data
*** moving datasets to lazyload DB
** inst
** byte-compile and prepare package for lazy loading
** help
*** installing help indices
** building package indices
** installing vignettes
** testing if installed package can be loaded from temporary location
** testing if installed package can be loaded from final location
** testing if installed package keeps a record of temporary installation path
* DONE (musicatk)

Tests output

musicatk.Rcheck/tests/testthat.Rout


R version 4.5.1 Patched (2025-09-10 r88807) -- "Great Square Root"
Copyright (C) 2025 The R Foundation for Statistical Computing
Platform: x86_64-apple-darwin20

R is free software and comes with ABSOLUTELY NO WARRANTY.
You are welcome to redistribute it under certain conditions.
Type 'license()' or 'licence()' for distribution details.

R is a collaborative project with many contributors.
Type 'contributors()' for more information and
'citation()' on how to cite R or R packages in publications.

Type 'demo()' for some demos, 'help()' for on-line help, or
'help.start()' for an HTML browser interface to help.
Type 'q()' to quit R.

> library("testthat")
> library("musicatk")
Loading required package: NMF
Loading required package: registry
Loading required package: rngtools
Loading required package: cluster
NMF - BioConductor layer [OK] | Shared memory capabilities [NO: synchronicity] | Cores 2/2
  To enable shared memory capabilities, try: install.extras('
NMF
')

Attaching package: 'NMF'

The following object is masked from 'package:generics':

    fit

The following object is masked from 'package:testthat':

    compare

> 
> test_check("musicatk")
[ FAIL 0 | WARN 2 | SKIP 0 | PASS 41 ]

[ FAIL 0 | WARN 2 | SKIP 0 | PASS 41 ]
> 
> proc.time()
   user  system elapsed 
 23.913   1.154  25.222 

Example timings

musicatk.Rcheck/musicatk-Ex.timings

nameusersystemelapsed
add_flank_to_variants3.1820.3033.550
add_result0.0590.0070.067
add_variant_type0.0150.0030.018
annotate_replication_strand0.2210.0120.233
annotate_transcript_strand4.5830.3435.135
annotate_variant_length0.0160.0030.019
annotate_variant_type0.0030.0020.005
auto_predict_grid2.0650.0752.151
build_custom_table2.2930.0862.384
build_standard_table10.642 1.06912.002
built_tables0.0010.0010.003
cluster_exposure0.0170.0050.024
combine_count_tables4.0050.3204.353
combine_predict_grid0.4790.0410.521
compare_cosmic_v23.3180.0483.375
compare_cosmic_v32.3850.0112.401
compare_k_vals178.118 1.490180.303
compare_results2.4100.0282.443
cosmic_v2_subtype_map0.0010.0000.001
create_musica_from_counts0.0030.0010.005
create_musica_from_variants1.0760.3211.640
create_umap5.1190.0505.171
credible_intervals0.0040.0020.005
discover_signatures0.8880.1241.045
drop_annotation0.0030.0020.005
exposure_differential_analysis0.0120.0020.014
exposures0.0230.0030.027
extract_count_tables0.0050.0020.007
extract_variants4.3830.0524.444
extract_variants_from_maf0.1090.0050.114
extract_variants_from_maf_file0.0930.0020.095
extract_variants_from_matrix0.0900.0030.094
extract_variants_from_vcf0.8180.0250.844
extract_variants_from_vcf_file0.4870.0050.491
generate_result_grid0.2980.0010.301
get_modality0.0050.0030.007
get_model0.0040.0030.007
get_result_list_entry0.0040.0010.006
hyperparameter0.0020.0020.004
k_select1.4160.0221.448
metrics0.0030.0020.005
modality0.0020.0020.004
model_id0.0020.0020.003
musicatk000
name_signatures0.0290.0020.031
num_signatures0.0020.0010.003
other_parameters0.0020.0010.003
parameter0.0010.0010.003
pipe0.0020.0010.003
plot_cluster5.5970.2035.816
plot_differential_analysis0.3790.0090.388
plot_exposures0.4480.0040.452
plot_heatmap0.7320.0190.752
plot_k_comparison199.077 1.231201.062
plot_sample_counts0.7960.0170.821
plot_sample_reconstruction_error1.2180.0081.229
plot_signatures1.2860.0091.302
plot_umap4.8760.0424.921
predict_exposure1.2690.1411.598
rc0.0020.0000.002
result_list0.0030.0020.005
samp_annot0.0060.0040.010
sample_names0.0030.0020.005
select_genome000
signatures0.0230.0060.029
subset_musica_by_annotation0.0050.0030.008
subset_musica_by_counts0.0080.0030.010
subset_variant_by_type0.0050.0030.009
subset_variants_by_samples0.0060.0030.009
table_selected0.0020.0020.005
tables0.0040.0020.007
umap0.0020.0020.004
variants0.0050.0030.008