| Back to Multiple platform build/check report for BioC 3.21: simplified long |
|
This page was generated on 2025-10-16 11:38 -0400 (Thu, 16 Oct 2025).
| Hostname | OS | Arch (*) | R version | Installed pkgs |
|---|---|---|---|---|
| nebbiolo1 | Linux (Ubuntu 24.04.3 LTS) | x86_64 | 4.5.1 (2025-06-13) -- "Great Square Root" | 4833 |
| merida1 | macOS 12.7.6 Monterey | x86_64 | 4.5.1 RC (2025-06-05 r88288) -- "Great Square Root" | 4614 |
| kjohnson1 | macOS 13.7.5 Ventura | arm64 | 4.5.1 Patched (2025-06-14 r88325) -- "Great Square Root" | 4555 |
| kunpeng2 | Linux (openEuler 24.03 LTS) | aarch64 | R Under development (unstable) (2025-02-19 r87757) -- "Unsuffered Consequences" | 4586 |
| Click on any hostname to see more info about the system (e.g. compilers) (*) as reported by 'uname -p', except on Windows and Mac OS X | ||||
| Package 1409/2341 | Hostname | OS / Arch | INSTALL | BUILD | CHECK | BUILD BIN | ||||||||
| muscat 1.22.0 (landing page) Helena L. Crowell
| nebbiolo1 | Linux (Ubuntu 24.04.3 LTS) / x86_64 | OK | OK | ERROR | |||||||||
| merida1 | macOS 12.7.6 Monterey / x86_64 | OK | OK | OK | OK | |||||||||
| kjohnson1 | macOS 13.7.5 Ventura / arm64 | OK | OK | OK | OK | |||||||||
| kunpeng2 | Linux (openEuler 24.03 LTS) / aarch64 | OK | ERROR | skipped | ||||||||||
|
To the developers/maintainers of the muscat package: - Allow up to 24 hours (and sometimes 48 hours) for your latest push to git@git.bioconductor.org:packages/muscat.git to reflect on this report. See Troubleshooting Build Report for more information. - Use the following Renviron settings to reproduce errors and warnings. - If 'R CMD check' started to fail recently on the Linux builder(s) over a missing dependency, add the missing dependency to 'Suggests:' in your DESCRIPTION file. See Renviron.bioc for more information. |
| Package: muscat |
| Version: 1.22.0 |
| Command: /home/biocbuild/bbs-3.21-bioc/R/bin/R CMD check --install=check:muscat.install-out.txt --library=/home/biocbuild/bbs-3.21-bioc/R/site-library --timings muscat_1.22.0.tar.gz |
| StartedAt: 2025-10-16 01:34:04 -0400 (Thu, 16 Oct 2025) |
| EndedAt: 2025-10-16 01:45:11 -0400 (Thu, 16 Oct 2025) |
| EllapsedTime: 667.2 seconds |
| RetCode: 1 |
| Status: ERROR |
| CheckDir: muscat.Rcheck |
| Warnings: NA |
##############################################################################
##############################################################################
###
### Running command:
###
### /home/biocbuild/bbs-3.21-bioc/R/bin/R CMD check --install=check:muscat.install-out.txt --library=/home/biocbuild/bbs-3.21-bioc/R/site-library --timings muscat_1.22.0.tar.gz
###
##############################################################################
##############################################################################
* using log directory ‘/home/biocbuild/bbs-3.21-bioc/meat/muscat.Rcheck’
* using R version 4.5.1 (2025-06-13)
* using platform: x86_64-pc-linux-gnu
* R was compiled by
gcc (Ubuntu 13.3.0-6ubuntu2~24.04) 13.3.0
GNU Fortran (Ubuntu 13.3.0-6ubuntu2~24.04) 13.3.0
* running under: Ubuntu 24.04.3 LTS
* using session charset: UTF-8
* checking for file ‘muscat/DESCRIPTION’ ... OK
* checking extension type ... Package
* this is package ‘muscat’ version ‘1.22.0’
* package encoding: UTF-8
* checking package namespace information ... OK
* checking package dependencies ... INFO
Imports includes 26 non-default packages.
Importing from so many packages makes the package vulnerable to any of
them becoming unavailable. Move as many as possible to Suggests and
use conditionally.
* checking if this is a source package ... OK
* checking if there is a namespace ... OK
* checking for hidden files and directories ... OK
* checking for portable file names ... OK
* checking for sufficient/correct file permissions ... OK
* checking whether package ‘muscat’ can be installed ... OK
* checking installed package size ... OK
* checking package directory ... OK
* checking ‘build’ directory ... OK
* checking DESCRIPTION meta-information ... OK
* checking top-level files ... OK
* checking for left-over files ... OK
* checking index information ... OK
* checking package subdirectories ... OK
* checking code files for non-ASCII characters ... OK
* checking R files for syntax errors ... OK
* checking whether the package can be loaded ... OK
* checking whether the package can be loaded with stated dependencies ... OK
* checking whether the package can be unloaded cleanly ... OK
* checking whether the namespace can be loaded with stated dependencies ... OK
* checking whether the namespace can be unloaded cleanly ... OK
* checking loading without being on the library search path ... OK
* checking dependencies in R code ... OK
* checking S3 generic/method consistency ... OK
* checking replacement functions ... OK
* checking foreign function calls ... OK
* checking R code for possible problems ... NOTE
pbHeatmap: no visible binding for global variable ‘gene’
pbHeatmap: no visible binding for global variable ‘p_adj.loc’
pbHeatmap: no visible binding for global variable ‘logFC’
Undefined global functions or variables:
gene logFC p_adj.loc
* checking Rd files ... OK
* checking Rd metadata ... OK
* checking Rd cross-references ... NOTE
Non-topic package-anchored link(s) in Rd file 'mmDS.Rd':
‘[limma:dupcor]{duplicateCorrelation}’
See section 'Cross-references' in the 'Writing R Extensions' manual.
Found the following Rd file(s) with Rd \link{} targets missing package
anchors:
pbHeatmap.Rd: HeatmapList-class
prepSCE.Rd: SingleCellExperiment-class
Please provide package anchors for all Rd \link{} targets not in the
package itself and the base packages.
* checking for missing documentation entries ... OK
* checking for code/documentation mismatches ... OK
* checking Rd \usage sections ... OK
* checking Rd contents ... OK
* checking for unstated dependencies in examples ... OK
* checking contents of ‘data’ directory ... OK
* checking data for non-ASCII characters ... OK
* checking data for ASCII and uncompressed saves ... OK
* checking files in ‘vignettes’ ... OK
* checking examples ... OK
Examples with CPU (user + system) or elapsed time > 5s
user system elapsed
mmDS 7.733 0.237 7.969
simData 7.270 0.045 7.317
pbHeatmap 6.306 0.084 6.372
prepSim 5.655 0.176 5.831
* checking for unstated dependencies in ‘tests’ ... OK
* checking tests ...
Running ‘testthat.R’
ERROR
Running the tests in ‘tests/testthat.R’ failed.
Last 13 lines of output:
══ Failed tests ════════════════════════════════════════════════════════════════
── Failure ('test-simData.R:60:9'): pbDS() gets at least 50% right for 10% DE genes ──
sum(re$id[seq_len(n_de)] %in% gi$id[de]) is not more than round(n_de/2). Difference: -1
Backtrace:
▆
1. └─base::replicate(...) at test-simData.R:49:5
2. └─base::sapply(...)
3. └─base::lapply(X = X, FUN = FUN, ...)
4. └─muscat (local) FUN(X[[i]], ...)
5. └─testthat::expect_gte(...) at test-simData.R:60:9
[ FAIL 1 | WARN 0 | SKIP 0 | PASS 554 ]
Error: Test failures
Execution halted
* checking for unstated dependencies in vignettes ... OK
* checking package vignettes ... OK
* checking re-building of vignette outputs ... OK
* checking PDF version of manual ... OK
* DONE
Status: 1 ERROR, 2 NOTEs
See
‘/home/biocbuild/bbs-3.21-bioc/meat/muscat.Rcheck/00check.log’
for details.
muscat.Rcheck/00install.out
############################################################################## ############################################################################## ### ### Running command: ### ### /home/biocbuild/bbs-3.21-bioc/R/bin/R CMD INSTALL muscat ### ############################################################################## ############################################################################## * installing to library ‘/home/biocbuild/bbs-3.21-bioc/R/site-library’ * installing *source* package ‘muscat’ ... ** this is package ‘muscat’ version ‘1.22.0’ ** using staged installation ** R ** data ** inst ** byte-compile and prepare package for lazy loading Warning in check_dep_version(dep_pkg = "TMB") : package version mismatch: glmmTMB was built with TMB package version 1.9.17 Current TMB package version is 1.9.18 Please re-install glmmTMB from source or restore original ‘TMB’ package (see '?reinstalling' for more information) ** help *** installing help indices ** building package indices ** installing vignettes ** testing if installed package can be loaded from temporary location Warning in check_dep_version(dep_pkg = "TMB") : package version mismatch: glmmTMB was built with TMB package version 1.9.17 Current TMB package version is 1.9.18 Please re-install glmmTMB from source or restore original ‘TMB’ package (see '?reinstalling' for more information) ** testing if installed package can be loaded from final location Warning in check_dep_version(dep_pkg = "TMB") : package version mismatch: glmmTMB was built with TMB package version 1.9.17 Current TMB package version is 1.9.18 Please re-install glmmTMB from source or restore original ‘TMB’ package (see '?reinstalling' for more information) ** testing if installed package keeps a record of temporary installation path * DONE (muscat)
muscat.Rcheck/tests/testthat.Rout.fail
R version 4.5.1 (2025-06-13) -- "Great Square Root"
Copyright (C) 2025 The R Foundation for Statistical Computing
Platform: x86_64-pc-linux-gnu
R is free software and comes with ABSOLUTELY NO WARRANTY.
You are welcome to redistribute it under certain conditions.
Type 'license()' or 'licence()' for distribution details.
R is a collaborative project with many contributors.
Type 'contributors()' for more information and
'citation()' on how to cite R or R packages in publications.
Type 'demo()' for some demos, 'help()' for on-line help, or
'help.start()' for an HTML browser interface to help.
Type 'q()' to quit R.
> library(testthat)
> library(muscat)
Warning message:
In check_dep_version(dep_pkg = "TMB") : package version mismatch:
glmmTMB was built with TMB package version 1.9.17
Current TMB package version is 1.9.18
Please re-install glmmTMB from source or restore original 'TMB' package (see '?reinstalling' for more information)
>
> test_check("muscat")
[ FAIL 1 | WARN 0 | SKIP 0 | PASS 554 ]
══ Failed tests ════════════════════════════════════════════════════════════════
── Failure ('test-simData.R:60:9'): pbDS() gets at least 50% right for 10% DE genes ──
sum(re$id[seq_len(n_de)] %in% gi$id[de]) is not more than round(n_de/2). Difference: -1
Backtrace:
▆
1. └─base::replicate(...) at test-simData.R:49:5
2. └─base::sapply(...)
3. └─base::lapply(X = X, FUN = FUN, ...)
4. └─muscat (local) FUN(X[[i]], ...)
5. └─testthat::expect_gte(...) at test-simData.R:60:9
[ FAIL 1 | WARN 0 | SKIP 0 | PASS 554 ]
Error: Test failures
Execution halted
muscat.Rcheck/muscat-Ex.timings
| name | user | system | elapsed | |
| aggregateData | 2.003 | 0.112 | 2.116 | |
| calcExprFreqs | 1.218 | 0.056 | 1.269 | |
| data | 0.001 | 0.000 | 0.000 | |
| mmDS | 7.733 | 0.237 | 7.969 | |
| pbDS | 1.141 | 0.020 | 1.161 | |
| pbFlatten | 0.644 | 0.037 | 0.681 | |
| pbHeatmap | 6.306 | 0.084 | 6.372 | |
| pbMDS | 0.938 | 0.030 | 0.967 | |
| prepSCE | 0.397 | 0.009 | 0.405 | |
| prepSim | 5.655 | 0.176 | 5.831 | |
| resDS | 2.157 | 0.029 | 2.176 | |
| simData | 7.270 | 0.045 | 7.317 | |
| stagewise_DS_DD | 4.343 | 0.018 | 4.362 | |