Back to Multiple platform build/check report for BioC 3.21:   simplified   long
ABCDEFGHIJKL[M]NOPQRSTUVWXYZ

This page was generated on 2025-10-09 11:39 -0400 (Thu, 09 Oct 2025).

HostnameOSArch (*)R versionInstalled pkgs
nebbiolo1Linux (Ubuntu 24.04.3 LTS)x86_644.5.1 (2025-06-13) -- "Great Square Root" 4832
merida1macOS 12.7.5 Montereyx86_644.5.1 RC (2025-06-05 r88288) -- "Great Square Root" 4613
kjohnson1macOS 13.6.6 Venturaarm644.5.1 Patched (2025-06-14 r88325) -- "Great Square Root" 4554
kunpeng2Linux (openEuler 24.03 LTS)aarch64R Under development (unstable) (2025-02-19 r87757) -- "Unsuffered Consequences" 4585
Click on any hostname to see more info about the system (e.g. compilers)      (*) as reported by 'uname -p', except on Windows and Mac OS X

Package 1333/2341HostnameOS / ArchINSTALLBUILDCHECKBUILD BIN
monaLisa 1.14.1  (landing page)
Michael Stadler
Snapshot Date: 2025-10-06 13:40 -0400 (Mon, 06 Oct 2025)
git_url: https://git.bioconductor.org/packages/monaLisa
git_branch: RELEASE_3_21
git_last_commit: d208b44
git_last_commit_date: 2025-09-15 18:24:11 -0400 (Mon, 15 Sep 2025)
nebbiolo1Linux (Ubuntu 24.04.3 LTS) / x86_64  OK    OK    OK  UNNEEDED, same version is already published
merida1macOS 12.7.5 Monterey / x86_64  OK    OK    OK    OK  UNNEEDED, same version is already published
kjohnson1macOS 13.6.6 Ventura / arm64  OK    OK    OK    OK  UNNEEDED, same version is already published
kunpeng2Linux (openEuler 24.03 LTS) / aarch64  ERROR    ERROR  skipped


CHECK results for monaLisa on merida1

To the developers/maintainers of the monaLisa package:
- Allow up to 24 hours (and sometimes 48 hours) for your latest push to git@git.bioconductor.org:packages/monaLisa.git to reflect on this report. See Troubleshooting Build Report for more information.
- Use the following Renviron settings to reproduce errors and warnings.
- If 'R CMD check' started to fail recently on the Linux builder(s) over a missing dependency, add the missing dependency to 'Suggests:' in your DESCRIPTION file. See Renviron.bioc for more information.

raw results


Summary

Package: monaLisa
Version: 1.14.1
Command: /Library/Frameworks/R.framework/Resources/bin/R CMD check --install=check:monaLisa.install-out.txt --library=/Library/Frameworks/R.framework/Resources/library --no-vignettes --timings monaLisa_1.14.1.tar.gz
StartedAt: 2025-10-07 06:39:24 -0400 (Tue, 07 Oct 2025)
EndedAt: 2025-10-07 06:51:22 -0400 (Tue, 07 Oct 2025)
EllapsedTime: 717.6 seconds
RetCode: 0
Status:   OK  
CheckDir: monaLisa.Rcheck
Warnings: 0

Command output

##############################################################################
##############################################################################
###
### Running command:
###
###   /Library/Frameworks/R.framework/Resources/bin/R CMD check --install=check:monaLisa.install-out.txt --library=/Library/Frameworks/R.framework/Resources/library --no-vignettes --timings monaLisa_1.14.1.tar.gz
###
##############################################################################
##############################################################################


* using log directory ‘/Users/biocbuild/bbs-3.21-bioc/meat/monaLisa.Rcheck’
* using R version 4.5.1 RC (2025-06-05 r88288)
* using platform: x86_64-apple-darwin20
* R was compiled by
    Apple clang version 14.0.0 (clang-1400.0.29.202)
    GNU Fortran (GCC) 14.2.0
* running under: macOS Monterey 12.7.6
* using session charset: UTF-8
* using option ‘--no-vignettes’
* checking for file ‘monaLisa/DESCRIPTION’ ... OK
* checking extension type ... Package
* this is package ‘monaLisa’ version ‘1.14.1’
* package encoding: UTF-8
* checking package namespace information ... OK
* checking package dependencies ... OK
* checking if this is a source package ... OK
* checking if there is a namespace ... OK
* checking for hidden files and directories ... OK
* checking for portable file names ... OK
* checking for sufficient/correct file permissions ... OK
* checking whether package ‘monaLisa’ can be installed ... OK
* checking installed package size ... OK
* checking package directory ... OK
* checking ‘build’ directory ... OK
* checking DESCRIPTION meta-information ... OK
* checking top-level files ... OK
* checking for left-over files ... OK
* checking index information ... OK
* checking package subdirectories ... OK
* checking code files for non-ASCII characters ... OK
* checking R files for syntax errors ... OK
* checking whether the package can be loaded ... OK
* checking whether the package can be loaded with stated dependencies ... OK
* checking whether the package can be unloaded cleanly ... OK
* checking whether the namespace can be loaded with stated dependencies ... OK
* checking whether the namespace can be unloaded cleanly ... OK
* checking dependencies in R code ... OK
* checking S3 generic/method consistency ... OK
* checking replacement functions ... OK
* checking foreign function calls ... OK
* checking R code for possible problems ... OK
* checking Rd files ... OK
* checking Rd metadata ... OK
* checking Rd cross-references ... OK
* checking for missing documentation entries ... OK
* checking for code/documentation mismatches ... OK
* checking Rd \usage sections ... OK
* checking Rd contents ... OK
* checking for unstated dependencies in examples ... OK
* checking files in ‘vignettes’ ... OK
* checking examples ... OK
Examples with CPU (user + system) or elapsed time > 5s
                    user system elapsed
plotMotifHeatmaps 10.766  0.199  11.071
* checking for unstated dependencies in ‘tests’ ... OK
* checking tests ...
  Running ‘testthat.R’
 OK
* checking for unstated dependencies in vignettes ... OK
* checking package vignettes ... OK
* checking running R code from vignettes ... SKIPPED
* checking re-building of vignette outputs ... SKIPPED
* checking PDF version of manual ... OK
* DONE

Status: OK


Installation output

monaLisa.Rcheck/00install.out

##############################################################################
##############################################################################
###
### Running command:
###
###   /Library/Frameworks/R.framework/Resources/bin/R CMD INSTALL monaLisa
###
##############################################################################
##############################################################################


* installing to library ‘/Library/Frameworks/R.framework/Versions/4.5-x86_64/Resources/library’
* installing *source* package ‘monaLisa’ ...
** this is package ‘monaLisa’ version ‘1.14.1’
** using staged installation
** R
** inst
** byte-compile and prepare package for lazy loading
** help
*** installing help indices
*** copying figures
** building package indices
** installing vignettes
** testing if installed package can be loaded from temporary location
** testing if installed package can be loaded from final location
** testing if installed package keeps a record of temporary installation path
* DONE (monaLisa)

Tests output

monaLisa.Rcheck/tests/testthat.Rout


R version 4.5.1 RC (2025-06-05 r88288) -- "Great Square Root"
Copyright (C) 2025 The R Foundation for Statistical Computing
Platform: x86_64-apple-darwin20

R is free software and comes with ABSOLUTELY NO WARRANTY.
You are welcome to redistribute it under certain conditions.
Type 'license()' or 'licence()' for distribution details.

R is a collaborative project with many contributors.
Type 'contributors()' for more information and
'citation()' on how to cite R or R packages in publications.

Type 'demo()' for some demos, 'help()' for on-line help, or
'help.start()' for an HTML browser interface to help.
Type 'q()' to quit R.

> library(testthat)
> library(monaLisa)
> 
> test_check("monaLisa")
[ FAIL 0 | WARN 0 | SKIP 1 | PASS 646 ]

══ Skipped tests (1) ═══════════════════════════════════════════════════════════
• empty test (1): 'test_Homer.R:150:1'

[ FAIL 0 | WARN 0 | SKIP 1 | PASS 646 ]
> 
> proc.time()
   user  system elapsed 
137.603   8.562 146.917 

Example timings

monaLisa.Rcheck/monaLisa-Ex.timings

nameusersystemelapsed
annoSeqlogo0.2650.0330.307
bin0.0180.0030.020
calcBinnedKmerEnr1.5990.1261.742
calcBinnedMotifEnrHomer0.0060.0140.028
calcBinnedMotifEnrR1.5520.0151.587
dumpJaspar0.1300.0170.152
findHomer0.0030.0080.011
findMotifHits-methods0.6710.0940.773
getColsByBin0.0060.0020.007
getKmerFreq0.0690.0100.081
getSetZeroBin0.0060.0010.006
homerToPFMatrixList0.1070.0170.127
motifKmerSimilarity0.0470.0080.056
motifSimilarity0.0200.0040.024
parseHomerOutput0.0230.0040.027
plotBinDensity1.5130.2051.732
plotBinDiagnostics3.1940.0593.277
plotBinHist1.3960.0101.439
plotBinScatter0.8390.0080.858
plotMotifHeatmaps10.766 0.19911.071
plotSelectionProb2.8770.0232.949
plotStabilityPaths3.8940.0393.969
prepareHomer0.3340.0120.414
randLassoStabSel3.2501.1213.081
sampleRandomRegions0.1140.0490.176
seqLogoGrob0.3300.0960.438