Back to Multiple platform build/check report for BioC 3.22:   simplified   long
ABCDEFGHIJKL[M]NOPQRSTUVWXYZ

This page was generated on 2025-11-07 12:00 -0500 (Fri, 07 Nov 2025).

HostnameOSArch (*)R versionInstalled pkgs
nebbiolo2Linux (Ubuntu 24.04.3 LTS)x86_644.5.1 Patched (2025-08-23 r88802) -- "Great Square Root" 4902
kjohnson3macOS 13.7.7 Venturaarm644.5.1 Patched (2025-09-10 r88807) -- "Great Square Root" 4638
Click on any hostname to see more info about the system (e.g. compilers)      (*) as reported by 'uname -p', except on Windows and Mac OS X

Package 1333/2361HostnameOS / ArchINSTALLBUILDCHECKBUILD BIN
mixOmics 6.34.0  (landing page)
Eva Hamrud
Snapshot Date: 2025-11-06 13:45 -0500 (Thu, 06 Nov 2025)
git_url: https://git.bioconductor.org/packages/mixOmics
git_branch: RELEASE_3_22
git_last_commit: 553e6cc
git_last_commit_date: 2025-10-29 10:48:48 -0500 (Wed, 29 Oct 2025)
nebbiolo2Linux (Ubuntu 24.04.3 LTS) / x86_64  OK    OK    OK  UNNEEDED, same version is already published
kjohnson3macOS 13.7.7 Ventura / arm64  OK    OK    OK    OK  UNNEEDED, same version is already published


CHECK results for mixOmics on nebbiolo2

To the developers/maintainers of the mixOmics package:
- Allow up to 24 hours (and sometimes 48 hours) for your latest push to git@git.bioconductor.org:packages/mixOmics.git to reflect on this report. See Troubleshooting Build Report for more information.
- Use the following Renviron settings to reproduce errors and warnings.
- If 'R CMD check' started to fail recently on the Linux builder(s) over a missing dependency, add the missing dependency to 'Suggests:' in your DESCRIPTION file. See Renviron.bioc for more information.

raw results


Summary

Package: mixOmics
Version: 6.34.0
Command: /home/biocbuild/bbs-3.22-bioc/R/bin/R CMD check --install=check:mixOmics.install-out.txt --library=/home/biocbuild/bbs-3.22-bioc/R/site-library --timings mixOmics_6.34.0.tar.gz
StartedAt: 2025-11-07 01:32:53 -0500 (Fri, 07 Nov 2025)
EndedAt: 2025-11-07 02:03:43 -0500 (Fri, 07 Nov 2025)
EllapsedTime: 1849.8 seconds
RetCode: 0
Status:   OK  
CheckDir: mixOmics.Rcheck
Warnings: 0

Command output

##############################################################################
##############################################################################
###
### Running command:
###
###   /home/biocbuild/bbs-3.22-bioc/R/bin/R CMD check --install=check:mixOmics.install-out.txt --library=/home/biocbuild/bbs-3.22-bioc/R/site-library --timings mixOmics_6.34.0.tar.gz
###
##############################################################################
##############################################################################


* using log directory ‘/home/biocbuild/bbs-3.22-bioc/meat/mixOmics.Rcheck’
* using R version 4.5.1 Patched (2025-08-23 r88802)
* using platform: x86_64-pc-linux-gnu
* R was compiled by
    gcc (Ubuntu 13.3.0-6ubuntu2~24.04) 13.3.0
    GNU Fortran (Ubuntu 13.3.0-6ubuntu2~24.04) 13.3.0
* running under: Ubuntu 24.04.3 LTS
* using session charset: UTF-8
* checking for file ‘mixOmics/DESCRIPTION’ ... OK
* checking extension type ... Package
* this is package ‘mixOmics’ version ‘6.34.0’
* package encoding: UTF-8
* checking package namespace information ... OK
* checking package dependencies ... OK
* checking if this is a source package ... OK
* checking if there is a namespace ... OK
* checking for hidden files and directories ... OK
* checking for portable file names ... NOTE
Found the following non-portable file paths:
  mixOmics/tests/testthat/_snaps/plotIndiv.pca/pca-plot-coloured-by-primary-groups-custom-cols-reordered-groups.svg
  mixOmics/tests/testthat/_snaps/plotIndiv.pca/pca-plot-coloured-by-primary-groups-custom-cols-with-set-pch-circle-for-all-samples.svg
  mixOmics/tests/testthat/_snaps/plotIndiv.pca/pca-plot-coloured-by-primary-groups-custom-cols-with-set-pch-triangle-for-all-samples.svg
  mixOmics/tests/testthat/_snaps/plotIndiv.pca/pca-plot-coloured-by-primary-groups-with-pch-for-secondary-groups-reordered.svg
  mixOmics/tests/testthat/_snaps/plotIndiv.pca/pca-plot-coloured-by-primary-groups-with-pch-for-secondary-groups.svg
  mixOmics/tests/testthat/_snaps/plotIndiv.pca/pca-plot-coloured-by-primary-groups-with-set-pch-for-each-group.svg
  mixOmics/tests/testthat/_snaps/plotIndiv.pca/pca-plot-sample-names-coloured-by-primary-groups-custom-cols.svg
  mixOmics/tests/testthat/_snaps/plotIndiv.pca/pca-plot-with-centroids-coloured-by-primary-groups-custom-cols.svg
  mixOmics/tests/testthat/_snaps/plotIndiv.pca/pca-plot-with-ellipse-coloured-by-primary-groups-custom-cols-ellipse-level-0-5.svg
  mixOmics/tests/testthat/_snaps/plotIndiv.pca/pca-plot-with-ellipse-coloured-by-primary-groups-custom-cols-sample-names.svg
  mixOmics/tests/testthat/_snaps/plotIndiv.pca/pca-plot-with-ellipse-coloured-by-primary-groups-custom-cols.svg
  mixOmics/tests/testthat/_snaps/plotIndiv.pls/pca-plot-sample-names-coloured-by-primary-groups-custom-cols.svg
  mixOmics/tests/testthat/_snaps/plotIndiv.pls/rcca-plot-coloured-by-primary-groups-custom-cols-reordered-groups.svg
  mixOmics/tests/testthat/_snaps/plotIndiv.pls/rcca-plot-coloured-by-primary-groups-custom-cols-with-set-pch-circle-for-all-samples.svg
  mixOmics/tests/testthat/_snaps/plotIndiv.pls/rcca-plot-coloured-by-primary-groups-with-pch-for-secondary-groups.svg
  mixOmics/tests/testthat/_snaps/plotIndiv.pls/rcca-plot-coloured-by-primary-groups-with-set-pch-for-each-group.svg
  mixOmics/tests/testthat/_snaps/plotIndiv.pls/rcca-plot-with-ellipse-coloured-by-primary-groups-ellipse-level-0-5.svg
  mixOmics/tests/testthat/_snaps/plotIndiv.pls/rcca-plot-with-pch-for-primary-groups-col-consistent.svg
  mixOmics/tests/testthat/_snaps/plotIndiv.pls/spls-plot-with-centroids-and-stars-coloured-by-primary-groups.svg
  mixOmics/tests/testthat/_snaps/plotIndiv.pls/splsda-plot-with-centroids-and-stars-custom-cols-pch-on-second-grouping.svg
  mixOmics/tests/testthat/_snaps/plotLoadings.mint.pls/loadings-plot-mint-pls-change-cols-and-borders-ggplot2.svg
  mixOmics/tests/testthat/_snaps/plotLoadings.mint.pls/loadings-plot-mint-pls-change-cols-and-borders-graphics.svg
  mixOmics/tests/testthat/_snaps/plotLoadings.mint.pls/loadings-plot-mint-pls-change-gene-names-ggplot2.svg
  mixOmics/tests/testthat/_snaps/plotLoadings.mint.pls/loadings-plot-mint-pls-change-gene-names-graphics.svg
  mixOmics/tests/testthat/_snaps/plotLoadings.mint.pls/loadings-plot-mint-pls-change-labels-and-label-sizes-ggplot2.svg
  mixOmics/tests/testthat/_snaps/plotLoadings.mint.pls/loadings-plot-mint-pls-change-labels-and-label-sizes-graphics.svg
  mixOmics/tests/testthat/_snaps/plotLoadings.mint.pls/loadings-plot-mint-pls-change-layout-ggplot2.svg
  mixOmics/tests/testthat/_snaps/plotLoadings.mint.pls/loadings-plot-mint-pls-change-layout-graphics.svg
  mixOmics/tests/testthat/_snaps/plotLoadings.mint.pls/loadings-plot-mint-pls-specific-study-ggplot2.svg
  mixOmics/tests/testthat/_snaps/plotLoadings.mint.pls/loadings-plot-mint-pls-specific-study-graphics.svg
  mixOmics/tests/testthat/_snaps/plotLoadings.mint.plsda/mint-plsda-loadings-ggplot2-specific-study.svg
  mixOmics/tests/testthat/_snaps/plotLoadings.pca/loadings-plot-change-gene-names-and-plot-top-3-ggplot2.svg
  mixOmics/tests/testthat/_snaps/plotLoadings.pca/loadings-plot-change-gene-names-and-plot-top-3-graphics.svg
  mixOmics/tests/testthat/_snaps/plotLoadings.pca/loadings-plot-change-labels-and-label-sizes-ggplot2.svg
  mixOmics/tests/testthat/_snaps/plotLoadings.pca/loadings-plot-change-labels-and-label-sizes-graphics.svg
  mixOmics/tests/testthat/_snaps/plotLoadings.pls/loadings-plot-spls-change-cols-and-borders-ggplot2.svg
  mixOmics/tests/testthat/_snaps/plotLoadings.pls/loadings-plot-spls-change-cols-and-borders-graphics.svg
  mixOmics/tests/testthat/_snaps/plotLoadings.pls/loadings-plot-spls-change-gene-names-and-plot-top-3-ggplot2.svg
  mixOmics/tests/testthat/_snaps/plotLoadings.pls/loadings-plot-spls-change-gene-names-and-plot-top-3-graphics.svg
  mixOmics/tests/testthat/_snaps/plotLoadings.pls/loadings-plot-spls-change-labels-and-label-sizes-ggplot2.svg
  mixOmics/tests/testthat/_snaps/plotLoadings.pls/loadings-plot-spls-change-labels-and-label-sizes-graphics.svg
  mixOmics/tests/testthat/_snaps/plotLoadings.plsda/loadings-plot-splsda-with-custom-legend-ggplot2.svg
  mixOmics/tests/testthat/_snaps/plotLoadings.plsda/loadings-plot-splsda-with-custom-legend-graphics.svg
  mixOmics/tests/testthat/_snaps/plotLoadings.plsda/loadings-plot-splsda-with-custom-names-graphics.svg
  mixOmics/tests/testthat/_snaps/plotLoadings.plsda/loadings-plot-splsda-with-custom-title-and-labels-ggplot2.svg
  mixOmics/tests/testthat/_snaps/plotLoadings.plsda/loadings-plot-splsda-with-custom-title-and-labels-graphics.svg
  mixOmics/tests/testthat/_snaps/plotLoadings.sgccda/loadings-plot-diablo-block-specific-with-contrib-ggplot2.svg
  mixOmics/tests/testthat/_snaps/plotLoadings.sgccda/loadings-plot-diablo-block-specific-with-contrib-graphics.svg
  mixOmics/tests/testthat/_snaps/plotLoadings.sgccda/loadings-plot-diablo-change-labels-and-label-sizes-ggplot2.svg
  mixOmics/tests/testthat/_snaps/plotLoadings.sgccda/loadings-plot-diablo-change-labels-and-label-sizes-graphics.svg

Tarballs are only required to store paths of up to 100 bytes and cannot
store those of more than 256 bytes, with restrictions including to 100
bytes for the final component.
See section ‘Package structure’ in the ‘Writing R Extensions’ manual.
* checking for sufficient/correct file permissions ... OK
* checking whether package ‘mixOmics’ can be installed ... OK
* checking installed package size ... INFO
  installed size is  6.5Mb
  sub-directories of 1Mb or more:
    R      1.6Mb
    data   3.3Mb
* checking package directory ... OK
* checking DESCRIPTION meta-information ... OK
* checking top-level files ... OK
* checking for left-over files ... OK
* checking index information ... OK
* checking package subdirectories ... OK
* checking code files for non-ASCII characters ... OK
* checking R files for syntax errors ... OK
* checking whether the package can be loaded ... OK
* checking whether the package can be loaded with stated dependencies ... OK
* checking whether the package can be unloaded cleanly ... OK
* checking whether the namespace can be loaded with stated dependencies ... OK
* checking whether the namespace can be unloaded cleanly ... OK
* checking loading without being on the library search path ... OK
* checking whether startup messages can be suppressed ... OK
* checking dependencies in R code ... NOTE
Namespace in Imports field not imported from: ‘gsignal’
  All declared Imports should be used.
* checking S3 generic/method consistency ... OK
* checking replacement functions ... OK
* checking foreign function calls ... OK
* checking R code for possible problems ... NOTE
.plotLoadings_barplot: no visible binding for global variable
  ‘size.axis’
perf.assess.sgccda: no visible binding for global variable
  ‘signif.threshold’
plotLoadings.mint.pls: no visible binding for global variable
  ‘importance’
plotLoadings.mint.pls: no visible binding for global variable ‘color’
plotLoadings.mint.plsda: no visible binding for global variable
  ‘importance’
plotLoadings.mint.plsda: no visible binding for global variable ‘color’
plotLoadings.mint.spls: no visible binding for global variable
  ‘importance’
plotLoadings.mint.spls: no visible binding for global variable ‘color’
plotLoadings.mint.splsda: no visible binding for global variable
  ‘importance’
plotLoadings.mint.splsda: no visible binding for global variable
  ‘color’
plotLoadings.mixo_pls: no visible binding for global variable
  ‘importance’
plotLoadings.mixo_plsda: no visible binding for global variable
  ‘importance’
plotLoadings.mixo_plsda: no visible binding for global variable ‘color’
plotLoadings.mixo_plsda: no visible binding for global variable ‘group’
plotLoadings.mixo_spls: no visible binding for global variable
  ‘importance’
plotLoadings.mixo_splsda: no visible binding for global variable
  ‘importance’
plotLoadings.mixo_splsda: no visible binding for global variable
  ‘color’
plotLoadings.mixo_splsda: no visible binding for global variable
  ‘group’
plotLoadings.pca: no visible binding for global variable ‘importance’
plotLoadings.rcc: no visible binding for global variable ‘importance’
plotLoadings.rgcca: no visible binding for global variable ‘importance’
plotLoadings.sgcca: no visible binding for global variable ‘importance’
plotLoadings.sgccda: no visible binding for global variable
  ‘importance’
plotLoadings.sgccda: no visible binding for global variable ‘color’
plotLoadings.sgccda: no visible binding for global variable ‘group’
Undefined global functions or variables:
  color group importance signif.threshold size.axis
* checking Rd files ... NOTE
checkRd: (-1) plotLoadings.Rd:479: Lost braces
   479 | For code{mint.pls}, \code{mint.spls}: when \code{study="all.partial"}, 
       |         ^
* checking Rd metadata ... OK
* checking Rd cross-references ... NOTE
Found the following Rd file(s) with Rd \link{} targets missing package
anchors:
  perf.Rd: BiocParallelParam-class
  perf.assess.Rd: BiocParallelParam-class
  rcc.Rd: estimate.lambda
  tune.Rd: BiocParallelParam-class
  tune.block.plsda.Rd: BiocParallelParam-class
  tune.block.splsda.Rd: BiocParallelParam-class
  tune.pls.Rd: BiocParallelParam-class
  tune.plsda.Rd: BiocParallelParam-class
  tune.spca.Rd: BiocParallelParam-class
  tune.spls.Rd: BiocParallelParam-class
  tune.splsda.Rd: BiocParallelParam-class
Please provide package anchors for all Rd \link{} targets not in the
package itself and the base packages.
* checking for missing documentation entries ... OK
* checking for code/documentation mismatches ... OK
* checking Rd \usage sections ... NOTE
S3 methods shown with full name in Rd file 'perf.assess.Rd':
  ‘perf.assess’

The \usage entries for S3 methods should use the \method markup and not
their full name.
See chapter ‘Writing R documentation files’ in the ‘Writing R
Extensions’ manual.
* checking Rd contents ... OK
* checking for unstated dependencies in examples ... OK
* checking contents of ‘data’ directory ... OK
* checking data for non-ASCII characters ... OK
* checking data for ASCII and uncompressed saves ... OK
* checking files in ‘vignettes’ ... OK
* checking examples ... OK
Examples with CPU (user + system) or elapsed time > 5s
                      user system elapsed
tune.spls          211.062  0.389 211.453
tune.splsda         90.285  0.095  90.382
tune.plsda          42.735  0.107  43.199
tune.pls            39.263  0.068  40.940
tune.block.plsda    31.618  0.071  31.690
perf.assess         23.611  0.168  23.780
plotIndiv           21.082  0.056  21.140
biplot              16.886  0.122  17.010
tune.block.splsda   12.464  0.022  43.557
block.splsda         8.036  0.063   8.100
background.predict   7.392  0.125   7.517
block.spls           6.869  0.112   6.982
circosPlot           6.318  0.055   6.374
pca                  5.486  0.007   5.493
tune                 5.067  0.039   5.107
* checking for unstated dependencies in ‘tests’ ... OK
* checking tests ...
  Running ‘testthat.R’
 OK
* checking for unstated dependencies in vignettes ... OK
* checking package vignettes ... OK
* checking re-building of vignette outputs ... OK
* checking PDF version of manual ... OK
* DONE

Status: 6 NOTEs
See
  ‘/home/biocbuild/bbs-3.22-bioc/meat/mixOmics.Rcheck/00check.log’
for details.


Installation output

mixOmics.Rcheck/00install.out

##############################################################################
##############################################################################
###
### Running command:
###
###   /home/biocbuild/bbs-3.22-bioc/R/bin/R CMD INSTALL mixOmics
###
##############################################################################
##############################################################################


* installing to library ‘/home/biocbuild/bbs-3.22-bioc/R/site-library’
* installing *source* package ‘mixOmics’ ...
** this is package ‘mixOmics’ version ‘6.34.0’
** using staged installation
** R
** data
** inst
** byte-compile and prepare package for lazy loading
** help
*** installing help indices
** building package indices
** installing vignettes
** testing if installed package can be loaded from temporary location
** testing if installed package can be loaded from final location
** testing if installed package keeps a record of temporary installation path
* DONE (mixOmics)

Tests output

mixOmics.Rcheck/tests/testthat.Rout


R version 4.5.1 Patched (2025-08-23 r88802) -- "Great Square Root"
Copyright (C) 2025 The R Foundation for Statistical Computing
Platform: x86_64-pc-linux-gnu

R is free software and comes with ABSOLUTELY NO WARRANTY.
You are welcome to redistribute it under certain conditions.
Type 'license()' or 'licence()' for distribution details.

R is a collaborative project with many contributors.
Type 'contributors()' for more information and
'citation()' on how to cite R or R packages in publications.

Type 'demo()' for some demos, 'help()' for on-line help, or
'help.start()' for an HTML browser interface to help.
Type 'q()' to quit R.

> library(testthat)
> library(mixOmics)
Loading required package: MASS
Loading required package: lattice
Loading required package: ggplot2

Loaded mixOmics 6.34.0
Thank you for using mixOmics!
Tutorials: http://mixomics.org
Bookdown vignette: https://mixomicsteam.github.io/Bookdown
Questions, issues: Follow the prompts at http://mixomics.org/contact-us
Cite us:  citation('mixOmics')

> 
> test_check("mixOmics")
character(0)
character(0)
[1] "test.keepX is set to NULL, tuning only for number of components..."
[1] "test.keepX is set to NULL, tuning only for number of components..."
[1] "test.keepX set to NULL, tuning only for number of components..."
[1] "test.keepX and test.keepY are set to NULL, tuning only for number of components..."
[1] "test.keepX and test.keepY are set to NULL, tuning only for number of components..."
[1] "test.keepX and test.keepY are set to NULL, tuning only for number of components..."
[1] "test.keepX set to NULL, tuning only for number of components..."
[ FAIL 0 | WARN 3 | SKIP 51 | PASS 663 ]

══ Skipped tests (51) ══════════════════════════════════════════════════════════
• On CRAN (51): 'test-biplot.R:17:3', 'test-biplot.R:39:3',
  'test-biplot.R:63:3', 'test-plotArrow.R:50:3', 'test-plotArrow.R:81:3',
  'test-plotIndiv.mint.R:76:3', 'test-plotIndiv.mint.R:99:3',
  'test-plotIndiv.mint.R:131:3', 'test-plotIndiv.mint.R:145:3',
  'test-plotIndiv.mint.R:168:3', 'test-plotIndiv.pca.R:152:3',
  'test-plotIndiv.pca.R:176:3', 'test-plotIndiv.pca.R:210:3',
  'test-plotIndiv.pca.R:244:3', 'test-plotIndiv.pca.R:263:3',
  'test-plotIndiv.pls.R:419:3', 'test-plotIndiv.pls.R:442:3',
  'test-plotIndiv.pls.R:468:3', 'test-plotIndiv.pls.R:486:3',
  'test-plotIndiv.pls.R:498:3', 'test-plotIndiv.pls.R:531:3',
  'test-plotIndiv.pls.R:564:3', 'test-plotIndiv.pls.R:581:3',
  'test-plotIndiv.pls.R:599:3', 'test-plotIndiv.pls.R:610:3',
  'test-plotIndiv.pls.R:622:3', 'test-plotIndiv.pls.R:655:3',
  'test-plotIndiv.pls.R:666:3', 'test-plotIndiv.pls.R:683:3',
  'test-plotIndiv.pls.R:694:3', 'test-plotIndiv.pls.R:712:3',
  'test-plotIndiv.pls.R:741:3', 'test-plotLoadings.mint.pls.R:11:3',
  'test-plotLoadings.mint.pls.R:62:3', 'test-plotLoadings.mint.pls.R:121:3',
  'test-plotLoadings.mint.plsda.R:14:5', 'test-plotLoadings.mint.plsda.R:61:5',
  'test-plotLoadings.mint.plsda.R:91:5',
  'test-plotLoadings.mint.plsda.R:143:5', 'test-plotLoadings.pca.R:11:3',
  'test-plotLoadings.pca.R:50:3', 'test-plotLoadings.pca.R:84:3',
  'test-plotLoadings.pls.R:43:3', 'test-plotLoadings.pls.R:91:3',
  'test-plotLoadings.plsda.R:109:3', 'test-plotLoadings.plsda.R:148:3',
  'test-plotLoadings.sgccda.R:16:3', 'test-plotLoadings.sgccda.R:32:3',
  'test-plotLoadings.sgccda.R:47:3', 'test-plotLoadings.sgccda.R:95:3',
  'test-plotLoadings.sgccda.R:133:3'

[ FAIL 0 | WARN 3 | SKIP 51 | PASS 663 ]
Deleting unused snapshots:
• biplot/biplot-plot-pca-with-customised-colours.svg
• biplot/biplot-plot-plsda-model-with-customised-pch.svg
• plotArrow/arrow-plot-daiblo-with-customised-colours.svg
• plotArrow/arrow-plot-spls-with-customised-colours.svg
• plotIndiv.mint/mint-pls-plot-default-cols-custom-groups.svg
• plotIndiv.mint/mint-pls-plot-studies-facetted.svg
• plotIndiv.mint/mint-spls-plot-studies-facetted-different-layout.svg
• plotIndiv.mint/mint-splsda-plot-default-cols-custom-groups.svg
• plotIndiv.mint/mint-splsda-plot-studies-facetted-different-layout.svg
• plotIndiv.mint/mint-splsda-plot-studies-facetted.svg
• plotIndiv.mint/mint-splsda-plot-with-ellipse.svg
• plotIndiv.mint/mint-splsda-plot-with-star.svg
• plotIndiv.pca/pca-plot-coloured-by-primary-groups-custom-cols-reordered-groups.svg
• plotIndiv.pca/pca-plot-coloured-by-primary-groups-custom-cols-with-set-pch-triangle-for-all-samples.svg
• plotIndiv.pca/pca-plot-coloured-by-primary-groups-custom-cols.svg
• plotIndiv.pca/pca-plot-coloured-by-primary-groups-with-pch-for-secondary-groups-reordered.svg
• plotIndiv.pca/pca-plot-coloured-by-primary-groups-with-pch-for-secondary-groups.svg
• plotIndiv.pca/pca-plot-coloured-by-primary-groups-with-set-pch-for-each-group.svg
• plotIndiv.pca/pca-plot-coloured-by-primary-groups.svg
• plotIndiv.pca/pca-plot-sample-names-coloured-by-primary-groups-custom-cols.svg
• plotIndiv.pca/pca-plot-sample-names-coloured-by-primary-groups.svg
• plotIndiv.pca/pca-plot-with-centroids-coloured-by-primary-groups-custom-cols.svg
• plotIndiv.pca/pca-plot-with-ellipse-coloured-by-primary-groups-custom-cols-ellipse-level-0-5.svg
• plotIndiv.pca/pca-plot-with-ellipse-coloured-by-primary-groups-custom-cols-sample-names.svg
• plotIndiv.pca/pca-plot-with-ellipse-coloured-by-primary-groups-custom-cols.svg
• plotIndiv.pca/pca-plot-with-pch-for-primary-groups-col-consistent.svg
• plotIndiv.pls/pca-plot-sample-names-coloured-by-primary-groups-custom-cols.svg
• plotIndiv.pls/rcca-plot-coloured-by-primary-groups-custom-cols-reordered-groups.svg
• plotIndiv.pls/rcca-plot-coloured-by-primary-groups-with-pch-for-secondary-groups.svg
• plotIndiv.pls/rcca-plot-coloured-by-primary-groups-with-set-pch-for-each-group.svg
• plotIndiv.pls/rcca-plot-coloured-by-primary-groups.svg
• plotIndiv.pls/rcca-plot-on-multi-variate-space.svg
• plotIndiv.pls/rcca-plot-on-x-variate-space.svg
• plotIndiv.pls/rcca-plot-on-y-variate-space.svg
• plotIndiv.pls/rcca-plot-sample-names-coloured-by-primary-groups.svg
• plotIndiv.pls/rcca-plot-with-ellipse-coloured-by-primary-groups-ellipse-level-0-5.svg
• plotIndiv.pls/rcca-plot-with-pch-for-primary-groups-col-consistent.svg
• plotIndiv.pls/spls-plot-coloured-by-primary-groups.svg
• plotIndiv.pls/spls-plot-on-multi-variate-space.svg
• plotIndiv.pls/spls-plot-on-x-variate-space.svg
• plotIndiv.pls/spls-plot-on-y-variate-space.svg
• plotIndiv.pls/spls-plot-sample-names-coloured-by-primary-groups.svg
• plotIndiv.pls/splsda-plot-on-multi-variate-space.svg
• plotIndiv.pls/splsda-plot-on-x-variate-space.svg
• plotIndiv.pls/splsda-plot-on-y-variate-space.svg
• plotIndiv.pls/splsda-plot-sample-names-coloured-by-custom-groups.svg
• plotIndiv.pls/splsda-plot-with-centroids-and-stars-custom-cols-pch-on-second-grouping.svg
• plotIndiv.pls/splsda-plot-with-centroids-and-stars-custom-cols.svg
• plotIndiv.pls/splsda-plot-with-ellipse-on-custom-groups.svg
• plotLoadings.mint.pls/loadings-plot-mint-pls-all-partial-ggplot2.svg
• plotLoadings.mint.pls/loadings-plot-mint-pls-all-partial-graphics.svg
• plotLoadings.mint.pls/loadings-plot-mint-pls-change-cols-and-borders-ggplot2.svg
• plotLoadings.mint.pls/loadings-plot-mint-pls-change-cols-and-borders-graphics.svg
• plotLoadings.mint.pls/loadings-plot-mint-pls-change-gene-names-ggplot2.svg
• plotLoadings.mint.pls/loadings-plot-mint-pls-change-gene-names-graphics.svg
• plotLoadings.mint.pls/loadings-plot-mint-pls-change-labels-and-label-sizes-ggplot2.svg
• plotLoadings.mint.pls/loadings-plot-mint-pls-change-labels-and-label-sizes-graphics.svg
• plotLoadings.mint.pls/loadings-plot-mint-pls-change-layout-ggplot2.svg
• plotLoadings.mint.pls/loadings-plot-mint-pls-change-layout-graphics.svg
• plotLoadings.mint.pls/loadings-plot-mint-pls-specific-study-ggplot2.svg
• plotLoadings.mint.pls/loadings-plot-mint-pls-specific-study-graphics.svg
• plotLoadings.mint.plsda/mint-plsda-loadings-all-partial.svg
• plotLoadings.mint.plsda/mint-plsda-loadings-custom-colors.svg
• plotLoadings.mint.plsda/mint-plsda-loadings-custom-labels.svg
• plotLoadings.mint.plsda/mint-plsda-loadings-custom-layout.svg
• plotLoadings.mint.plsda/mint-plsda-loadings-custom-names.svg
• plotLoadings.mint.plsda/mint-plsda-loadings-ggplot2-all-partial.svg
• plotLoadings.mint.plsda/mint-plsda-loadings-ggplot2-custom-colors.svg
• plotLoadings.mint.plsda/mint-plsda-loadings-ggplot2-custom-labels.svg
• plotLoadings.mint.plsda/mint-plsda-loadings-ggplot2-custom-layout.svg
• plotLoadings.mint.plsda/mint-plsda-loadings-ggplot2-custom-names.svg
• plotLoadings.mint.plsda/mint-plsda-loadings-ggplot2-specific-study.svg
• plotLoadings.mint.plsda/mint-plsda-loadings-specific-study.svg
• plotLoadings.pca/loadings-plot-change-cols-and-borders-ggplot2.svg
• plotLoadings.pca/loadings-plot-change-cols-and-borders-graphics.svg
• plotLoadings.pca/loadings-plot-change-gene-names-and-plot-top-3-ggplot2.svg
• plotLoadings.pca/loadings-plot-change-gene-names-and-plot-top-3-graphics.svg
• plotLoadings.pca/loadings-plot-change-labels-and-label-sizes-ggplot2.svg
• plotLoadings.pca/loadings-plot-change-labels-and-label-sizes-graphics.svg
• plotLoadings.pls/loadings-plot-spls-change-block-ggplot2.svg
• plotLoadings.pls/loadings-plot-spls-change-block-graphics.svg
• plotLoadings.pls/loadings-plot-spls-change-cols-and-borders-ggplot2.svg
• plotLoadings.pls/loadings-plot-spls-change-cols-and-borders-graphics.svg
• plotLoadings.pls/loadings-plot-spls-change-gene-names-and-plot-top-3-ggplot2.svg
• plotLoadings.pls/loadings-plot-spls-change-gene-names-and-plot-top-3-graphics.svg
• plotLoadings.pls/loadings-plot-spls-change-labels-and-label-sizes-ggplot2.svg
• plotLoadings.pls/loadings-plot-spls-change-labels-and-label-sizes-graphics.svg
• plotLoadings.pls/loadings-plot-spls-change-layout-ggplot2.svg
• plotLoadings.pls/loadings-plot-spls-change-layout-graphics.svg
• plotLoadings.plsda/loadings-plot-splsda-with-custom-legend-ggplot2.svg
• plotLoadings.plsda/loadings-plot-splsda-with-custom-legend-graphics.svg
• plotLoadings.plsda/loadings-plot-splsda-with-custom-names-ggplot2.svg
• plotLoadings.plsda/loadings-plot-splsda-with-custom-names-graphics.svg
• plotLoadings.plsda/loadings-plot-splsda-with-custom-title-and-labels-ggplot2.svg
• plotLoadings.plsda/loadings-plot-splsda-with-custom-title-and-labels-graphics.svg
• plotLoadings.sgccda/loadings-plot-diablo-block-specific-with-contrib-ggplot2.svg
• plotLoadings.sgccda/loadings-plot-diablo-block-specific-with-contrib-graphics.svg
• plotLoadings.sgccda/loadings-plot-diablo-change-labels-and-label-sizes-ggplot2.svg
• plotLoadings.sgccda/loadings-plot-diablo-change-labels-and-label-sizes-graphics.svg
• plotLoadings.sgccda/loadings-plot-diablo-change-legend-ggplot2.svg
• plotLoadings.sgccda/loadings-plot-diablo-change-legend-graphics.svg
> 
> proc.time()
   user  system elapsed 
302.654   9.176 460.417 

Example timings

mixOmics.Rcheck/mixOmics-Ex.timings

nameusersystemelapsed
S3methods-print0.0130.0010.014
auroc1.2770.0181.295
background.predict7.3920.1257.517
biplot16.886 0.12217.010
block.pls0.6930.0020.695
block.plsda1.0900.0021.093
block.spls6.8690.1126.982
block.splsda8.0360.0638.100
cim0.0350.0000.035
cimDiablo0.2450.0020.248
circosPlot6.3180.0556.374
colors0.0250.0020.027
explained_variance0.0900.0040.094
get.confusion_matrix0.1550.0020.157
image.tune.rcc1.6740.0041.677
imgCor0.0630.0000.064
impute.nipals0.0230.0000.023
ipca1.2370.0051.241
logratio-transformations0.0520.0040.055
map0.0030.0010.004
mat.rank0.0020.0000.002
mint.block.pls0.1450.0020.147
mint.block.plsda0.1120.0010.114
mint.block.spls0.1590.0020.161
mint.block.splsda0.1360.0010.137
mint.pca0.6260.0020.628
mint.pls0.9930.0000.994
mint.plsda1.4020.0141.417
mint.spls0.9370.0030.941
mint.splsda0.9850.0020.987
mixOmics0.2630.0130.275
nearZeroVar0.6490.0050.654
network0.0100.0010.011
pca5.4860.0075.493
perf2.4050.0192.425
perf.assess23.611 0.16823.780
plot.rcc0.0120.0000.012
plot.tune0.0000.0010.000
plotArrow2.3360.0042.340
plotDiablo0.1900.0040.194
plotIndiv21.082 0.05621.140
plotLoadings0.4850.0190.504
plotMarkers000
plotVar0.8380.0000.839
pls0.0050.0010.006
plsda0.5160.0020.519
predict0.1460.0020.148
rcc0.0020.0000.002
selectVar0.3670.0120.381
sipca0.670.000.67
spca3.8140.0253.839
spls0.1730.0010.174
splsda0.8320.0080.840
study_split0.0040.0000.005
summary0.0130.0000.013
tune5.0670.0395.107
tune.block.plsda31.618 0.07131.690
tune.block.splsda12.464 0.02243.557
tune.mint.plsda0.8160.0020.818
tune.mint.splsda3.6120.0523.665
tune.pca0.7630.0150.778
tune.pls39.263 0.06840.940
tune.plsda42.735 0.10743.199
tune.rcc1.5570.0041.560
tune.spca0.7080.0000.708
tune.spls211.062 0.389211.453
tune.splsda90.285 0.09590.382
unmap0.0040.0000.004
vip0.0070.0010.008
withinVariation1.2810.0041.285
wrapper.rgcca0.0520.0000.052
wrapper.sgcca0.0960.0010.096