| Back to Multiple platform build/check report for BioC 3.21: simplified long |
|
This page was generated on 2025-10-16 11:38 -0400 (Thu, 16 Oct 2025).
| Hostname | OS | Arch (*) | R version | Installed pkgs |
|---|---|---|---|---|
| nebbiolo1 | Linux (Ubuntu 24.04.3 LTS) | x86_64 | 4.5.1 (2025-06-13) -- "Great Square Root" | 4833 |
| merida1 | macOS 12.7.6 Monterey | x86_64 | 4.5.1 RC (2025-06-05 r88288) -- "Great Square Root" | 4614 |
| kjohnson1 | macOS 13.7.5 Ventura | arm64 | 4.5.1 Patched (2025-06-14 r88325) -- "Great Square Root" | 4555 |
| kunpeng2 | Linux (openEuler 24.03 LTS) | aarch64 | R Under development (unstable) (2025-02-19 r87757) -- "Unsuffered Consequences" | 4586 |
| Click on any hostname to see more info about the system (e.g. compilers) (*) as reported by 'uname -p', except on Windows and Mac OS X | ||||
| Package 1280/2341 | Hostname | OS / Arch | INSTALL | BUILD | CHECK | BUILD BIN | ||||||||
| microbiomeExplorer 1.18.0 (landing page) Janina Reeder
| nebbiolo1 | Linux (Ubuntu 24.04.3 LTS) / x86_64 | OK | OK | OK | |||||||||
| merida1 | macOS 12.7.6 Monterey / x86_64 | OK | OK | OK | OK | |||||||||
| kjohnson1 | macOS 13.7.5 Ventura / arm64 | OK | OK | OK | OK | |||||||||
| kunpeng2 | Linux (openEuler 24.03 LTS) / aarch64 | OK | OK | OK | ||||||||||
|
To the developers/maintainers of the microbiomeExplorer package: - Allow up to 24 hours (and sometimes 48 hours) for your latest push to git@git.bioconductor.org:packages/microbiomeExplorer.git to reflect on this report. See Troubleshooting Build Report for more information. - Use the following Renviron settings to reproduce errors and warnings. - If 'R CMD check' started to fail recently on the Linux builder(s) over a missing dependency, add the missing dependency to 'Suggests:' in your DESCRIPTION file. See Renviron.bioc for more information. |
| Package: microbiomeExplorer |
| Version: 1.18.0 |
| Command: /home/biocbuild/bbs-3.21-bioc/R/bin/R CMD check --install=check:microbiomeExplorer.install-out.txt --library=/home/biocbuild/bbs-3.21-bioc/R/site-library --timings microbiomeExplorer_1.18.0.tar.gz |
| StartedAt: 2025-10-16 01:01:45 -0400 (Thu, 16 Oct 2025) |
| EndedAt: 2025-10-16 01:03:57 -0400 (Thu, 16 Oct 2025) |
| EllapsedTime: 132.1 seconds |
| RetCode: 0 |
| Status: OK |
| CheckDir: microbiomeExplorer.Rcheck |
| Warnings: 0 |
##############################################################################
##############################################################################
###
### Running command:
###
### /home/biocbuild/bbs-3.21-bioc/R/bin/R CMD check --install=check:microbiomeExplorer.install-out.txt --library=/home/biocbuild/bbs-3.21-bioc/R/site-library --timings microbiomeExplorer_1.18.0.tar.gz
###
##############################################################################
##############################################################################
* using log directory ‘/home/biocbuild/bbs-3.21-bioc/meat/microbiomeExplorer.Rcheck’
* using R version 4.5.1 (2025-06-13)
* using platform: x86_64-pc-linux-gnu
* R was compiled by
gcc (Ubuntu 13.3.0-6ubuntu2~24.04) 13.3.0
GNU Fortran (Ubuntu 13.3.0-6ubuntu2~24.04) 13.3.0
* running under: Ubuntu 24.04.3 LTS
* using session charset: UTF-8
* checking for file ‘microbiomeExplorer/DESCRIPTION’ ... OK
* checking extension type ... Package
* this is package ‘microbiomeExplorer’ version ‘1.18.0’
* package encoding: UTF-8
* checking package namespace information ... OK
* checking package dependencies ... INFO
Imports includes 27 non-default packages.
Importing from so many packages makes the package vulnerable to any of
them becoming unavailable. Move as many as possible to Suggests and
use conditionally.
* checking if this is a source package ... OK
* checking if there is a namespace ... OK
* checking for hidden files and directories ... OK
* checking for portable file names ... OK
* checking for sufficient/correct file permissions ... OK
* checking whether package ‘microbiomeExplorer’ can be installed ... OK
* checking installed package size ... OK
* checking package directory ... OK
* checking ‘build’ directory ... OK
* checking DESCRIPTION meta-information ... OK
* checking top-level files ... OK
* checking for left-over files ... OK
* checking index information ... OK
* checking package subdirectories ... OK
* checking code files for non-ASCII characters ... OK
* checking R files for syntax errors ... OK
* checking whether the package can be loaded ... OK
* checking whether the package can be loaded with stated dependencies ... OK
* checking whether the package can be unloaded cleanly ... OK
* checking whether the namespace can be loaded with stated dependencies ... OK
* checking whether the namespace can be unloaded cleanly ... OK
* checking loading without being on the library search path ... OK
* checking whether startup messages can be suppressed ... OK
* checking dependencies in R code ... OK
* checking S3 generic/method consistency ... OK
* checking replacement functions ... OK
* checking foreign function calls ... OK
* checking R code for possible problems ... OK
* checking Rd files ... NOTE
checkRd: (-1) plotBeta.Rd:46: Lost braces
46 | \item{plotTitle}{Plot title. By default, becomes PCoA (code{dist.method}).}
| ^
* checking Rd metadata ... OK
* checking Rd cross-references ... OK
* checking for missing documentation entries ... OK
* checking for code/documentation mismatches ... OK
* checking Rd \usage sections ... OK
* checking Rd contents ... OK
* checking for unstated dependencies in examples ... OK
* checking files in ‘vignettes’ ... OK
* checking examples ... OK
* checking for unstated dependencies in ‘tests’ ... OK
* checking tests ...
Running ‘testthat.R’
OK
* checking for unstated dependencies in vignettes ... OK
* checking package vignettes ... OK
* checking re-building of vignette outputs ... OK
* checking PDF version of manual ... OK
* DONE
Status: 1 NOTE
See
‘/home/biocbuild/bbs-3.21-bioc/meat/microbiomeExplorer.Rcheck/00check.log’
for details.
microbiomeExplorer.Rcheck/00install.out
############################################################################## ############################################################################## ### ### Running command: ### ### /home/biocbuild/bbs-3.21-bioc/R/bin/R CMD INSTALL microbiomeExplorer ### ############################################################################## ############################################################################## * installing to library ‘/home/biocbuild/bbs-3.21-bioc/R/site-library’ * installing *source* package ‘microbiomeExplorer’ ... ** this is package ‘microbiomeExplorer’ version ‘1.18.0’ ** using staged installation ** R ** inst ** byte-compile and prepare package for lazy loading ** help *** installing help indices ** building package indices ** installing vignettes ** testing if installed package can be loaded from temporary location ** testing if installed package can be loaded from final location ** testing if installed package keeps a record of temporary installation path * DONE (microbiomeExplorer)
microbiomeExplorer.Rcheck/tests/testthat.Rout
R version 4.5.1 (2025-06-13) -- "Great Square Root"
Copyright (C) 2025 The R Foundation for Statistical Computing
Platform: x86_64-pc-linux-gnu
R is free software and comes with ABSOLUTELY NO WARRANTY.
You are welcome to redistribute it under certain conditions.
Type 'license()' or 'licence()' for distribution details.
R is a collaborative project with many contributors.
Type 'contributors()' for more information and
'citation()' on how to cite R or R packages in publications.
Type 'demo()' for some demos, 'help()' for on-line help, or
'help.start()' for an HTML browser interface to help.
Type 'q()' to quit R.
> library(testthat)
> library(microbiomeExplorer)
Loading required package: shiny
Loading required package: magrittr
Attaching package: 'magrittr'
The following objects are masked from 'package:testthat':
equals, is_less_than, not
Loading required package: metagenomeSeq
Loading required package: Biobase
Loading required package: BiocGenerics
Loading required package: generics
Attaching package: 'generics'
The following objects are masked from 'package:base':
as.difftime, as.factor, as.ordered, intersect, is.element, setdiff,
setequal, union
Attaching package: 'BiocGenerics'
The following objects are masked from 'package:stats':
IQR, mad, sd, var, xtabs
The following objects are masked from 'package:base':
Filter, Find, Map, Position, Reduce, anyDuplicated, aperm, append,
as.data.frame, basename, cbind, colnames, dirname, do.call,
duplicated, eval, evalq, get, grep, grepl, is.unsorted, lapply,
mapply, match, mget, order, paste, pmax, pmax.int, pmin, pmin.int,
rank, rbind, rownames, sapply, saveRDS, table, tapply, unique,
unsplit, which.max, which.min
Welcome to Bioconductor
Vignettes contain introductory material; view with
'browseVignettes()'. To cite Bioconductor, see
'citation("Biobase")', and for packages 'citation("pkgname")'.
Loading required package: limma
Attaching package: 'limma'
The following object is masked from 'package:BiocGenerics':
plotMA
Loading required package: glmnet
Loading required package: Matrix
Loaded glmnet 4.1-10
Loading required package: RColorBrewer
>
> test_check("microbiomeExplorer")
[ FAIL 0 | WARN 2 | SKIP 1 | PASS 61 ]
══ Skipped tests (1) ═══════════════════════════════════════════════════════════
• On CRAN (1): 'test-differential_functions.R:47:3'
[ FAIL 0 | WARN 2 | SKIP 1 | PASS 61 ]
>
> proc.time()
user system elapsed
8.424 0.491 8.903
microbiomeExplorer.Rcheck/microbiomeExplorer-Ex.timings
| name | user | system | elapsed | |
| aggFeatures | 0.302 | 0.014 | 0.315 | |
| aggregationTabUI | 0.035 | 0.004 | 0.040 | |
| calculatePCAs | 0.401 | 0.021 | 0.422 | |
| computeDistMat | 0.262 | 0.119 | 0.380 | |
| corrAnalysisUI | 1.535 | 0.079 | 1.616 | |
| corrFeature | 1.133 | 0.078 | 1.212 | |
| corrPhenotype | 0.419 | 0.028 | 0.448 | |
| dataInputUI | 0.083 | 0.002 | 0.084 | |
| diffAnalysisUI | 0.052 | 0.000 | 0.053 | |
| featureAnalysisUI | 0.053 | 0.000 | 0.053 | |
| featureTableUI | 0.022 | 0.000 | 0.022 | |
| filterByPheno | 0.201 | 0.010 | 0.212 | |
| filterMEData | 1.433 | 0.025 | 1.458 | |
| interAnalysisUI | 0.133 | 0.003 | 0.136 | |
| intraAnalysisUI | 0.143 | 0.002 | 0.145 | |
| longAnalysisUI | 0.063 | 0.000 | 0.063 | |
| makeQCPlot | 0.224 | 0.017 | 0.241 | |
| normalizeData | 0.877 | 0.036 | 0.913 | |
| phenotypeTableUI | 0.03 | 0.00 | 0.03 | |
| plotAbundance | 0.494 | 0.032 | 0.526 | |
| plotAlpha | 0.350 | 0.059 | 0.409 | |
| plotAvgAbundance | 0.876 | 0.041 | 0.917 | |
| plotBeta | 0.273 | 0.016 | 0.289 | |
| plotHeatmap | 1.883 | 0.059 | 1.934 | |
| plotLongFeature | 0.387 | 0.026 | 0.415 | |
| plotSingleFeature | 0.332 | 0.029 | 0.360 | |
| plotlyHistogram | 0.208 | 0.015 | 0.223 | |
| plotlySampleBarplot | 0.174 | 0.022 | 0.195 | |
| replaceWithUnknown | 0.682 | 0.159 | 0.840 | |
| reportListUI | 0.038 | 0.001 | 0.040 | |
| rollDownFeatures | 0.121 | 0.008 | 0.128 | |
| runDiffTest | 0.544 | 0.013 | 0.557 | |