| Back to Multiple platform build/check report for BioC 3.21: simplified long |
|
This page was generated on 2025-04-22 13:16 -0400 (Tue, 22 Apr 2025).
| Hostname | OS | Arch (*) | R version | Installed pkgs |
|---|---|---|---|---|
| nebbiolo1 | Linux (Ubuntu 24.04.1 LTS) | x86_64 | 4.5.0 RC (2025-04-04 r88126) -- "How About a Twenty-Six" | 4831 |
| palomino7 | Windows Server 2022 Datacenter | x64 | 4.5.0 RC (2025-04-04 r88126 ucrt) -- "How About a Twenty-Six" | 4573 |
| lconway | macOS 12.7.1 Monterey | x86_64 | 4.5.0 RC (2025-04-04 r88126) -- "How About a Twenty-Six" | 4599 |
| kjohnson3 | macOS 13.7.1 Ventura | arm64 | 4.5.0 RC (2025-04-04 r88126) -- "How About a Twenty-Six" | 4553 |
| kunpeng2 | Linux (openEuler 24.03 LTS) | aarch64 | R Under development (unstable) (2025-02-19 r87757) -- "Unsuffered Consequences" | 4570 |
| Click on any hostname to see more info about the system (e.g. compilers) (*) as reported by 'uname -p', except on Windows and Mac OS X | ||||
| Package 1273/2341 | Hostname | OS / Arch | INSTALL | BUILD | CHECK | BUILD BIN | ||||||||
| mia 1.16.0 (landing page) Tuomas Borman
| nebbiolo1 | Linux (Ubuntu 24.04.1 LTS) / x86_64 | OK | OK | OK | |||||||||
| palomino7 | Windows Server 2022 Datacenter / x64 | OK | OK | TIMEOUT | OK | |||||||||
| lconway | macOS 12.7.1 Monterey / x86_64 | OK | OK | TIMEOUT | OK | |||||||||
| kjohnson3 | macOS 13.7.1 Ventura / arm64 | OK | OK | OK | OK | |||||||||
| kunpeng2 | Linux (openEuler 24.03 LTS) / aarch64 | OK | OK | TIMEOUT | ||||||||||
|
To the developers/maintainers of the mia package: - Allow up to 24 hours (and sometimes 48 hours) for your latest push to git@git.bioconductor.org:packages/mia.git to reflect on this report. See Troubleshooting Build Report for more information. - Use the following Renviron settings to reproduce errors and warnings. - If 'R CMD check' started to fail recently on the Linux builder(s) over a missing dependency, add the missing dependency to 'Suggests:' in your DESCRIPTION file. See Renviron.bioc for more information. |
| Package: mia |
| Version: 1.16.0 |
| Command: /Library/Frameworks/R.framework/Resources/bin/R CMD check --install=check:mia.install-out.txt --library=/Library/Frameworks/R.framework/Resources/library --no-vignettes --timings mia_1.16.0.tar.gz |
| StartedAt: 2025-04-21 21:51:21 -0400 (Mon, 21 Apr 2025) |
| EndedAt: 2025-04-21 22:31:21 -0400 (Mon, 21 Apr 2025) |
| EllapsedTime: 2400.2 seconds |
| RetCode: None |
| Status: TIMEOUT |
| CheckDir: mia.Rcheck |
| Warnings: NA |
##############################################################################
##############################################################################
###
### Running command:
###
### /Library/Frameworks/R.framework/Resources/bin/R CMD check --install=check:mia.install-out.txt --library=/Library/Frameworks/R.framework/Resources/library --no-vignettes --timings mia_1.16.0.tar.gz
###
##############################################################################
##############################################################################
* using log directory ‘/Users/biocbuild/bbs-3.21-bioc/meat/mia.Rcheck’
* using R version 4.5.0 RC (2025-04-04 r88126)
* using platform: x86_64-apple-darwin20
* R was compiled by
Apple clang version 14.0.0 (clang-1400.0.29.202)
GNU Fortran (GCC) 14.2.0
* running under: macOS Monterey 12.7.6
* using session charset: UTF-8
* using option ‘--no-vignettes’
* checking for file ‘mia/DESCRIPTION’ ... OK
* checking extension type ... Package
* this is package ‘mia’ version ‘1.16.0’
* package encoding: UTF-8
* checking package namespace information ... OK
* checking package dependencies ... INFO
Imports includes 24 non-default packages.
Importing from so many packages makes the package vulnerable to any of
them becoming unavailable. Move as many as possible to Suggests and
use conditionally.
* checking if this is a source package ... OK
* checking if there is a namespace ... OK
* checking for hidden files and directories ... OK
* checking for portable file names ... OK
* checking for sufficient/correct file permissions ... OK
* checking whether package ‘mia’ can be installed ... OK
* used C++ compiler: ‘Apple clang version 14.0.0 (clang-1400.0.29.202)’
* used SDK: ‘MacOSX11.3.sdk’
* checking installed package size ... OK
* checking package directory ... OK
* checking ‘build’ directory ... OK
* checking DESCRIPTION meta-information ... OK
* checking top-level files ... OK
* checking for left-over files ... OK
* checking index information ... OK
* checking package subdirectories ... OK
* checking code files for non-ASCII characters ... OK
* checking R files for syntax errors ... OK
* checking whether the package can be loaded ... OK
* checking whether the package can be loaded with stated dependencies ... OK
* checking whether the package can be unloaded cleanly ... OK
* checking whether the namespace can be loaded with stated dependencies ... OK
* checking whether the namespace can be unloaded cleanly ... OK
* checking whether startup messages can be suppressed ... OK
* checking dependencies in R code ... NOTE
'library' or 'require' call to ‘topicdoc’ in package code.
Please use :: or requireNamespace() instead.
See section 'Suggested packages' in the 'Writing R Extensions' manual.
* checking S3 generic/method consistency ... OK
* checking replacement functions ... OK
* checking foreign function calls ... OK
* checking R code for possible problems ... NOTE
.check_metadata_present: no visible binding for global variable
‘assay.type’
getRDA,ANY: no visible binding for global variable ‘dis’
Undefined global functions or variables:
assay.type dis
* checking Rd files ... OK
* checking Rd metadata ... OK
* checking Rd cross-references ... NOTE
Package unavailable to check Rd xrefs: ‘picante’
Unknown package ‘https’ in Rd xrefs
Non-topic package-anchored link(s) in Rd file 'calculateDMN.Rd':
‘[DirichletMultinomial:fitted]{accessors for DMN objects}’
See section 'Cross-references' in the 'Writing R Extensions' manual.
Found the following Rd file(s) with Rd \link{} targets missing package
anchors:
addCluster.Rd: BlusterParam-class
Please provide package anchors for all Rd \link{} targets not in the
package itself and the base packages.
* checking for missing documentation entries ... OK
* checking for code/documentation mismatches ... OK
* checking Rd \usage sections ... OK
* checking Rd contents ... OK
* checking for unstated dependencies in examples ... OK
* checking contents of ‘data’ directory ... OK
* checking data for non-ASCII characters ... OK
* checking data for ASCII and uncompressed saves ... OK
* checking line endings in C/C++/Fortran sources/headers ... OK
* checking compiled code ... NOTE
Note: information on .o files is not available
* checking files in ‘vignettes’ ... OK
* checking examples ... OK
Examples with CPU (user + system) or elapsed time > 5s
user system elapsed
addNMF 52.078 12.410 48.070
calculateDMN 54.884 0.244 55.384
agglomerate-methods 27.199 0.881 28.239
hierarchy-tree 23.434 1.320 24.929
splitOn 13.597 0.529 14.175
transformAssay 13.277 0.347 13.703
getPrevalence 10.559 0.230 10.863
addAlpha 8.895 0.421 9.364
addLDA 9.140 0.162 9.378
getCrossAssociation 8.459 0.073 8.575
utilization_functions 7.504 0.218 7.780
convertFromDADA2 7.219 0.373 7.642
mergeSEs 7.078 0.276 7.403
summary 6.299 0.119 6.452
getDissimilarity 5.725 0.505 6.199
* checking for unstated dependencies in ‘tests’ ... OK
* checking tests ...
Running ‘testthat.R’
mia.Rcheck/00install.out
##############################################################################
##############################################################################
###
### Running command:
###
### /Library/Frameworks/R.framework/Resources/bin/R CMD INSTALL mia
###
##############################################################################
##############################################################################
* installing to library ‘/Library/Frameworks/R.framework/Versions/4.5-x86_64/Resources/library’
* installing *source* package ‘mia’ ...
** this is package ‘mia’ version ‘1.16.0’
** using staged installation
** libs
using C++ compiler: ‘Apple clang version 14.0.0 (clang-1400.0.29.202)’
using SDK: ‘MacOSX11.3.sdk’
clang++ -arch x86_64 -std=gnu++17 -I"/Library/Frameworks/R.framework/Resources/include" -DNDEBUG -I'/Library/Frameworks/R.framework/Versions/4.5-x86_64/Resources/library/Rcpp/include' -I/opt/R/x86_64/include -fPIC -falign-functions=64 -Wall -g -O2 -c RcppExports.cpp -o RcppExports.o
clang++ -arch x86_64 -std=gnu++17 -I"/Library/Frameworks/R.framework/Resources/include" -DNDEBUG -I'/Library/Frameworks/R.framework/Versions/4.5-x86_64/Resources/library/Rcpp/include' -I/opt/R/x86_64/include -fPIC -falign-functions=64 -Wall -g -O2 -c assay.cpp -o assay.o
clang++ -arch x86_64 -std=gnu++17 -I"/Library/Frameworks/R.framework/Resources/include" -DNDEBUG -I'/Library/Frameworks/R.framework/Versions/4.5-x86_64/Resources/library/Rcpp/include' -I/opt/R/x86_64/include -fPIC -falign-functions=64 -Wall -g -O2 -c faith_R.cpp -o faith_R.o
clang++ -arch x86_64 -std=gnu++17 -I"/Library/Frameworks/R.framework/Resources/include" -DNDEBUG -I'/Library/Frameworks/R.framework/Versions/4.5-x86_64/Resources/library/Rcpp/include' -I/opt/R/x86_64/include -fPIC -falign-functions=64 -Wall -g -O2 -c propmap.cpp -o propmap.o
In file included from propmap.cpp:12:
./propmap.h:31:18: warning: private field 'defaultsize' is not used [-Wunused-private-field]
uint32_t defaultsize;
^
1 warning generated.
clang++ -arch x86_64 -std=gnu++17 -I"/Library/Frameworks/R.framework/Resources/include" -DNDEBUG -I'/Library/Frameworks/R.framework/Versions/4.5-x86_64/Resources/library/Rcpp/include' -I/opt/R/x86_64/include -fPIC -falign-functions=64 -Wall -g -O2 -c tree.cpp -o tree.o
clang++ -arch x86_64 -std=gnu++17 -dynamiclib -Wl,-headerpad_max_install_names -undefined dynamic_lookup -L/Library/Frameworks/R.framework/Resources/lib -L/opt/R/x86_64/lib -o mia.so RcppExports.o assay.o faith_R.o propmap.o tree.o -F/Library/Frameworks/R.framework/.. -framework R
installing to /Library/Frameworks/R.framework/Versions/4.5-x86_64/Resources/library/00LOCK-mia/00new/mia/libs
** R
** data
** inst
** byte-compile and prepare package for lazy loading
** help
*** installing help indices
*** copying figures
** building package indices
** installing vignettes
** testing if installed package can be loaded from temporary location
** checking absolute paths in shared objects and dynamic libraries
** testing if installed package can be loaded from final location
** testing if installed package keeps a record of temporary installation path
* DONE (mia)
mia.Rcheck/tests/testthat.Rout
R version 4.5.0 RC (2025-04-04 r88126) -- "How About a Twenty-Six"
Copyright (C) 2025 The R Foundation for Statistical Computing
Platform: x86_64-apple-darwin20
R is free software and comes with ABSOLUTELY NO WARRANTY.
You are welcome to redistribute it under certain conditions.
Type 'license()' or 'licence()' for distribution details.
R is a collaborative project with many contributors.
Type 'contributors()' for more information and
'citation()' on how to cite R or R packages in publications.
Type 'demo()' for some demos, 'help()' for on-line help, or
'help.start()' for an HTML browser interface to help.
Type 'q()' to quit R.
> library(testthat)
> library(mia)
Loading required package: MultiAssayExperiment
Loading required package: SummarizedExperiment
Loading required package: MatrixGenerics
Loading required package: matrixStats
Attaching package: 'MatrixGenerics'
The following objects are masked from 'package:matrixStats':
colAlls, colAnyNAs, colAnys, colAvgsPerRowSet, colCollapse,
colCounts, colCummaxs, colCummins, colCumprods, colCumsums,
colDiffs, colIQRDiffs, colIQRs, colLogSumExps, colMadDiffs,
colMads, colMaxs, colMeans2, colMedians, colMins, colOrderStats,
colProds, colQuantiles, colRanges, colRanks, colSdDiffs, colSds,
colSums2, colTabulates, colVarDiffs, colVars, colWeightedMads,
colWeightedMeans, colWeightedMedians, colWeightedSds,
colWeightedVars, rowAlls, rowAnyNAs, rowAnys, rowAvgsPerColSet,
rowCollapse, rowCounts, rowCummaxs, rowCummins, rowCumprods,
rowCumsums, rowDiffs, rowIQRDiffs, rowIQRs, rowLogSumExps,
rowMadDiffs, rowMads, rowMaxs, rowMeans2, rowMedians, rowMins,
rowOrderStats, rowProds, rowQuantiles, rowRanges, rowRanks,
rowSdDiffs, rowSds, rowSums2, rowTabulates, rowVarDiffs, rowVars,
rowWeightedMads, rowWeightedMeans, rowWeightedMedians,
rowWeightedSds, rowWeightedVars
Loading required package: GenomicRanges
Loading required package: stats4
Loading required package: BiocGenerics
Loading required package: generics
Attaching package: 'generics'
The following objects are masked from 'package:base':
as.difftime, as.factor, as.ordered, intersect, is.element, setdiff,
setequal, union
Attaching package: 'BiocGenerics'
The following objects are masked from 'package:stats':
IQR, mad, sd, var, xtabs
The following objects are masked from 'package:base':
Filter, Find, Map, Position, Reduce, anyDuplicated, aperm, append,
as.data.frame, basename, cbind, colnames, dirname, do.call,
duplicated, eval, evalq, get, grep, grepl, is.unsorted, lapply,
mapply, match, mget, order, paste, pmax, pmax.int, pmin, pmin.int,
rank, rbind, rownames, sapply, saveRDS, table, tapply, unique,
unsplit, which.max, which.min
Loading required package: S4Vectors
Attaching package: 'S4Vectors'
The following object is masked from 'package:utils':
findMatches
The following objects are masked from 'package:base':
I, expand.grid, unname
Loading required package: IRanges
Loading required package: GenomeInfoDb
Loading required package: Biobase
Welcome to Bioconductor
Vignettes contain introductory material; view with
'browseVignettes()'. To cite Bioconductor, see
'citation("Biobase")', and for packages 'citation("pkgname")'.
Attaching package: 'Biobase'
The following object is masked from 'package:MatrixGenerics':
rowMedians
The following objects are masked from 'package:matrixStats':
anyMissing, rowMedians
Loading required package: SingleCellExperiment
Loading required package: TreeSummarizedExperiment
Loading required package: Biostrings
Loading required package: XVector
Attaching package: 'Biostrings'
The following object is masked from 'package:base':
strsplit
This is mia version 1.16.0
- Online documentation and vignettes: https://microbiome.github.io/mia/
- Online book 'Orchestrating Microbiome Analysis (OMA)': https://microbiome.github.io/OMA/docs/devel/
>
> test_check("mia")
================================================================================
Time difference of 7.45 secs
Initializing error rates to maximum possible estimate.
selfConsist step 1 .
selfConsist step 2
selfConsist step 3
selfConsist step 4
Convergence after 4 rounds.
Initializing error rates to maximum possible estimate.
selfConsist step 1 .
selfConsist step 2
selfConsist step 3
selfConsist step 4
Convergence after 4 rounds.
initial value 0.383462
iter 5 value 0.161655
iter 10 value 0.113278
final value 0.003270
converged
initial value 0.000000
final value 0.000000
converged
initial value 0.000000
final value 0.000000
converged
mia.Rcheck/mia-Ex.timings
| name | user | system | elapsed | |
| addAlpha | 8.895 | 0.421 | 9.364 | |
| addCluster | 0.760 | 0.016 | 0.790 | |
| addDivergence | 1.957 | 0.200 | 2.177 | |
| addLDA | 9.140 | 0.162 | 9.378 | |
| addMDS | 2.519 | 0.119 | 2.675 | |
| addNMF | 52.078 | 12.410 | 48.070 | |
| agglomerate-methods | 27.199 | 0.881 | 28.239 | |
| agglomerateByPrevalence | 3.269 | 0.090 | 3.376 | |
| calculateDMN | 54.884 | 0.244 | 55.384 | |
| convertFromDADA2 | 7.219 | 0.373 | 7.642 | |
| convertFromPhyloseq | 3.878 | 0.153 | 4.059 | |
| getAbundant | 2.658 | 0.075 | 2.742 | |
| getCrossAssociation | 8.459 | 0.073 | 8.575 | |
| getDissimilarity | 5.725 | 0.505 | 6.199 | |
| getDominant | 3.921 | 0.080 | 4.026 | |
| getMediation | 0.000 | 0.001 | 0.001 | |
| getPERMANOVA | 1.588 | 0.096 | 1.693 | |
| getPrevalence | 10.559 | 0.230 | 10.863 | |
| hierarchy-tree | 23.434 | 1.320 | 24.929 | |
| importBIOM | 0.558 | 0.012 | 0.576 | |
| importHUMAnN | 0.250 | 0.016 | 0.268 | |
| importMetaPhlAn | 2.965 | 0.040 | 3.025 | |
| importMothur | 0.164 | 0.006 | 0.170 | |
| importQIIME2 | 0.835 | 0.156 | 1.051 | |
| importTaxpasta | 0 | 0 | 0 | |
| isContaminant | 0.511 | 0.015 | 0.531 | |
| meltSE | 1.073 | 0.037 | 1.115 | |
| mergeSEs | 7.078 | 0.276 | 7.403 | |
| mia-datasets | 0.584 | 0.008 | 0.595 | |
| rarefyAssay | 1.285 | 0.013 | 1.302 | |
| runCCA | 4.631 | 0.188 | 4.843 | |
| runDPCoA | 0.419 | 0.013 | 0.435 | |
| runNMDS | 0.259 | 0.006 | 0.267 | |
| splitOn | 13.597 | 0.529 | 14.175 | |
| summary | 6.299 | 0.119 | 6.452 | |
| taxonomy-methods | 1.845 | 0.036 | 1.896 | |
| transformAssay | 13.277 | 0.347 | 13.703 | |
| utilization_functions | 7.504 | 0.218 | 7.780 | |