| Back to Multiple platform build/check report for BioC 3.21: simplified long |
|
This page was generated on 2025-10-16 11:39 -0400 (Thu, 16 Oct 2025).
| Hostname | OS | Arch (*) | R version | Installed pkgs |
|---|---|---|---|---|
| nebbiolo1 | Linux (Ubuntu 24.04.3 LTS) | x86_64 | 4.5.1 (2025-06-13) -- "Great Square Root" | 4833 |
| merida1 | macOS 12.7.6 Monterey | x86_64 | 4.5.1 RC (2025-06-05 r88288) -- "Great Square Root" | 4614 |
| kjohnson1 | macOS 13.7.5 Ventura | arm64 | 4.5.1 Patched (2025-06-14 r88325) -- "Great Square Root" | 4555 |
| kunpeng2 | Linux (openEuler 24.03 LTS) | aarch64 | R Under development (unstable) (2025-02-19 r87757) -- "Unsuffered Consequences" | 4586 |
| Click on any hostname to see more info about the system (e.g. compilers) (*) as reported by 'uname -p', except on Windows and Mac OS X | ||||
| Package 1306/2341 | Hostname | OS / Arch | INSTALL | BUILD | CHECK | BUILD BIN | ||||||||
| miRSM 2.4.0 (landing page) Junpeng Zhang
| nebbiolo1 | Linux (Ubuntu 24.04.3 LTS) / x86_64 | OK | OK | OK | |||||||||
| merida1 | macOS 12.7.6 Monterey / x86_64 | OK | OK | OK | OK | |||||||||
| kjohnson1 | macOS 13.7.5 Ventura / arm64 | OK | OK | OK | OK | |||||||||
| kunpeng2 | Linux (openEuler 24.03 LTS) / aarch64 | OK | OK | OK | ||||||||||
|
To the developers/maintainers of the miRSM package: - Allow up to 24 hours (and sometimes 48 hours) for your latest push to git@git.bioconductor.org:packages/miRSM.git to reflect on this report. See Troubleshooting Build Report for more information. - Use the following Renviron settings to reproduce errors and warnings. - If 'R CMD check' started to fail recently on the Linux builder(s) over a missing dependency, add the missing dependency to 'Suggests:' in your DESCRIPTION file. See Renviron.bioc for more information. |
| Package: miRSM |
| Version: 2.4.0 |
| Command: /Library/Frameworks/R.framework/Resources/bin/R CMD check --install=check:miRSM.install-out.txt --library=/Library/Frameworks/R.framework/Resources/library --no-vignettes --timings miRSM_2.4.0.tar.gz |
| StartedAt: 2025-10-14 06:39:20 -0400 (Tue, 14 Oct 2025) |
| EndedAt: 2025-10-14 06:50:56 -0400 (Tue, 14 Oct 2025) |
| EllapsedTime: 696.2 seconds |
| RetCode: 0 |
| Status: OK |
| CheckDir: miRSM.Rcheck |
| Warnings: 0 |
##############################################################################
##############################################################################
###
### Running command:
###
### /Library/Frameworks/R.framework/Resources/bin/R CMD check --install=check:miRSM.install-out.txt --library=/Library/Frameworks/R.framework/Resources/library --no-vignettes --timings miRSM_2.4.0.tar.gz
###
##############################################################################
##############################################################################
* using log directory ‘/Users/biocbuild/bbs-3.21-bioc/meat/miRSM.Rcheck’
* using R version 4.5.1 RC (2025-06-05 r88288)
* using platform: x86_64-apple-darwin20
* R was compiled by
Apple clang version 14.0.0 (clang-1400.0.29.202)
GNU Fortran (GCC) 14.2.0
* running under: macOS Monterey 12.7.6
* using session charset: UTF-8
* using option ‘--no-vignettes’
* checking for file ‘miRSM/DESCRIPTION’ ... OK
* checking extension type ... Package
* this is package ‘miRSM’ version ‘2.4.0’
* package encoding: UTF-8
* checking package namespace information ... OK
* checking package dependencies ... INFO
Imports includes 32 non-default packages.
Importing from so many packages makes the package vulnerable to any of
them becoming unavailable. Move as many as possible to Suggests and
use conditionally.
* checking if this is a source package ... OK
* checking if there is a namespace ... OK
* checking for hidden files and directories ... OK
* checking for portable file names ... OK
* checking for sufficient/correct file permissions ... OK
* checking whether package ‘miRSM’ can be installed ... OK
* used C compiler: ‘Apple clang version 14.0.0 (clang-1400.0.29.202)’
* used SDK: ‘MacOSX11.3.sdk’
* checking installed package size ... OK
* checking package directory ... OK
* checking ‘build’ directory ... OK
* checking DESCRIPTION meta-information ... OK
* checking top-level files ... OK
* checking for left-over files ... OK
* checking index information ... OK
* checking package subdirectories ... OK
* checking code files for non-ASCII characters ... OK
* checking R files for syntax errors ... OK
* checking whether the package can be loaded ... OK
* checking whether the package can be loaded with stated dependencies ... OK
* checking whether the package can be unloaded cleanly ... OK
* checking whether the namespace can be loaded with stated dependencies ... OK
* checking whether the namespace can be unloaded cleanly ... OK
* checking whether startup messages can be suppressed ... OK
* checking dependencies in R code ... OK
* checking S3 generic/method consistency ... OK
* checking replacement functions ... OK
* checking foreign function calls ... OK
* checking R code for possible problems ... OK
* checking Rd files ... NOTE
checkRd: (-1) module_GFA.Rd:47: Lost braces
47 | Bunte K, Lepp\'{a}aho E, Saarinen I, Kaski S.
| ^
checkRd: (-1) module_GFA.Rd:50: Lost braces
50 | Lepp\'{a}aho E, Ammad-ud-din M, Kaski S. GFA:
| ^
checkRd: (-1) module_biclust.Rd:54: Lost braces
54 | Preli\'{c} A, Bleuler S, Zimmermann P, Wille A,
| ^
checkRd: (-1) module_biclust.Rd:55: Lost braces
55 | B\'{u}hlmann P, Gruissem W, Hennig L, Thiele L, Zitzler E.
| ^
checkRd: (-1) module_biclust.Rd:80: Lost braces
80 | Talloen W, Bijnens L, G\'{o}hlmann HW, Shkedy Z, Clevert DA.
| ^
* checking Rd metadata ... OK
* checking Rd cross-references ... OK
* checking for missing documentation entries ... OK
* checking for code/documentation mismatches ... OK
* checking Rd \usage sections ... OK
* checking Rd contents ... OK
* checking for unstated dependencies in examples ... OK
* checking contents of ‘data’ directory ... OK
* checking data for non-ASCII characters ... OK
* checking data for ASCII and uncompressed saves ... OK
* checking line endings in C/C++/Fortran sources/headers ... OK
* checking compiled code ... NOTE
Note: information on .o files is not available
* checking files in ‘vignettes’ ... OK
* checking examples ... OK
Examples with CPU (user + system) or elapsed time > 5s
user system elapsed
diff_module 7.733 0.158 8.791
miRSM_SS 6.067 0.068 6.910
* checking for unstated dependencies in ‘tests’ ... OK
* checking tests ...
Running ‘test_miRSM.R’
OK
* checking for unstated dependencies in vignettes ... OK
* checking package vignettes ... OK
* checking running R code from vignettes ... SKIPPED
* checking re-building of vignette outputs ... SKIPPED
* checking PDF version of manual ... OK
* DONE
Status: 2 NOTEs
See
‘/Users/biocbuild/bbs-3.21-bioc/meat/miRSM.Rcheck/00check.log’
for details.
miRSM.Rcheck/00install.out
############################################################################## ############################################################################## ### ### Running command: ### ### /Library/Frameworks/R.framework/Resources/bin/R CMD INSTALL miRSM ### ############################################################################## ############################################################################## * installing to library ‘/Library/Frameworks/R.framework/Versions/4.5-x86_64/Resources/library’ * installing *source* package ‘miRSM’ ... ** this is package ‘miRSM’ version ‘2.4.0’ ** using staged installation ** libs using C compiler: ‘Apple clang version 14.0.0 (clang-1400.0.29.202)’ using SDK: ‘MacOSX11.3.sdk’ clang -arch x86_64 -I"/Library/Frameworks/R.framework/Resources/include" -DNDEBUG -I/opt/R/x86_64/include -fPIC -falign-functions=64 -Wall -g -O2 -c complex.c -o complex.o clang -arch x86_64 -I"/Library/Frameworks/R.framework/Resources/include" -DNDEBUG -I/opt/R/x86_64/include -fPIC -falign-functions=64 -Wall -g -O2 -c registerDynamicSymbol.c -o registerDynamicSymbol.o clang -arch x86_64 -dynamiclib -Wl,-headerpad_max_install_names -undefined dynamic_lookup -L/Library/Frameworks/R.framework/Resources/lib -L/opt/R/x86_64/lib -o miRSM.so complex.o registerDynamicSymbol.o -F/Library/Frameworks/R.framework/.. -framework R installing to /Library/Frameworks/R.framework/Versions/4.5-x86_64/Resources/library/00LOCK-miRSM/00new/miRSM/libs ** R ** data ** inst ** byte-compile and prepare package for lazy loading ** help *** installing help indices ** building package indices ** installing vignettes ** testing if installed package can be loaded from temporary location ** checking absolute paths in shared objects and dynamic libraries ** testing if installed package can be loaded from final location ** testing if installed package keeps a record of temporary installation path * DONE (miRSM)
miRSM.Rcheck/tests/test_miRSM.Rout
R version 4.5.1 RC (2025-06-05 r88288) -- "Great Square Root"
Copyright (C) 2025 The R Foundation for Statistical Computing
Platform: x86_64-apple-darwin20
R is free software and comes with ABSOLUTELY NO WARRANTY.
You are welcome to redistribute it under certain conditions.
Type 'license()' or 'licence()' for distribution details.
R is a collaborative project with many contributors.
Type 'contributors()' for more information and
'citation()' on how to cite R or R packages in publications.
Type 'demo()' for some demos, 'help()' for on-line help, or
'help.start()' for an HTML browser interface to help.
Type 'q()' to quit R.
> suppressPackageStartupMessages(library(testthat))
> suppressPackageStartupMessages(library(GSEABase))
> suppressPackageStartupMessages(library(miRSM))
>
> # Load datasets
> data(BRCASampleData)
>
> # Identify gene co-expression modules using igraph method
> modulegenes_igraph <- module_igraph(ceRExp[, seq_len(10)],
+ mRExp[, seq_len(10)])
>
>
> test_that("Test miRSM", {
+ expect_equal(geneIds(module_igraph(ceRExp[, seq_len(10)],
+ mRExp[, seq_len(10)])), geneIds(modulegenes_igraph))
+ })
Test passed 🥳
>
> proc.time()
user system elapsed
27.357 1.719 31.692
miRSM.Rcheck/miRSM-Ex.timings
| name | user | system | elapsed | |
| cor_binary | 0.205 | 0.016 | 0.245 | |
| diff_module | 7.733 | 0.158 | 8.791 | |
| miRSM | 0.236 | 0.011 | 0.391 | |
| miRSM_SS | 6.067 | 0.068 | 6.910 | |
| module_CEA | 2.643 | 0.069 | 3.122 | |
| module_Coexpress | 2.655 | 0.054 | 3.103 | |
| module_FA | 0.000 | 0.001 | 0.001 | |
| module_GFA | 4.257 | 0.267 | 4.864 | |
| module_NMF | 3.473 | 0.095 | 3.792 | |
| module_ProNet | 0.170 | 0.007 | 0.207 | |
| module_Validate | 2.679 | 0.065 | 2.988 | |
| module_WGCNA | 1.879 | 0.021 | 1.942 | |
| module_biclust | 0.450 | 0.008 | 0.461 | |
| module_clust | 0.133 | 0.005 | 0.139 | |
| module_group_sim | 2.849 | 0.048 | 2.905 | |
| module_igraph | 0.131 | 0.005 | 0.136 | |
| module_miRdistribute | 2.727 | 0.065 | 3.183 | |
| module_miRsponge | 2.714 | 0.068 | 3.137 | |
| module_miRtarget | 3.495 | 0.057 | 4.025 | |
| share_miRs | 2.716 | 0.057 | 3.081 | |