| Back to Multiple platform build/check report for BioC 3.21: simplified long |
|
This page was generated on 2025-10-16 11:39 -0400 (Thu, 16 Oct 2025).
| Hostname | OS | Arch (*) | R version | Installed pkgs |
|---|---|---|---|---|
| nebbiolo1 | Linux (Ubuntu 24.04.3 LTS) | x86_64 | 4.5.1 (2025-06-13) -- "Great Square Root" | 4833 |
| merida1 | macOS 12.7.6 Monterey | x86_64 | 4.5.1 RC (2025-06-05 r88288) -- "Great Square Root" | 4614 |
| kjohnson1 | macOS 13.7.5 Ventura | arm64 | 4.5.1 Patched (2025-06-14 r88325) -- "Great Square Root" | 4555 |
| kunpeng2 | Linux (openEuler 24.03 LTS) | aarch64 | R Under development (unstable) (2025-02-19 r87757) -- "Unsuffered Consequences" | 4586 |
| Click on any hostname to see more info about the system (e.g. compilers) (*) as reported by 'uname -p', except on Windows and Mac OS X | ||||
| Package 1252/2341 | Hostname | OS / Arch | INSTALL | BUILD | CHECK | BUILD BIN | ||||||||
| methylclock 1.14.0 (landing page) Dolors Pelegri-Siso
| nebbiolo1 | Linux (Ubuntu 24.04.3 LTS) / x86_64 | OK | OK | OK | |||||||||
| merida1 | macOS 12.7.6 Monterey / x86_64 | OK | OK | OK | OK | |||||||||
| kjohnson1 | macOS 13.7.5 Ventura / arm64 | OK | OK | OK | OK | |||||||||
| kunpeng2 | Linux (openEuler 24.03 LTS) / aarch64 | OK | OK | OK | ||||||||||
|
To the developers/maintainers of the methylclock package: - Allow up to 24 hours (and sometimes 48 hours) for your latest push to git@git.bioconductor.org:packages/methylclock.git to reflect on this report. See Troubleshooting Build Report for more information. - Use the following Renviron settings to reproduce errors and warnings. - If 'R CMD check' started to fail recently on the Linux builder(s) over a missing dependency, add the missing dependency to 'Suggests:' in your DESCRIPTION file. See Renviron.bioc for more information. |
| Package: methylclock |
| Version: 1.14.0 |
| Command: /Library/Frameworks/R.framework/Resources/bin/R CMD INSTALL methylclock |
| StartedAt: 2025-10-13 16:21:57 -0400 (Mon, 13 Oct 2025) |
| EndedAt: 2025-10-13 16:24:30 -0400 (Mon, 13 Oct 2025) |
| EllapsedTime: 153.2 seconds |
| RetCode: 0 |
| Status: OK |
##############################################################################
##############################################################################
###
### Running command:
###
### /Library/Frameworks/R.framework/Resources/bin/R CMD INSTALL methylclock
###
##############################################################################
##############################################################################
* installing to library ‘/Library/Frameworks/R.framework/Versions/4.5-x86_64/Resources/library’
* installing *source* package ‘methylclock’ ...
** this is package ‘methylclock’ version ‘1.14.0’
** using staged installation
** libs
using C++ compiler: ‘Apple clang version 14.0.0 (clang-1400.0.29.202)’
using SDK: ‘MacOSX11.3.sdk’
clang++ -arch x86_64 -std=gnu++17 -I"/Library/Frameworks/R.framework/Resources/include" -DNDEBUG -I'/Library/Frameworks/R.framework/Versions/4.5-x86_64/Resources/library/Rcpp/include' -I/opt/R/x86_64/include -fPIC -falign-functions=64 -Wall -g -O2 -c NewModel1Clean.cpp -o NewModel1Clean.o
clang++ -arch x86_64 -std=gnu++17 -I"/Library/Frameworks/R.framework/Resources/include" -DNDEBUG -I'/Library/Frameworks/R.framework/Versions/4.5-x86_64/Resources/library/Rcpp/include' -I/opt/R/x86_64/include -fPIC -falign-functions=64 -Wall -g -O2 -c NewModel1Clean_emxAPI.cpp -o NewModel1Clean_emxAPI.o
clang++ -arch x86_64 -std=gnu++17 -I"/Library/Frameworks/R.framework/Resources/include" -DNDEBUG -I'/Library/Frameworks/R.framework/Versions/4.5-x86_64/Resources/library/Rcpp/include' -I/opt/R/x86_64/include -fPIC -falign-functions=64 -Wall -g -O2 -c NewModel1Clean_emxutil.cpp -o NewModel1Clean_emxutil.o
clang++ -arch x86_64 -std=gnu++17 -I"/Library/Frameworks/R.framework/Resources/include" -DNDEBUG -I'/Library/Frameworks/R.framework/Versions/4.5-x86_64/Resources/library/Rcpp/include' -I/opt/R/x86_64/include -fPIC -falign-functions=64 -Wall -g -O2 -c NewModel1Clean_initialize.cpp -o NewModel1Clean_initialize.o
clang++ -arch x86_64 -std=gnu++17 -I"/Library/Frameworks/R.framework/Resources/include" -DNDEBUG -I'/Library/Frameworks/R.framework/Versions/4.5-x86_64/Resources/library/Rcpp/include' -I/opt/R/x86_64/include -fPIC -falign-functions=64 -Wall -g -O2 -c NewModel1Clean_terminate.cpp -o NewModel1Clean_terminate.o
clang++ -arch x86_64 -std=gnu++17 -I"/Library/Frameworks/R.framework/Resources/include" -DNDEBUG -I'/Library/Frameworks/R.framework/Versions/4.5-x86_64/Resources/library/Rcpp/include' -I/opt/R/x86_64/include -fPIC -falign-functions=64 -Wall -g -O2 -c RcppExports.cpp -o RcppExports.o
clang++ -arch x86_64 -std=gnu++17 -I"/Library/Frameworks/R.framework/Resources/include" -DNDEBUG -I'/Library/Frameworks/R.framework/Versions/4.5-x86_64/Resources/library/Rcpp/include' -I/opt/R/x86_64/include -fPIC -falign-functions=64 -Wall -g -O2 -c bsxfun.cpp -o bsxfun.o
clang++ -arch x86_64 -std=gnu++17 -I"/Library/Frameworks/R.framework/Resources/include" -DNDEBUG -I'/Library/Frameworks/R.framework/Versions/4.5-x86_64/Resources/library/Rcpp/include' -I/opt/R/x86_64/include -fPIC -falign-functions=64 -Wall -g -O2 -c main.cpp -o main.o
main.cpp:37:14: warning: unused function 'argInit_real_T' [-Wunused-function]
static float argInit_real_T()
^
1 warning generated.
clang++ -arch x86_64 -std=gnu++17 -I"/Library/Frameworks/R.framework/Resources/include" -DNDEBUG -I'/Library/Frameworks/R.framework/Versions/4.5-x86_64/Resources/library/Rcpp/include' -I/opt/R/x86_64/include -fPIC -falign-functions=64 -Wall -g -O2 -c repmat.cpp -o repmat.o
clang++ -arch x86_64 -std=gnu++17 -I"/Library/Frameworks/R.framework/Resources/include" -DNDEBUG -I'/Library/Frameworks/R.framework/Versions/4.5-x86_64/Resources/library/Rcpp/include' -I/opt/R/x86_64/include -fPIC -falign-functions=64 -Wall -g -O2 -c rtGetInf.cpp -o rtGetInf.o
clang++ -arch x86_64 -std=gnu++17 -I"/Library/Frameworks/R.framework/Resources/include" -DNDEBUG -I'/Library/Frameworks/R.framework/Versions/4.5-x86_64/Resources/library/Rcpp/include' -I/opt/R/x86_64/include -fPIC -falign-functions=64 -Wall -g -O2 -c rtGetNaN.cpp -o rtGetNaN.o
clang++ -arch x86_64 -std=gnu++17 -I"/Library/Frameworks/R.framework/Resources/include" -DNDEBUG -I'/Library/Frameworks/R.framework/Versions/4.5-x86_64/Resources/library/Rcpp/include' -I/opt/R/x86_64/include -fPIC -falign-functions=64 -Wall -g -O2 -c rt_nonfinite.cpp -o rt_nonfinite.o
clang++ -arch x86_64 -std=gnu++17 -dynamiclib -Wl,-headerpad_max_install_names -undefined dynamic_lookup -L/Library/Frameworks/R.framework/Resources/lib -L/opt/R/x86_64/lib -o methylclock.so NewModel1Clean.o NewModel1Clean_emxAPI.o NewModel1Clean_emxutil.o NewModel1Clean_initialize.o NewModel1Clean_terminate.o RcppExports.o bsxfun.o main.o repmat.o rtGetInf.o rtGetNaN.o rt_nonfinite.o -F/Library/Frameworks/R.framework/.. -framework R
installing to /Library/Frameworks/R.framework/Versions/4.5-x86_64/Resources/library/00LOCK-methylclock/00new/methylclock/libs
** R
** data
** inst
** byte-compile and prepare package for lazy loading
No methods found in package ‘rtracklayer’ for request: ‘trackName<-’ when loading ‘AnnotationHubData’
Warning message:
replacing previous import ‘utils::findMatches’ by ‘S4Vectors::findMatches’ when loading ‘ExperimentHubData’
** help
*** installing help indices
** building package indices
** installing vignettes
** testing if installed package can be loaded from temporary location
Warning: replacing previous import ‘utils::findMatches’ by ‘S4Vectors::findMatches’ when loading ‘ExperimentHubData’
No methods found in package ‘rtracklayer’ for request: ‘trackName<-’ when loading ‘AnnotationHubData’
** checking absolute paths in shared objects and dynamic libraries
** testing if installed package can be loaded from final location
Warning: replacing previous import ‘utils::findMatches’ by ‘S4Vectors::findMatches’ when loading ‘ExperimentHubData’
No methods found in package ‘rtracklayer’ for request: ‘trackName<-’ when loading ‘AnnotationHubData’
** testing if installed package keeps a record of temporary installation path
* DONE (methylclock)