| Back to Multiple platform build/check report for BioC 3.21: simplified long |
|
This page was generated on 2025-10-16 11:40 -0400 (Thu, 16 Oct 2025).
| Hostname | OS | Arch (*) | R version | Installed pkgs |
|---|---|---|---|---|
| nebbiolo1 | Linux (Ubuntu 24.04.3 LTS) | x86_64 | 4.5.1 (2025-06-13) -- "Great Square Root" | 4833 |
| merida1 | macOS 12.7.6 Monterey | x86_64 | 4.5.1 RC (2025-06-05 r88288) -- "Great Square Root" | 4614 |
| kjohnson1 | macOS 13.7.5 Ventura | arm64 | 4.5.1 Patched (2025-06-14 r88325) -- "Great Square Root" | 4555 |
| kunpeng2 | Linux (openEuler 24.03 LTS) | aarch64 | R Under development (unstable) (2025-02-19 r87757) -- "Unsuffered Consequences" | 4586 |
| Click on any hostname to see more info about the system (e.g. compilers) (*) as reported by 'uname -p', except on Windows and Mac OS X | ||||
| Package 1233/2341 | Hostname | OS / Arch | INSTALL | BUILD | CHECK | BUILD BIN | ||||||||
| metagenomeSeq 1.50.0 (landing page) Joseph N. Paulson
| nebbiolo1 | Linux (Ubuntu 24.04.3 LTS) / x86_64 | OK | OK | OK | |||||||||
| merida1 | macOS 12.7.6 Monterey / x86_64 | OK | OK | OK | OK | |||||||||
| kjohnson1 | macOS 13.7.5 Ventura / arm64 | OK | OK | OK | OK | |||||||||
| kunpeng2 | Linux (openEuler 24.03 LTS) / aarch64 | OK | OK | OK | ||||||||||
|
To the developers/maintainers of the metagenomeSeq package: - Allow up to 24 hours (and sometimes 48 hours) for your latest push to git@git.bioconductor.org:packages/metagenomeSeq.git to reflect on this report. See Troubleshooting Build Report for more information. - Use the following Renviron settings to reproduce errors and warnings. - If 'R CMD check' started to fail recently on the Linux builder(s) over a missing dependency, add the missing dependency to 'Suggests:' in your DESCRIPTION file. See Renviron.bioc for more information. |
| Package: metagenomeSeq |
| Version: 1.50.0 |
| Command: /Library/Frameworks/R.framework/Resources/bin/R CMD check --install=check:metagenomeSeq.install-out.txt --library=/Library/Frameworks/R.framework/Resources/library --no-vignettes --timings metagenomeSeq_1.50.0.tar.gz |
| StartedAt: 2025-10-15 02:54:32 -0400 (Wed, 15 Oct 2025) |
| EndedAt: 2025-10-15 02:58:39 -0400 (Wed, 15 Oct 2025) |
| EllapsedTime: 247.1 seconds |
| RetCode: 0 |
| Status: OK |
| CheckDir: metagenomeSeq.Rcheck |
| Warnings: 0 |
##############################################################################
##############################################################################
###
### Running command:
###
### /Library/Frameworks/R.framework/Resources/bin/R CMD check --install=check:metagenomeSeq.install-out.txt --library=/Library/Frameworks/R.framework/Resources/library --no-vignettes --timings metagenomeSeq_1.50.0.tar.gz
###
##############################################################################
##############################################################################
* using log directory ‘/Users/biocbuild/bbs-3.21-bioc/meat/metagenomeSeq.Rcheck’
* using R version 4.5.1 Patched (2025-06-14 r88325)
* using platform: aarch64-apple-darwin20
* R was compiled by
Apple clang version 16.0.0 (clang-1600.0.26.6)
GNU Fortran (GCC) 14.2.0
* running under: macOS Ventura 13.7.5
* using session charset: UTF-8
* using option ‘--no-vignettes’
* checking for file ‘metagenomeSeq/DESCRIPTION’ ... OK
* this is package ‘metagenomeSeq’ version ‘1.50.0’
* checking package namespace information ... OK
* checking package dependencies ... OK
* checking if this is a source package ... OK
* checking if there is a namespace ... OK
* checking for hidden files and directories ... OK
* checking for portable file names ... OK
* checking for sufficient/correct file permissions ... OK
* checking whether package ‘metagenomeSeq’ can be installed ... OK
* checking installed package size ... OK
* checking package directory ... OK
* checking ‘build’ directory ... OK
* checking DESCRIPTION meta-information ... OK
* checking top-level files ... OK
* checking for left-over files ... OK
* checking index information ... OK
* checking package subdirectories ... OK
* checking code files for non-ASCII characters ... OK
* checking R files for syntax errors ... OK
* checking whether the package can be loaded ... OK
* checking whether the package can be loaded with stated dependencies ... OK
* checking whether the package can be unloaded cleanly ... OK
* checking whether the namespace can be loaded with stated dependencies ... OK
* checking whether the namespace can be unloaded cleanly ... OK
* checking dependencies in R code ... OK
* checking S3 generic/method consistency ... OK
* checking replacement functions ... OK
* checking foreign function calls ... OK
* checking R code for possible problems ... OK
* checking Rd files ... OK
* checking Rd metadata ... OK
* checking Rd cross-references ... OK
* checking for missing documentation entries ... OK
* checking for code/documentation mismatches ... OK
* checking Rd \usage sections ... OK
* checking Rd contents ... OK
* checking for unstated dependencies in examples ... OK
* checking contents of ‘data’ directory ... OK
* checking data for non-ASCII characters ... OK
* checking data for ASCII and uncompressed saves ... OK
* checking sizes of PDF files under ‘inst/doc’ ... OK
* checking files in ‘vignettes’ ... OK
* checking examples ... OK
Examples with CPU (user + system) or elapsed time > 5s
user system elapsed
wrenchNorm 13.528 1.360 14.905
MRfulltable 1.065 0.048 5.973
* checking for unstated dependencies in ‘tests’ ... OK
* checking tests ...
Running ‘testthat.R’
OK
* checking for unstated dependencies in vignettes ... OK
* checking package vignettes ... OK
* checking running R code from vignettes ... SKIPPED
* checking re-building of vignette outputs ... SKIPPED
* checking PDF version of manual ... OK
* DONE
Status: OK
metagenomeSeq.Rcheck/00install.out
############################################################################## ############################################################################## ### ### Running command: ### ### /Library/Frameworks/R.framework/Resources/bin/R CMD INSTALL metagenomeSeq ### ############################################################################## ############################################################################## * installing to library ‘/Library/Frameworks/R.framework/Versions/4.5-arm64/Resources/library’ * installing *source* package ‘metagenomeSeq’ ... ** this is package ‘metagenomeSeq’ version ‘1.50.0’ ** using staged installation ** R ** data ** inst ** byte-compile and prepare package for lazy loading in method for ‘MRihw’ with signature ‘"fitFeatureModelResults"’: no definition for class “fitFeatureModelResults” in method for ‘MRihw’ with signature ‘"fitZigResults"’: no definition for class “fitZigResults” ** help *** installing help indices ** building package indices ** installing vignettes ** testing if installed package can be loaded from temporary location ** testing if installed package can be loaded from final location ** testing if installed package keeps a record of temporary installation path * DONE (metagenomeSeq)
metagenomeSeq.Rcheck/tests/testthat.Rout
R version 4.5.1 Patched (2025-06-14 r88325) -- "Great Square Root"
Copyright (C) 2025 The R Foundation for Statistical Computing
Platform: aarch64-apple-darwin20
R is free software and comes with ABSOLUTELY NO WARRANTY.
You are welcome to redistribute it under certain conditions.
Type 'license()' or 'licence()' for distribution details.
R is a collaborative project with many contributors.
Type 'contributors()' for more information and
'citation()' on how to cite R or R packages in publications.
Type 'demo()' for some demos, 'help()' for on-line help, or
'help.start()' for an HTML browser interface to help.
Type 'q()' to quit R.
> library("testthat")
> packageVersion("metagenomeSeq")
[1] '1.50.0'
> # As suggested for opt-out option on testing by users,
> # recommended by CRAN: http://adv-r.had.co.nz/Testing.html
> # Previously, best practice was to put all test files in inst/tests
> # and ensure that R CMD check ran them by putting the following code in tests/test-all.R:
> # >library(testthat)
> # >library(yourpackage)
> # >test_package("yourpackage")
> # Now, recommended practice is to put your tests in tests/testthat,
> # and ensure R CMD check runs them by putting the following code in tests/test-all.R:
> # >library(testthat)
> # >test_check("yourpackage")
> # The advantage of this new structure is that the user has control over whether or not tests are installed using the –install-tests parameter to
> # R CMD install, or INSTALL_opts = c(“–install-tests”) argument to install.packages(). I’m not sure why you wouldn’t want to install the tests,
> # but now you have the flexibility as requested by CRAN maintainers.
> test_check("metagenomeSeq")
Loading required package: metagenomeSeq
Loading required package: Biobase
Loading required package: BiocGenerics
Loading required package: generics
Attaching package: 'generics'
The following objects are masked from 'package:base':
as.difftime, as.factor, as.ordered, intersect, is.element, setdiff,
setequal, union
Attaching package: 'BiocGenerics'
The following objects are masked from 'package:stats':
IQR, mad, sd, var, xtabs
The following objects are masked from 'package:base':
Filter, Find, Map, Position, Reduce, anyDuplicated, aperm, append,
as.data.frame, basename, cbind, colnames, dirname, do.call,
duplicated, eval, evalq, get, grep, grepl, is.unsorted, lapply,
mapply, match, mget, order, paste, pmax, pmax.int, pmin, pmin.int,
rank, rbind, rownames, sapply, saveRDS, table, tapply, unique,
unsplit, which.max, which.min
Welcome to Bioconductor
Vignettes contain introductory material; view with
'browseVignettes()'. To cite Bioconductor, see
'citation("Biobase")', and for packages 'citation("pkgname")'.
Loading required package: limma
Attaching package: 'limma'
The following object is masked from 'package:BiocGenerics':
plotMA
Loading required package: glmnet
Loading required package: Matrix
Loaded glmnet 4.1-10
Loading required package: RColorBrewer
[ FAIL 0 | WARN 6 | SKIP 0 | PASS 15 ]
[ FAIL 0 | WARN 6 | SKIP 0 | PASS 15 ]
>
> proc.time()
user system elapsed
89.696 6.383 96.387
metagenomeSeq.Rcheck/metagenomeSeq-Ex.timings
| name | user | system | elapsed | |
| MRcoefs | 1.287 | 0.061 | 1.363 | |
| MRcounts | 0.580 | 0.012 | 0.598 | |
| MRexperiment-class | 0 | 0 | 0 | |
| MRfulltable | 1.065 | 0.048 | 5.973 | |
| MRtable | 1.049 | 0.030 | 1.080 | |
| aggregateBySample | 0.162 | 0.009 | 0.172 | |
| aggregateByTaxonomy | 0.181 | 0.017 | 0.197 | |
| biom2MRexperiment | 0.234 | 0.013 | 0.248 | |
| calcNormFactors | 0.727 | 0.095 | 0.828 | |
| correctIndices | 0.121 | 0.011 | 0.132 | |
| correlationTest | 0.242 | 0.026 | 0.270 | |
| cumNorm | 0.450 | 0.091 | 0.541 | |
| cumNormMat | 0.484 | 0.111 | 0.596 | |
| cumNormStat | 0.732 | 0.097 | 0.830 | |
| cumNormStatFast | 0.316 | 0.035 | 0.351 | |
| expSummary | 0.113 | 0.009 | 0.122 | |
| exportMat | 1.284 | 2.569 | 3.874 | |
| exportStats | 0.432 | 0.025 | 0.460 | |
| extractMR | 0.678 | 0.648 | 1.369 | |
| filterData | 0.181 | 0.039 | 0.226 | |
| fitDO | 0.379 | 0.051 | 3.278 | |
| fitFeatureModel | 1.123 | 0.091 | 1.228 | |
| fitLogNormal | 2.065 | 0.371 | 2.464 | |
| fitMultipleTimeSeries | 1.979 | 0.266 | 2.267 | |
| fitPA | 0.676 | 0.068 | 3.333 | |
| fitSSTimeSeries | 0.480 | 0.056 | 0.536 | |
| fitTimeSeries | 0.468 | 0.063 | 0.533 | |
| fitZig | 1.954 | 0.227 | 2.208 | |
| libSize-set | 0.374 | 0.055 | 0.430 | |
| libSize | 0.340 | 0.019 | 0.360 | |
| loadBiom | 0.036 | 0.001 | 0.038 | |
| loadMeta | 0.019 | 0.001 | 0.021 | |
| loadMetaQ | 0 | 0 | 0 | |
| loadPhenoData | 0.008 | 0.001 | 0.009 | |
| makeLabels | 0.000 | 0.001 | 0.000 | |
| mergeMRexperiments | 1.682 | 0.200 | 1.883 | |
| newMRexperiment | 0.026 | 0.000 | 0.026 | |
| normFactors-set | 0.325 | 0.032 | 0.357 | |
| normFactors | 0.390 | 0.014 | 0.403 | |
| plotBubble | 0.308 | 0.038 | 2.904 | |
| plotClassTimeSeries | 1.286 | 0.194 | 1.483 | |
| plotCorr | 0.481 | 0.038 | 0.520 | |
| plotFeature | 0.201 | 0.019 | 0.222 | |
| plotGenus | 0.152 | 0.022 | 0.175 | |
| plotMRheatmap | 1.807 | 0.138 | 1.947 | |
| plotOTU | 0.163 | 0.017 | 0.180 | |
| plotOrd | 0.271 | 0.034 | 0.305 | |
| plotRare | 0.149 | 0.017 | 0.166 | |
| plotTimeSeries | 1.269 | 0.216 | 1.490 | |
| posteriorProbs | 1.893 | 0.306 | 2.211 | |
| returnAppropriateObj | 0.306 | 0.033 | 0.341 | |
| ssFit | 0 | 0 | 0 | |
| ssIntervalCandidate | 0 | 0 | 0 | |
| ssPerm | 0 | 0 | 0 | |
| ssPermAnalysis | 0.001 | 0.000 | 0.000 | |
| trapz | 0 | 0 | 0 | |
| ts2MRexperiment | 1.919 | 0.325 | 2.258 | |
| uniqueFeatures | 0.127 | 0.015 | 0.142 | |
| wrenchNorm | 13.528 | 1.360 | 14.905 | |
| zigControl | 0.001 | 0.000 | 0.001 | |