Back to Multiple platform build/check report for BioC 3.22:   simplified   long
ABCDEFGHIJKL[M]NOPQRSTUVWXYZ

This page was generated on 2025-11-04 12:04 -0500 (Tue, 04 Nov 2025).

HostnameOSArch (*)R versionInstalled pkgs
nebbiolo2Linux (Ubuntu 24.04.3 LTS)x86_644.5.1 Patched (2025-08-23 r88802) -- "Great Square Root" 4902
lconwaymacOS 12.7.6 Montereyx86_644.5.1 Patched (2025-09-10 r88807) -- "Great Square Root" 4692
kjohnson3macOS 13.7.7 Venturaarm644.5.1 Patched (2025-09-10 r88807) -- "Great Square Root" 4638
Click on any hostname to see more info about the system (e.g. compilers)      (*) as reported by 'uname -p', except on Windows and Mac OS X

Package 1206/2361HostnameOS / ArchINSTALLBUILDCHECKBUILD BIN
matter 2.12.0  (landing page)
Kylie A. Bemis
Snapshot Date: 2025-11-03 13:45 -0500 (Mon, 03 Nov 2025)
git_url: https://git.bioconductor.org/packages/matter
git_branch: RELEASE_3_22
git_last_commit: 42b13d8
git_last_commit_date: 2025-10-29 10:34:59 -0500 (Wed, 29 Oct 2025)
nebbiolo2Linux (Ubuntu 24.04.3 LTS) / x86_64  OK    OK    OK  UNNEEDED, same version is already published
lconwaymacOS 12.7.6 Monterey / x86_64  OK    OK    ERROR    OK  
kjohnson3macOS 13.7.7 Ventura / arm64  OK    OK    OK    OK  UNNEEDED, same version is already published


CHECK results for matter on lconway

To the developers/maintainers of the matter package:
- Allow up to 24 hours (and sometimes 48 hours) for your latest push to git@git.bioconductor.org:packages/matter.git to reflect on this report. See Troubleshooting Build Report for more information.
- Use the following Renviron settings to reproduce errors and warnings.
- If 'R CMD check' started to fail recently on the Linux builder(s) over a missing dependency, add the missing dependency to 'Suggests:' in your DESCRIPTION file. See Renviron.bioc for more information.

raw results


Summary

Package: matter
Version: 2.12.0
Command: /Library/Frameworks/R.framework/Resources/bin/R CMD check --install=check:matter.install-out.txt --library=/Library/Frameworks/R.framework/Resources/library --no-vignettes --timings matter_2.12.0.tar.gz
StartedAt: 2025-11-03 22:15:48 -0500 (Mon, 03 Nov 2025)
EndedAt: 2025-11-03 22:19:50 -0500 (Mon, 03 Nov 2025)
EllapsedTime: 241.9 seconds
RetCode: 1
Status:   ERROR  
CheckDir: matter.Rcheck
Warnings: NA

Command output

##############################################################################
##############################################################################
###
### Running command:
###
###   /Library/Frameworks/R.framework/Resources/bin/R CMD check --install=check:matter.install-out.txt --library=/Library/Frameworks/R.framework/Resources/library --no-vignettes --timings matter_2.12.0.tar.gz
###
##############################################################################
##############################################################################


* using log directory ‘/Users/biocbuild/bbs-3.22-bioc/meat/matter.Rcheck’
* using R version 4.5.1 Patched (2025-09-10 r88807)
* using platform: x86_64-apple-darwin20
* R was compiled by
    Apple clang version 14.0.0 (clang-1400.0.29.202)
    GNU Fortran (GCC) 14.2.0
* running under: macOS Monterey 12.7.6
* using session charset: UTF-8
* using option ‘--no-vignettes’
* checking for file ‘matter/DESCRIPTION’ ... OK
* checking extension type ... Package
* this is package ‘matter’ version ‘2.12.0’
* checking package namespace information ... OK
* checking package dependencies ... OK
* checking if this is a source package ... OK
* checking if there is a namespace ... OK
* checking for hidden files and directories ... OK
* checking for portable file names ... OK
* checking for sufficient/correct file permissions ... OK
* checking whether package ‘matter’ can be installed ... OK
* used C++ compiler: ‘Apple clang version 14.0.0 (clang-1400.0.29.202)’
* used SDK: ‘MacOSX11.3.1.sdk’
* checking installed package size ... OK
* checking package directory ... OK
* checking ‘build’ directory ... OK
* checking DESCRIPTION meta-information ... OK
* checking top-level files ... OK
* checking for left-over files ... OK
* checking index information ... OK
* checking package subdirectories ... OK
* checking code files for non-ASCII characters ... OK
* checking R files for syntax errors ... OK
* checking whether the package can be loaded ... OK
* checking whether the package can be loaded with stated dependencies ... OK
* checking whether the package can be unloaded cleanly ... OK
* checking whether the namespace can be loaded with stated dependencies ... OK
* checking whether the namespace can be unloaded cleanly ... OK
* checking whether startup messages can be suppressed ... OK
* checking dependencies in R code ... OK
* checking S3 generic/method consistency ... OK
* checking replacement functions ... OK
* checking foreign function calls ... OK
* checking R code for possible problems ... OK
* checking Rd files ... OK
* checking Rd metadata ... OK
* checking Rd cross-references ... NOTE
Found the following Rd file(s) with Rd \link{} targets missing package
anchors:
  SnowfastParam-class.Rd: SnowParam, BiocParallelParam, MulticoreParam
  checksum.Rd: digest
  chunkApply.Rd: bplapply
  colscale.Rd: bplapply
  cv_do.Rd: bplapply
  matter-options.Rd: bplapply
  nscentroids.Rd: bplapply
  pls.Rd: bplapply
  prcomp.Rd: bplapply
  rowDists.Rd: bplapply
  rowStats.Rd: bplapply
  sgmix.Rd: bplapply
Please provide package anchors for all Rd \link{} targets not in the
package itself and the base packages.
* checking for missing documentation entries ... OK
* checking for code/documentation mismatches ... OK
* checking Rd \usage sections ... OK
* checking Rd contents ... OK
* checking for unstated dependencies in examples ... OK
* checking line endings in C/C++/Fortran sources/headers ... OK
* checking compiled code ... NOTE
Note: information on .o files is not available
File ‘matter/libs/matter.so’:
  Found non-API calls to R: ‘DATAPTR’, ‘R_tryWrap’, ‘STRING_PTR’

Compiled code should not call non-API entry points in R.

See ‘Writing portable packages’ in the ‘Writing R Extensions’ manual,
and section ‘Moving into C API compliance’ for issues with the use of
non-API entry points.
* checking files in ‘vignettes’ ... OK
* checking examples ... OK
Examples with CPU (user + system) or elapsed time > 5s
       user system elapsed
sgmix 8.088  0.105   8.226
* checking for unstated dependencies in ‘tests’ ... OK
* checking tests ...
  Running ‘testthat.R’
 ERROR
Running the tests in ‘tests/testthat.R’ failed.
Last 13 lines of output:
    6.         └─BiocParallel:::.bpinit(...)
    7.           ├─BiocParallel::bploop(...)
    8.           └─BiocParallel:::bploop.lapply(...)
    9.             └─BiocParallel:::.bploop_impl(...)
   10.               ├─BiocParallel::.manager_send(manager, task)
   11.               └─BiocParallel::.manager_send(manager, task)
   12.                 ├─BiocParallel::.send_to(manager$backend, as.integer(worker), value)
   13.                 └─BiocParallel::.send_to(manager$backend, as.integer(worker), value)
   14.                   ├─parallel:::sendData(backend[[node]], value)
   15.                   └─parallel:::sendData.SOCK0node(backend[[node]], value)
   16.                     └─base::serialize(data, node$con, xdr = FALSE)
  
  [ FAIL 1 | WARN 0 | SKIP 0 | PASS 2076 ]
  Error: Test failures
  Execution halted
* checking for unstated dependencies in vignettes ... OK
* checking package vignettes ... OK
* checking running R code from vignettes ... SKIPPED
* checking re-building of vignette outputs ... SKIPPED
* checking PDF version of manual ... OK
* DONE

Status: 1 ERROR, 2 NOTEs
See
  ‘/Users/biocbuild/bbs-3.22-bioc/meat/matter.Rcheck/00check.log’
for details.


Installation output

matter.Rcheck/00install.out

##############################################################################
##############################################################################
###
### Running command:
###
###   /Library/Frameworks/R.framework/Resources/bin/R CMD INSTALL matter
###
##############################################################################
##############################################################################


* installing to library ‘/Library/Frameworks/R.framework/Versions/4.5-x86_64/Resources/library’
* installing *source* package ‘matter’ ...
** this is package ‘matter’ version ‘2.12.0’
** using staged installation
** libs
using C++ compiler: ‘Apple clang version 14.0.0 (clang-1400.0.29.202)’
using SDK: ‘MacOSX11.3.1.sdk’
clang++ -arch x86_64 -std=gnu++17 -I"/Library/Frameworks/R.framework/Resources/include" -DNDEBUG  -I'/Library/Frameworks/R.framework/Versions/4.5-x86_64/Resources/library/BH/include' -I/opt/R/x86_64/include    -fPIC  -falign-functions=64 -Wall -g -O2   -c altrep.cpp -o altrep.o
clang++ -arch x86_64 -std=gnu++17 -I"/Library/Frameworks/R.framework/Resources/include" -DNDEBUG  -I'/Library/Frameworks/R.framework/Versions/4.5-x86_64/Resources/library/BH/include' -I/opt/R/x86_64/include    -fPIC  -falign-functions=64 -Wall -g -O2   -c init.cpp -o init.o
clang++ -arch x86_64 -std=gnu++17 -I"/Library/Frameworks/R.framework/Resources/include" -DNDEBUG  -I'/Library/Frameworks/R.framework/Versions/4.5-x86_64/Resources/library/BH/include' -I/opt/R/x86_64/include    -fPIC  -falign-functions=64 -Wall -g -O2   -c matterExports.cpp -o matterExports.o
clang++ -arch x86_64 -std=gnu++17 -dynamiclib -Wl,-headerpad_max_install_names -undefined dynamic_lookup -L/Library/Frameworks/R.framework/Resources/lib -L/opt/R/x86_64/lib -o matter.so altrep.o init.o matterExports.o -F/Library/Frameworks/R.framework/.. -framework R
installing to /Library/Frameworks/R.framework/Versions/4.5-x86_64/Resources/library/00LOCK-matter/00new/matter/libs
** R
** byte-compile and prepare package for lazy loading
** help
*** installing help indices
** building package indices
** installing vignettes
** testing if installed package can be loaded from temporary location
** checking absolute paths in shared objects and dynamic libraries
** testing if installed package can be loaded from final location
** testing if installed package keeps a record of temporary installation path
* DONE (matter)

Tests output

matter.Rcheck/tests/testthat.Rout.fail


R version 4.5.1 Patched (2025-09-10 r88807) -- "Great Square Root"
Copyright (C) 2025 The R Foundation for Statistical Computing
Platform: x86_64-apple-darwin20

R is free software and comes with ABSOLUTELY NO WARRANTY.
You are welcome to redistribute it under certain conditions.
Type 'license()' or 'licence()' for distribution details.

R is a collaborative project with many contributors.
Type 'contributors()' for more information and
'citation()' on how to cite R or R packages in publications.

Type 'demo()' for some demos, 'help()' for on-line help, or
'help.start()' for an HTML browser interface to help.
Type 'q()' to quit R.

> library(testthat)
> library(matter)
Loading required package: BiocParallel
Loading required package: Matrix
> 
> test_check("matter")
[ FAIL 1 | WARN 0 | SKIP 0 | PASS 2076 ]

══ Failed tests ════════════════════════════════════════════════════════════════
── Error ('test-parallel.R:125:2'): SnowfastParam ──────────────────────────────
Error in `serialize(data, node$con, xdr = FALSE)`: error writing to connection
Backtrace:
     ▆
  1. └─matter::chunkLapply(x, sum, BPPARAM = sp0) at test-parallel.R:125:9
  2.   └─matter::chunk_lapply(X, CHUNKFUN, ..., verbose = verbose, BPPARAM = BPPARAM)
  3.     └─matter:::bplapply_int(CHUNKS, CHUNKFUN, ..., BPPARAM = BPPARAM)
  4.       ├─BiocParallel::bplapply(X, FUN, ..., BPPARAM = BPPARAM)
  5.       └─BiocParallel::bplapply(X, FUN, ..., BPPARAM = BPPARAM)
  6.         └─BiocParallel:::.bpinit(...)
  7.           ├─BiocParallel::bploop(...)
  8.           └─BiocParallel:::bploop.lapply(...)
  9.             └─BiocParallel:::.bploop_impl(...)
 10.               ├─BiocParallel::.manager_send(manager, task)
 11.               └─BiocParallel::.manager_send(manager, task)
 12.                 ├─BiocParallel::.send_to(manager$backend, as.integer(worker), value)
 13.                 └─BiocParallel::.send_to(manager$backend, as.integer(worker), value)
 14.                   ├─parallel:::sendData(backend[[node]], value)
 15.                   └─parallel:::sendData.SOCK0node(backend[[node]], value)
 16.                     └─base::serialize(data, node$con, xdr = FALSE)

[ FAIL 1 | WARN 0 | SKIP 0 | PASS 2076 ]
Error: Test failures
Execution halted

Example timings

matter.Rcheck/matter-Ex.timings

nameusersystemelapsed
RNGStreams0.8800.0070.903
SnowfastParam-class0.2310.0273.099
approx10.0020.0000.004
approx20.0050.0010.006
avg0.0010.0010.002
binpeaks0.0050.0010.007
binvec0.0010.0010.001
bsearch0.0010.0010.002
checksum0.0340.0070.044
chunkApply0.2280.0190.249
chunked-class0.0060.0010.007
colscale0.2630.0070.271
colsweep0.0210.0010.022
convolve_at0.0970.0050.102
coscore0.0440.0090.052
cpal0.0040.0010.004
cv_do0.1860.0030.190
deferred-ops0.4120.0110.428
downsample0.0450.0020.047
drle-class0.0020.0000.003
enhance0.0280.0030.032
estbase0.0120.0020.015
estdim0.0040.0010.004
estnoise0.0380.0050.042
estres0.0020.0000.003
fastmap0.1400.0020.142
fetch0.1620.0120.175
filt10.0260.0020.028
filt20.0220.0010.024
filtn0.0040.0010.006
findpeaks0.0270.0050.032
findpeaks_cwt0.1150.0110.129
findpeaks_knn0.0020.0000.003
iQuote0.0010.0000.001
inpoly0.0050.0010.006
isofun0.0290.0010.030
knnsearch0.0010.0010.002
matter-class0.0320.0030.036
matter_arr-class0.0310.0020.034
matter_fct-class0.0190.0010.021
matter_list-class0.0120.0020.013
matter_str-class0.0190.0020.021
mem0.4340.0090.446
mi_learn0.6390.0100.653
nnmf0.0470.0010.048
nscentroids0.1140.0010.116
peakwidths0.0010.0000.001
pinv0.0010.0000.002
plot_signal0.4760.0550.537
pls0.0410.0010.042
prcomp0.1570.0160.175
predscore0.0020.0000.001
rescale0.0010.0010.000
rocscore0.0020.0010.003
rollvec0.0010.0010.002
rowDists0.0970.0050.103
rowStats0.1190.0090.129
seq_rel0.0010.0010.002
sgmix8.0880.1058.226
shingles0.0020.0020.004
simple_logger-class0.0040.0020.007
simspec0.0340.0070.042
sparse_arr-class0.0050.0010.006
stream_stat0.0060.0010.007
struct0.0070.0020.008
summary-stats0.5420.0230.569
to_raster0.0040.0010.004
trans2d0.0440.0020.046
uuid0.0010.0000.001
vizi-functions0.0640.0060.070
warp10.0300.0040.033
warp20.8890.0120.905