| Back to Multiple platform build/check report for BioC 3.21: simplified long |
|
This page was generated on 2025-10-16 11:41 -0400 (Thu, 16 Oct 2025).
| Hostname | OS | Arch (*) | R version | Installed pkgs |
|---|---|---|---|---|
| nebbiolo1 | Linux (Ubuntu 24.04.3 LTS) | x86_64 | 4.5.1 (2025-06-13) -- "Great Square Root" | 4833 |
| merida1 | macOS 12.7.6 Monterey | x86_64 | 4.5.1 RC (2025-06-05 r88288) -- "Great Square Root" | 4614 |
| kjohnson1 | macOS 13.7.5 Ventura | arm64 | 4.5.1 Patched (2025-06-14 r88325) -- "Great Square Root" | 4555 |
| kunpeng2 | Linux (openEuler 24.03 LTS) | aarch64 | R Under development (unstable) (2025-02-19 r87757) -- "Unsuffered Consequences" | 4586 |
| Click on any hostname to see more info about the system (e.g. compilers) (*) as reported by 'uname -p', except on Windows and Mac OS X | ||||
| Package 1149/2341 | Hostname | OS / Arch | INSTALL | BUILD | CHECK | BUILD BIN | ||||||||
| lute 1.4.0 (landing page) Sean K Maden
| nebbiolo1 | Linux (Ubuntu 24.04.3 LTS) / x86_64 | OK | OK | ERROR | |||||||||
| merida1 | macOS 12.7.6 Monterey / x86_64 | OK | OK | ERROR | OK | |||||||||
| kjohnson1 | macOS 13.7.5 Ventura / arm64 | OK | OK | ERROR | OK | |||||||||
| kunpeng2 | Linux (openEuler 24.03 LTS) / aarch64 | OK | OK | OK | ||||||||||
|
To the developers/maintainers of the lute package: - Allow up to 24 hours (and sometimes 48 hours) for your latest push to git@git.bioconductor.org:packages/lute.git to reflect on this report. See Troubleshooting Build Report for more information. - Use the following Renviron settings to reproduce errors and warnings. - If 'R CMD check' started to fail recently on the Linux builder(s) over a missing dependency, add the missing dependency to 'Suggests:' in your DESCRIPTION file. See Renviron.bioc for more information. - See Martin Grigorov's blog post for how to debug Linux ARM64 related issues on a x86_64 host. |
| Package: lute |
| Version: 1.4.0 |
| Command: /home/biocbuild/R/R/bin/R CMD check --install=check:lute.install-out.txt --library=/home/biocbuild/R/R/site-library --no-vignettes --timings lute_1.4.0.tar.gz |
| StartedAt: 2025-10-14 10:44:06 -0000 (Tue, 14 Oct 2025) |
| EndedAt: 2025-10-14 10:48:28 -0000 (Tue, 14 Oct 2025) |
| EllapsedTime: 262.3 seconds |
| RetCode: 0 |
| Status: OK |
| CheckDir: lute.Rcheck |
| Warnings: 0 |
##############################################################################
##############################################################################
###
### Running command:
###
### /home/biocbuild/R/R/bin/R CMD check --install=check:lute.install-out.txt --library=/home/biocbuild/R/R/site-library --no-vignettes --timings lute_1.4.0.tar.gz
###
##############################################################################
##############################################################################
* using log directory ‘/home/biocbuild/bbs-3.21-bioc/meat/lute.Rcheck’
* using R Under development (unstable) (2025-02-19 r87757)
* using platform: aarch64-unknown-linux-gnu
* R was compiled by
aarch64-unknown-linux-gnu-gcc (GCC) 14.2.0
GNU Fortran (GCC) 14.2.0
* running under: openEuler 24.03 (LTS-SP1)
* using session charset: UTF-8
* using option ‘--no-vignettes’
* checking for file ‘lute/DESCRIPTION’ ... OK
* this is package ‘lute’ version ‘1.4.0’
* package encoding: UTF-8
* checking package namespace information ... OK
* checking package dependencies ... OK
* checking if this is a source package ... OK
* checking if there is a namespace ... OK
* checking for hidden files and directories ... OK
* checking for portable file names ... OK
* checking for sufficient/correct file permissions ... OK
* checking whether package ‘lute’ can be installed ... OK
* checking installed package size ... OK
* checking package directory ... OK
* checking ‘build’ directory ... OK
* checking DESCRIPTION meta-information ... OK
* checking top-level files ... OK
* checking for left-over files ... NOTE
The following files look like leftovers:
‘lute/NEWS.Rd’
Please remove them from your package.
* checking index information ... OK
* checking package subdirectories ... OK
* checking code files for non-ASCII characters ... OK
* checking R files for syntax errors ... OK
* checking whether the package can be loaded ... OK
* checking whether the package can be loaded with stated dependencies ... OK
* checking whether the package can be unloaded cleanly ... OK
* checking whether the namespace can be loaded with stated dependencies ... OK
* checking whether the namespace can be unloaded cleanly ... OK
* checking loading without being on the library search path ... OK
* checking dependencies in R code ... NOTE
Namespace in Imports field not imported from: ‘ggplot2’
All declared Imports should be used.
* checking S3 generic/method consistency ... OK
* checking replacement functions ... OK
* checking foreign function calls ... OK
* checking R code for possible problems ... OK
* checking Rd files ... OK
* checking Rd metadata ... OK
* checking Rd cross-references ... NOTE
Found the following Rd file(s) with Rd \link{} targets missing package
anchors:
lute.Rd: SummarizedExperiment-class
nnlsParam.Rd: ExpressionSet-class
ypb_from_sce.Rd: SingleCellExperiment-class
z_matrix_from_sce.Rd: SingleCellExperiment-class
Please provide package anchors for all Rd \link{} targets not in the
package itself and the base packages.
* checking for missing documentation entries ... OK
* checking for code/documentation mismatches ... OK
* checking Rd \usage sections ... OK
* checking Rd contents ... OK
* checking for unstated dependencies in examples ... OK
* checking files in ‘vignettes’ ... OK
* checking examples ... OK
* checking for unstated dependencies in vignettes ... OK
* checking package vignettes ... OK
* checking running R code from vignettes ... SKIPPED
* checking re-building of vignette outputs ... SKIPPED
* checking PDF version of manual ... OK
* DONE
Status: 3 NOTEs
See
‘/home/biocbuild/bbs-3.21-bioc/meat/lute.Rcheck/00check.log’
for details.
lute.Rcheck/00install.out
############################################################################## ############################################################################## ### ### Running command: ### ### /home/biocbuild/R/R/bin/R CMD INSTALL lute ### ############################################################################## ############################################################################## * installing to library ‘/home/biocbuild/R/R-devel_2025-02-19/site-library’ * installing *source* package ‘lute’ ... ** this is package ‘lute’ version ‘1.4.0’ ** using staged installation ** R ** inst ** byte-compile and prepare package for lazy loading ** help *** installing help indices ** building package indices ** installing vignettes ** testing if installed package can be loaded from temporary location ** testing if installed package can be loaded from final location ** testing if installed package keeps a record of temporary installation path * DONE (lute)
lute.Rcheck/lute-Ex.timings
| name | user | system | elapsed | |
| bisqueParam-class | 3.909 | 0.036 | 3.955 | |
| bisqueParam | 2.654 | 0.024 | 2.683 | |
| cellProportionsPredictions-class | 0.016 | 0.000 | 0.016 | |
| cellProportionsPredictions | 0.001 | 0.000 | 0.000 | |
| deconvolution-bisqueParam-method | 2.691 | 0.012 | 2.708 | |
| deconvolution-deconvolutionParam-method | 0.001 | 0.000 | 0.001 | |
| deconvolution-independentbulkParam-method | 0.002 | 0.000 | 0.002 | |
| deconvolution-nnlsParam-method | 0.011 | 0.004 | 0.015 | |
| deconvolution-referencebasedParam-method | 0.003 | 0.000 | 0.003 | |
| deconvolution | 0.005 | 0.000 | 0.004 | |
| deconvolutionParam-class | 0.001 | 0.000 | 0.000 | |
| eset_to_sce | 0.529 | 0.000 | 0.530 | |
| eset_to_se | 0.390 | 0.000 | 0.391 | |
| findmarkersParam-class | 0.902 | 0.016 | 0.921 | |
| findmarkersParam | 0.724 | 0.016 | 0.742 | |
| getDeconvolutionExampleData | 0 | 0 | 0 | |
| getDeconvolutionExampleDataBisque | 0.383 | 0.000 | 0.384 | |
| getDeconvolutionExampleDataSCDC | 0.159 | 0.000 | 0.159 | |
| get_celltypes_from_sce | 0.001 | 0.000 | 0.000 | |
| get_csf_reference | 0 | 0 | 0 | |
| get_eset_from_matrix | 0 | 0 | 0 | |
| independentbulkParam-class | 0.001 | 0.000 | 0.001 | |
| independentbulkParam | 0.001 | 0.000 | 0.001 | |
| lute | 0.156 | 0.000 | 0.156 | |
| luteSupportedDeconvolutionAlgorithms | 0.007 | 0.000 | 0.008 | |
| new_workflow_table | 0.001 | 0.000 | 0.000 | |
| nnlsParam-class | 0.007 | 0.000 | 0.007 | |
| nnlsParam | 0.004 | 0.003 | 0.006 | |
| parseDeconvolutionPredictionsResults | 0.000 | 0.000 | 0.001 | |
| proportionsVectorsList | 0.000 | 0.000 | 0.001 | |
| randomMarkersVectorsList | 0.000 | 0.000 | 0.001 | |
| randomSingleCellExperiment | 0.078 | 0.000 | 0.079 | |
| referenceFromSingleCellExperiment | 0.001 | 0.000 | 0.000 | |
| referencebasedParam-class | 0.002 | 0.000 | 0.002 | |
| referencebasedParam | 0.002 | 0.000 | 0.002 | |
| rmse | 0.002 | 0.000 | 0.001 | |
| rmseTest | 0.001 | 0.000 | 0.000 | |
| sce_to_eset | 0.129 | 0.000 | 0.129 | |
| sce_to_se | 0.113 | 0.000 | 0.113 | |
| se_to_eset | 0.133 | 0.000 | 0.134 | |
| se_to_sce | 0.113 | 0.004 | 0.118 | |
| show-bisqueParam-method | 0.502 | 0.007 | 0.511 | |
| show-cellProportionsPredictions-method | 0 | 0 | 0 | |
| show-deconvolutionParam-method | 0.000 | 0.000 | 0.001 | |
| show-findmarkersParam-method | 0.708 | 0.000 | 0.709 | |
| show-independentbulkParam-method | 0.001 | 0.000 | 0.001 | |
| show-nnlsParam-method | 0.002 | 0.000 | 0.002 | |
| show-referencebasedParam-method | 0.001 | 0.000 | 0.002 | |
| show-typemarkersParam-method | 0 | 0 | 0 | |
| sub-sub-deconvolutionParam-ANY-ANY-method | 0 | 0 | 0 | |
| sub-sub-typemarkersParam-ANY-ANY-method | 0.001 | 0.000 | 0.000 | |
| typemarkers-findmarkersParam-method | 0.726 | 0.000 | 0.728 | |
| typemarkers-typemarkersParam-method | 0 | 0 | 0 | |
| typemarkers | 0.000 | 0.000 | 0.001 | |
| typemarkersParam-class | 0.000 | 0.000 | 0.001 | |
| typemarkersParam | 0.001 | 0.000 | 0.001 | |
| ypb_from_sce | 0.096 | 0.008 | 0.104 | |
| z_matrix_from_sce | 0.097 | 0.000 | 0.097 | |