| Back to Multiple platform build/check report for BioC 3.21: simplified long |
|
This page was generated on 2025-10-16 11:38 -0400 (Thu, 16 Oct 2025).
| Hostname | OS | Arch (*) | R version | Installed pkgs |
|---|---|---|---|---|
| nebbiolo1 | Linux (Ubuntu 24.04.3 LTS) | x86_64 | 4.5.1 (2025-06-13) -- "Great Square Root" | 4833 |
| merida1 | macOS 12.7.6 Monterey | x86_64 | 4.5.1 RC (2025-06-05 r88288) -- "Great Square Root" | 4614 |
| kjohnson1 | macOS 13.7.5 Ventura | arm64 | 4.5.1 Patched (2025-06-14 r88325) -- "Great Square Root" | 4555 |
| kunpeng2 | Linux (openEuler 24.03 LTS) | aarch64 | R Under development (unstable) (2025-02-19 r87757) -- "Unsuffered Consequences" | 4586 |
| Click on any hostname to see more info about the system (e.g. compilers) (*) as reported by 'uname -p', except on Windows and Mac OS X | ||||
| Package 914/2341 | Hostname | OS / Arch | INSTALL | BUILD | CHECK | BUILD BIN | ||||||||
| granulator 1.16.0 (landing page) Sabina Pfister
| nebbiolo1 | Linux (Ubuntu 24.04.3 LTS) / x86_64 | OK | OK | ERROR | |||||||||
| merida1 | macOS 12.7.6 Monterey / x86_64 | OK | OK | ERROR | OK | |||||||||
| kjohnson1 | macOS 13.7.5 Ventura / arm64 | OK | OK | ERROR | OK | |||||||||
| kunpeng2 | Linux (openEuler 24.03 LTS) / aarch64 | OK | OK | ERROR | ||||||||||
|
To the developers/maintainers of the granulator package: - Allow up to 24 hours (and sometimes 48 hours) for your latest push to git@git.bioconductor.org:packages/granulator.git to reflect on this report. See Troubleshooting Build Report for more information. - Use the following Renviron settings to reproduce errors and warnings. - If 'R CMD check' started to fail recently on the Linux builder(s) over a missing dependency, add the missing dependency to 'Suggests:' in your DESCRIPTION file. See Renviron.bioc for more information. |
| Package: granulator |
| Version: 1.16.0 |
| Command: /home/biocbuild/bbs-3.21-bioc/R/bin/R CMD check --install=check:granulator.install-out.txt --library=/home/biocbuild/bbs-3.21-bioc/R/site-library --timings granulator_1.16.0.tar.gz |
| StartedAt: 2025-10-15 23:51:18 -0400 (Wed, 15 Oct 2025) |
| EndedAt: 2025-10-16 00:03:49 -0400 (Thu, 16 Oct 2025) |
| EllapsedTime: 751.2 seconds |
| RetCode: 1 |
| Status: ERROR |
| CheckDir: granulator.Rcheck |
| Warnings: NA |
##############################################################################
##############################################################################
###
### Running command:
###
### /home/biocbuild/bbs-3.21-bioc/R/bin/R CMD check --install=check:granulator.install-out.txt --library=/home/biocbuild/bbs-3.21-bioc/R/site-library --timings granulator_1.16.0.tar.gz
###
##############################################################################
##############################################################################
* using log directory ‘/home/biocbuild/bbs-3.21-bioc/meat/granulator.Rcheck’
* using R version 4.5.1 (2025-06-13)
* using platform: x86_64-pc-linux-gnu
* R was compiled by
gcc (Ubuntu 13.3.0-6ubuntu2~24.04) 13.3.0
GNU Fortran (Ubuntu 13.3.0-6ubuntu2~24.04) 13.3.0
* running under: Ubuntu 24.04.3 LTS
* using session charset: UTF-8
* checking for file ‘granulator/DESCRIPTION’ ... OK
* checking extension type ... Package
* this is package ‘granulator’ version ‘1.16.0’
* package encoding: UTF-8
* checking package namespace information ... OK
* checking package dependencies ... OK
* checking if this is a source package ... OK
* checking if there is a namespace ... OK
* checking for hidden files and directories ... OK
* checking for portable file names ... OK
* checking for sufficient/correct file permissions ... OK
* checking whether package ‘granulator’ can be installed ... OK
* checking installed package size ... OK
* checking package directory ... OK
* checking ‘build’ directory ... OK
* checking DESCRIPTION meta-information ... OK
* checking top-level files ... OK
* checking for left-over files ... OK
* checking index information ... OK
* checking package subdirectories ... OK
* checking code files for non-ASCII characters ... OK
* checking R files for syntax errors ... OK
* checking whether the package can be loaded ... OK
* checking whether the package can be loaded with stated dependencies ... OK
* checking whether the package can be unloaded cleanly ... OK
* checking whether the namespace can be loaded with stated dependencies ... OK
* checking whether the namespace can be unloaded cleanly ... OK
* checking loading without being on the library search path ... OK
* checking dependencies in R code ... OK
* checking S3 generic/method consistency ... OK
* checking replacement functions ... OK
* checking foreign function calls ... OK
* checking R code for possible problems ... OK
* checking Rd files ... OK
* checking Rd metadata ... OK
* checking Rd cross-references ... OK
* checking for missing documentation entries ... OK
* checking for code/documentation mismatches ... OK
* checking Rd \usage sections ... OK
* checking Rd contents ... OK
* checking for unstated dependencies in examples ... OK
* checking contents of ‘data’ directory ... OK
* checking data for non-ASCII characters ... OK
* checking data for ASCII and uncompressed saves ... OK
* checking files in ‘vignettes’ ... OK
* checking examples ... OK
Examples with CPU (user + system) or elapsed time > 5s
user system elapsed
deconvolute 73.231 0.070 73.309
plot_deconvolute 60.614 0.130 63.999
plot_proportions 50.549 0.164 52.303
plot_regress 50.122 0.315 52.540
plot_benchmark 49.242 0.148 52.176
plot_correlate 44.928 0.051 45.793
correlate 41.660 0.092 41.757
benchmark 41.614 0.111 41.727
plot_similarity 5.564 0.068 7.083
* checking for unstated dependencies in ‘tests’ ... OK
* checking tests ...
Running ‘testthat.R’
ERROR
Running the tests in ‘tests/testthat.R’ failed.
Last 13 lines of output:
y[1]: "gg"
── Failure ('test-deconvolution.R:32:9'): Deconvolution methods ────────────────
class(plot_benchmark(bench))[1] not equal to "gg".
1/1 mismatches
x[1]: "ggplot2::ggplot"
y[1]: "gg"
── Failure ('test-deconvolution.R:40:9'): Deconvolution methods ────────────────
class(plot_correlate(correl))[1] not equal to "gg".
1/1 mismatches
x[1]: "ggplot2::ggplot"
y[1]: "gg"
[ FAIL 40 | WARN 23 | SKIP 0 | PASS 97 ]
Error: Test failures
Execution halted
* checking for unstated dependencies in vignettes ... OK
* checking package vignettes ... OK
* checking re-building of vignette outputs ... OK
* checking PDF version of manual ... OK
* DONE
Status: 1 ERROR
See
‘/home/biocbuild/bbs-3.21-bioc/meat/granulator.Rcheck/00check.log’
for details.
granulator.Rcheck/00install.out
############################################################################## ############################################################################## ### ### Running command: ### ### /home/biocbuild/bbs-3.21-bioc/R/bin/R CMD INSTALL granulator ### ############################################################################## ############################################################################## * installing to library ‘/home/biocbuild/bbs-3.21-bioc/R/site-library’ * installing *source* package ‘granulator’ ... ** this is package ‘granulator’ version ‘1.16.0’ ** using staged installation ** R ** data ** byte-compile and prepare package for lazy loading ** help *** installing help indices ** building package indices ** installing vignettes ** testing if installed package can be loaded from temporary location ** testing if installed package can be loaded from final location ** testing if installed package keeps a record of temporary installation path * DONE (granulator)
granulator.Rcheck/tests/testthat.Rout.fail
R version 4.5.1 (2025-06-13) -- "Great Square Root"
Copyright (C) 2025 The R Foundation for Statistical Computing
Platform: x86_64-pc-linux-gnu
R is free software and comes with ABSOLUTELY NO WARRANTY.
You are welcome to redistribute it under certain conditions.
Type 'license()' or 'licence()' for distribution details.
R is a collaborative project with many contributors.
Type 'contributors()' for more information and
'citation()' on how to cite R or R packages in publications.
Type 'demo()' for some demos, 'help()' for on-line help, or
'help.start()' for an HTML browser interface to help.
Type 'q()' to quit R.
> library("testthat")
> library("granulator")
>
> test_check("granulator")
[ FAIL 40 | WARN 23 | SKIP 0 | PASS 97 ]
══ Failed tests ════════════════════════════════════════════════════════════════
── Failure ('test-data.R:10:5'): Load data ─────────────────────────────────────
class(plot_similarity(sigMatrix_ABIS_S0))[1] not equal to "gg".
1/1 mismatches
x[1]: "ggplot2::ggplot"
y[1]: "gg"
── Failure ('test-data.R:14:5'): Load data ─────────────────────────────────────
class(plot_similarity(sigMatrix_ABIS_S1))[1] not equal to "gg".
1/1 mismatches
x[1]: "ggplot2::ggplot"
y[1]: "gg"
── Failure ('test-data.R:18:5'): Load data ─────────────────────────────────────
class(plot_similarity(sigMatrix_ABIS_S2))[1] not equal to "gg".
1/1 mismatches
x[1]: "ggplot2::ggplot"
y[1]: "gg"
── Failure ('test-data.R:22:5'): Load data ─────────────────────────────────────
class(plot_similarity(sigMatrix_ABIS_S3))[1] not equal to "gg".
1/1 mismatches
x[1]: "ggplot2::ggplot"
y[1]: "gg"
── Failure ('test-data.R:30:5'): Load data ─────────────────────────────────────
class(plot_similarity(sigList))[1] not equal to "gg".
1/1 mismatches
x[1]: "ggplot2::ggplot"
y[1]: "gg"
── Failure ('test-deconvolution.R:21:9'): Deconvolution methods ────────────────
class(plot_proportions(decon, method = m, signature = "sig1"))[1] not equal to "gg".
1/1 mismatches
x[1]: "ggplot2::ggplot"
y[1]: "gg"
── Failure ('test-deconvolution.R:22:9'): Deconvolution methods ────────────────
class(plot_deconvolute(decon))[1] not equal to "gg".
1/1 mismatches
x[1]: "ggplot2::ggplot"
y[1]: "gg"
── Failure ('test-deconvolution.R:31:9'): Deconvolution methods ────────────────
class(plot_regress(bench, method = m, signature = "sig1"))[1] not equal to "gg".
1/1 mismatches
x[1]: "ggplot2::ggplot"
y[1]: "gg"
── Failure ('test-deconvolution.R:32:9'): Deconvolution methods ────────────────
class(plot_benchmark(bench))[1] not equal to "gg".
1/1 mismatches
x[1]: "ggplot2::ggplot"
y[1]: "gg"
── Failure ('test-deconvolution.R:40:9'): Deconvolution methods ────────────────
class(plot_correlate(correl))[1] not equal to "gg".
1/1 mismatches
x[1]: "ggplot2::ggplot"
y[1]: "gg"
── Failure ('test-deconvolution.R:21:9'): Deconvolution methods ────────────────
class(plot_proportions(decon, method = m, signature = "sig1"))[1] not equal to "gg".
1/1 mismatches
x[1]: "ggplot2::ggplot"
y[1]: "gg"
── Failure ('test-deconvolution.R:22:9'): Deconvolution methods ────────────────
class(plot_deconvolute(decon))[1] not equal to "gg".
1/1 mismatches
x[1]: "ggplot2::ggplot"
y[1]: "gg"
── Failure ('test-deconvolution.R:31:9'): Deconvolution methods ────────────────
class(plot_regress(bench, method = m, signature = "sig1"))[1] not equal to "gg".
1/1 mismatches
x[1]: "ggplot2::ggplot"
y[1]: "gg"
── Failure ('test-deconvolution.R:32:9'): Deconvolution methods ────────────────
class(plot_benchmark(bench))[1] not equal to "gg".
1/1 mismatches
x[1]: "ggplot2::ggplot"
y[1]: "gg"
── Failure ('test-deconvolution.R:40:9'): Deconvolution methods ────────────────
class(plot_correlate(correl))[1] not equal to "gg".
1/1 mismatches
x[1]: "ggplot2::ggplot"
y[1]: "gg"
── Failure ('test-deconvolution.R:21:9'): Deconvolution methods ────────────────
class(plot_proportions(decon, method = m, signature = "sig1"))[1] not equal to "gg".
1/1 mismatches
x[1]: "ggplot2::ggplot"
y[1]: "gg"
── Failure ('test-deconvolution.R:22:9'): Deconvolution methods ────────────────
class(plot_deconvolute(decon))[1] not equal to "gg".
1/1 mismatches
x[1]: "ggplot2::ggplot"
y[1]: "gg"
── Failure ('test-deconvolution.R:31:9'): Deconvolution methods ────────────────
class(plot_regress(bench, method = m, signature = "sig1"))[1] not equal to "gg".
1/1 mismatches
x[1]: "ggplot2::ggplot"
y[1]: "gg"
── Failure ('test-deconvolution.R:32:9'): Deconvolution methods ────────────────
class(plot_benchmark(bench))[1] not equal to "gg".
1/1 mismatches
x[1]: "ggplot2::ggplot"
y[1]: "gg"
── Failure ('test-deconvolution.R:40:9'): Deconvolution methods ────────────────
class(plot_correlate(correl))[1] not equal to "gg".
1/1 mismatches
x[1]: "ggplot2::ggplot"
y[1]: "gg"
── Failure ('test-deconvolution.R:21:9'): Deconvolution methods ────────────────
class(plot_proportions(decon, method = m, signature = "sig1"))[1] not equal to "gg".
1/1 mismatches
x[1]: "ggplot2::ggplot"
y[1]: "gg"
── Failure ('test-deconvolution.R:22:9'): Deconvolution methods ────────────────
class(plot_deconvolute(decon))[1] not equal to "gg".
1/1 mismatches
x[1]: "ggplot2::ggplot"
y[1]: "gg"
── Failure ('test-deconvolution.R:31:9'): Deconvolution methods ────────────────
class(plot_regress(bench, method = m, signature = "sig1"))[1] not equal to "gg".
1/1 mismatches
x[1]: "ggplot2::ggplot"
y[1]: "gg"
── Failure ('test-deconvolution.R:32:9'): Deconvolution methods ────────────────
class(plot_benchmark(bench))[1] not equal to "gg".
1/1 mismatches
x[1]: "ggplot2::ggplot"
y[1]: "gg"
── Failure ('test-deconvolution.R:40:9'): Deconvolution methods ────────────────
class(plot_correlate(correl))[1] not equal to "gg".
1/1 mismatches
x[1]: "ggplot2::ggplot"
y[1]: "gg"
── Failure ('test-deconvolution.R:21:9'): Deconvolution methods ────────────────
class(plot_proportions(decon, method = m, signature = "sig1"))[1] not equal to "gg".
1/1 mismatches
x[1]: "ggplot2::ggplot"
y[1]: "gg"
── Failure ('test-deconvolution.R:22:9'): Deconvolution methods ────────────────
class(plot_deconvolute(decon))[1] not equal to "gg".
1/1 mismatches
x[1]: "ggplot2::ggplot"
y[1]: "gg"
── Failure ('test-deconvolution.R:31:9'): Deconvolution methods ────────────────
class(plot_regress(bench, method = m, signature = "sig1"))[1] not equal to "gg".
1/1 mismatches
x[1]: "ggplot2::ggplot"
y[1]: "gg"
── Failure ('test-deconvolution.R:32:9'): Deconvolution methods ────────────────
class(plot_benchmark(bench))[1] not equal to "gg".
1/1 mismatches
x[1]: "ggplot2::ggplot"
y[1]: "gg"
── Failure ('test-deconvolution.R:40:9'): Deconvolution methods ────────────────
class(plot_correlate(correl))[1] not equal to "gg".
1/1 mismatches
x[1]: "ggplot2::ggplot"
y[1]: "gg"
── Failure ('test-deconvolution.R:21:9'): Deconvolution methods ────────────────
class(plot_proportions(decon, method = m, signature = "sig1"))[1] not equal to "gg".
1/1 mismatches
x[1]: "ggplot2::ggplot"
y[1]: "gg"
── Failure ('test-deconvolution.R:22:9'): Deconvolution methods ────────────────
class(plot_deconvolute(decon))[1] not equal to "gg".
1/1 mismatches
x[1]: "ggplot2::ggplot"
y[1]: "gg"
── Failure ('test-deconvolution.R:31:9'): Deconvolution methods ────────────────
class(plot_regress(bench, method = m, signature = "sig1"))[1] not equal to "gg".
1/1 mismatches
x[1]: "ggplot2::ggplot"
y[1]: "gg"
── Failure ('test-deconvolution.R:32:9'): Deconvolution methods ────────────────
class(plot_benchmark(bench))[1] not equal to "gg".
1/1 mismatches
x[1]: "ggplot2::ggplot"
y[1]: "gg"
── Failure ('test-deconvolution.R:40:9'): Deconvolution methods ────────────────
class(plot_correlate(correl))[1] not equal to "gg".
1/1 mismatches
x[1]: "ggplot2::ggplot"
y[1]: "gg"
── Failure ('test-deconvolution.R:21:9'): Deconvolution methods ────────────────
class(plot_proportions(decon, method = m, signature = "sig1"))[1] not equal to "gg".
1/1 mismatches
x[1]: "ggplot2::ggplot"
y[1]: "gg"
── Failure ('test-deconvolution.R:22:9'): Deconvolution methods ────────────────
class(plot_deconvolute(decon))[1] not equal to "gg".
1/1 mismatches
x[1]: "ggplot2::ggplot"
y[1]: "gg"
── Failure ('test-deconvolution.R:31:9'): Deconvolution methods ────────────────
class(plot_regress(bench, method = m, signature = "sig1"))[1] not equal to "gg".
1/1 mismatches
x[1]: "ggplot2::ggplot"
y[1]: "gg"
── Failure ('test-deconvolution.R:32:9'): Deconvolution methods ────────────────
class(plot_benchmark(bench))[1] not equal to "gg".
1/1 mismatches
x[1]: "ggplot2::ggplot"
y[1]: "gg"
── Failure ('test-deconvolution.R:40:9'): Deconvolution methods ────────────────
class(plot_correlate(correl))[1] not equal to "gg".
1/1 mismatches
x[1]: "ggplot2::ggplot"
y[1]: "gg"
[ FAIL 40 | WARN 23 | SKIP 0 | PASS 97 ]
Error: Test failures
Execution halted
granulator.Rcheck/granulator-Ex.timings
| name | user | system | elapsed | |
| benchmark | 41.614 | 0.111 | 41.727 | |
| correlate | 41.660 | 0.092 | 41.757 | |
| deconvolute | 73.231 | 0.070 | 73.309 | |
| get_TPM | 0.000 | 0.001 | 0.001 | |
| get_decon_methods | 0.001 | 0.000 | 0.000 | |
| load_ABIS | 0.011 | 0.002 | 0.013 | |
| plot_benchmark | 49.242 | 0.148 | 52.176 | |
| plot_correlate | 44.928 | 0.051 | 45.793 | |
| plot_deconvolute | 60.614 | 0.130 | 63.999 | |
| plot_proportions | 50.549 | 0.164 | 52.303 | |
| plot_regress | 50.122 | 0.315 | 52.540 | |
| plot_similarity | 5.564 | 0.068 | 7.083 | |