| Back to Multiple platform build/check report for BioC 3.22: simplified long |
|
This page was generated on 2025-04-09 11:56 -0400 (Wed, 09 Apr 2025).
| Hostname | OS | Arch (*) | R version | Installed pkgs |
|---|---|---|---|---|
| nebbiolo2 | Linux (Ubuntu 24.04.1 LTS) | x86_64 | 4.5.0 beta (2025-04-02 r88102) -- "How About a Twenty-Six" | 4737 |
| palomino8 | Windows Server 2022 Datacenter | x64 | 4.5.0 RC (2025-04-03 r88103 ucrt) -- "How About a Twenty-Six" | 4524 |
| Click on any hostname to see more info about the system (e.g. compilers) (*) as reported by 'uname -p', except on Windows and Mac OS X | ||||
| Package 881/2335 | Hostname | OS / Arch | INSTALL | BUILD | CHECK | BUILD BIN | ||||||||
J. Toedling
| nebbiolo2 | Linux (Ubuntu 24.04.1 LTS) / x86_64 | OK | OK | OK | |||||||||
| palomino8 | Windows Server 2022 Datacenter / x64 | OK | OK | OK | NA | |||||||||
|
To the developers/maintainers of the girafe package: - Allow up to 24 hours (and sometimes 48 hours) for your latest push to git@git.bioconductor.org:packages/girafe.git to reflect on this report. See Troubleshooting Build Report for more information. - Use the following Renviron settings to reproduce errors and warnings. - If 'R CMD check' started to fail recently on the Linux builder(s) over a missing dependency, add the missing dependency to 'Suggests:' in your DESCRIPTION file. See Renviron.bioc for more information. |
| Package: girafe |
| Version: 1.59.1 |
| Command: F:\biocbuild\bbs-3.22-bioc\R\bin\R.exe CMD check --no-multiarch --install=check:girafe.install-out.txt --library=F:\biocbuild\bbs-3.22-bioc\R\library --no-vignettes --timings girafe_1.59.1.tar.gz |
| StartedAt: 2025-04-09 02:47:22 -0400 (Wed, 09 Apr 2025) |
| EndedAt: 2025-04-09 02:52:48 -0400 (Wed, 09 Apr 2025) |
| EllapsedTime: 325.5 seconds |
| RetCode: 0 |
| Status: OK |
| CheckDir: girafe.Rcheck |
| Warnings: 0 |
##############################################################################
##############################################################################
###
### Running command:
###
### F:\biocbuild\bbs-3.22-bioc\R\bin\R.exe CMD check --no-multiarch --install=check:girafe.install-out.txt --library=F:\biocbuild\bbs-3.22-bioc\R\library --no-vignettes --timings girafe_1.59.1.tar.gz
###
##############################################################################
##############################################################################
* using log directory 'F:/biocbuild/bbs-3.22-bioc/meat/girafe.Rcheck'
* using R version 4.5.0 RC (2025-04-03 r88103 ucrt)
* using platform: x86_64-w64-mingw32
* R was compiled by
gcc.exe (GCC) 14.2.0
GNU Fortran (GCC) 14.2.0
* running under: Windows Server 2022 x64 (build 20348)
* using session charset: UTF-8
* using option '--no-vignettes'
* checking for file 'girafe/DESCRIPTION' ... OK
* checking extension type ... Package
* this is package 'girafe' version '1.59.1'
* checking package namespace information ... OK
* checking package dependencies ... INFO
Depends: includes the non-default packages:
'BiocGenerics', 'S4Vectors', 'Rsamtools', 'intervals', 'ShortRead',
'genomeIntervals', 'grid'
Adding so many packages to the search path is excessive and importing
selectively is preferable.
* checking if this is a source package ... OK
* checking if there is a namespace ... OK
* checking for hidden files and directories ... OK
* checking for portable file names ... OK
* checking whether package 'girafe' can be installed ... OK
* used C compiler: 'gcc.exe (GCC) 14.2.0'
* used C++ compiler: 'G__~1.EXE (GCC) 14.2.0'
* checking installed package size ... OK
* checking package directory ... OK
* checking 'build' directory ... OK
* checking DESCRIPTION meta-information ... NOTE
Packages listed in more than one of Depends, Imports, Suggests, Enhances:
'methods' 'genomeIntervals'
A package should be listed in only one of these fields.
* checking top-level files ... OK
* checking for left-over files ... OK
* checking index information ... OK
* checking package subdirectories ... OK
* checking code files for non-ASCII characters ... OK
* checking R files for syntax errors ... OK
* checking whether the package can be loaded ... OK
* checking whether the package can be loaded with stated dependencies ... OK
* checking whether the package can be unloaded cleanly ... OK
* checking whether the namespace can be loaded with stated dependencies ... OK
* checking whether the namespace can be unloaded cleanly ... OK
* checking whether startup messages can be suppressed ... NOTE
No methods found in package 'IRanges' for requests: 'score', 'score<-', 'sort' when loading 'girafe'
It looks like this package (or a package it requires) has a startup
message which cannot be suppressed: see ?packageStartupMessage.
* checking dependencies in R code ... NOTE
'library' or 'require' call to 'MASS' in package code.
Please use :: or requireNamespace() instead.
See section 'Suggested packages' in the 'Writing R Extensions' manual.
Package in Depends field not imported from: 'Rsamtools'
These packages need to be imported from (in the NAMESPACE file)
for when this namespace is loaded but not attached.
Unexported object imported by a ':::' call: 'genomeIntervals:::intervalsForOverlap'
See the note in ?`:::` about the use of this operator.
* checking S3 generic/method consistency ... OK
* checking replacement functions ... OK
* checking foreign function calls ... OK
* checking R code for possible problems ... NOTE
agiFromBam: no visible binding for global variable 'mclapply'
agiFromBam: no visible global function definition for 'scanBamHeader'
agiFromBam: no visible global function definition for 'ScanBamParam'
agiFromBam : <anonymous>: no visible global function definition for
'scanBamFlag'
agiFromBam : <anonymous>: no visible global function definition for
'scanBam'
countReadsAnnotated: no visible binding for global variable 'mclapply'
countReadsAnnotated: no visible binding for global variable 'fraction1'
fracOverlap: no visible binding for global variable 'fraction1'
fracOverlap: no visible binding for global variable 'fraction2'
getFeatureCounts: no visible binding for global variable 'fraction1'
getFeatureCounts: no visible binding for global variable 'Index1'
intPhred: no visible binding for global variable 'mclapply'
oldAGIoverlap: no visible binding for global variable 'mclapply'
plotReads: no visible binding for global variable 'x.start'
plotReads: no visible binding for global variable 'x.end'
plotReads: no visible binding for global variable 'y'
reduceOne: no visible binding for global variable 'fraction1'
reduceOne: no visible binding for global variable 'fraction2'
windowCountAndGC: no visible binding for global variable 'n.reads'
windowCountAndGC: no visible global function definition for 'unmasked'
clusters,AlignedGenomeIntervals: no visible binding for global variable
'mclapply'
clusters,Genome_intervals: no visible binding for global variable
'mclapply'
coverage,AlignedGenomeIntervals: no visible binding for global variable
'mclapply'
coverage,AlignedGenomeIntervals : <anonymous>: no visible binding for
global variable 'on.minus'
interval_included,AlignedGenomeIntervals-AlignedGenomeIntervals: no
visible binding for global variable 'mclapply'
reduce,AlignedGenomeIntervals: no visible binding for global variable
'mclapply'
reduce,Genome_intervals: no visible binding for global variable
'mclapply'
reduce,Genome_intervals: no visible binding for global variable
'fraction1'
reduce,Genome_intervals: no visible binding for global variable
'fraction2'
Undefined global functions or variables:
Index1 ScanBamParam fraction1 fraction2 mclapply n.reads on.minus
scanBam scanBamFlag scanBamHeader unmasked x.end x.start y
* checking Rd files ... OK
* checking Rd metadata ... OK
* checking Rd cross-references ... OK
* checking for missing documentation entries ... OK
* checking for code/documentation mismatches ... OK
* checking Rd \usage sections ... OK
* checking Rd contents ... OK
* checking for unstated dependencies in examples ... OK
* checking line endings in C/C++/Fortran sources/headers ... OK
* checking line endings in Makefiles ... OK
* checking for GNU extensions in Makefiles ... OK
* checking include directives in Makefiles ... OK
* checking compiled code ... NOTE
Note: information on .o files for x64 is not available
File 'F:/biocbuild/bbs-3.22-bioc/R/library/girafe/libs/x64/girafe.dll':
Found '_exit', possibly from '_exit' (C)
Found 'abort', possibly from 'abort' (C), 'runtime' (Fortran)
Compiled code should not call entry points which might terminate R nor
write to stdout/stderr instead of to the console, nor use Fortran I/O
nor system RNGs nor [v]sprintf. The detected symbols are linked into
the code but might come from libraries and not actually be called.
See 'Writing portable packages' in the 'Writing R Extensions' manual.
* checking sizes of PDF files under 'inst/doc' ... OK
* checking files in 'vignettes' ... OK
* checking examples ... OK
Examples with CPU (user + system) or elapsed time > 5s
user system elapsed
AlignedGenomeIntervals-class 12.88 0.87 13.84
perWindow 9.89 0.17 10.06
negbinomsig 8.47 0.19 8.72
* checking for unstated dependencies in vignettes ... OK
* checking package vignettes ... OK
* checking running R code from vignettes ... SKIPPED
* checking re-building of vignette outputs ... SKIPPED
* checking PDF version of manual ... OK
* DONE
Status: 5 NOTEs
See
'F:/biocbuild/bbs-3.22-bioc/meat/girafe.Rcheck/00check.log'
for details.
girafe.Rcheck/00install.out
############################################################################## ############################################################################## ### ### Running command: ### ### F:\biocbuild\bbs-3.22-bioc\R\bin\R.exe CMD INSTALL girafe ### ############################################################################## ############################################################################## * installing to library 'F:/biocbuild/bbs-3.22-bioc/R/library' * installing *source* package 'girafe' ... ** this is package 'girafe' version '1.59.1' ** using staged installation ** libs using C compiler: 'gcc.exe (GCC) 14.2.0' using C++ compiler: 'G__~1.EXE (GCC) 14.2.0' g++ -std=gnu++17 -I"F:/biocbuild/bbs-3.22-bioc/R/include" -DNDEBUG -I"C:/rtools45/x86_64-w64-mingw32.static.posix/include" -O2 -Wall -mfpmath=sse -msse2 -mstackrealign -c coverage.cpp -o coverage.o gcc -I"F:/biocbuild/bbs-3.22-bioc/R/include" -DNDEBUG -I"C:/rtools45/x86_64-w64-mingw32.static.posix/include" -O2 -Wall -std=gnu2x -mfpmath=sse -msse2 -mstackrealign -c girafe_init.c -o girafe_init.o g++ -std=gnu++17 -shared -s -static-libgcc -o girafe.dll tmp.def coverage.o girafe_init.o -LC:/rtools45/x86_64-w64-mingw32.static.posix/lib/x64 -LC:/rtools45/x86_64-w64-mingw32.static.posix/lib -LF:/biocbuild/bbs-3.22-bioc/R/bin/x64 -lR installing to F:/biocbuild/bbs-3.22-bioc/R/library/00LOCK-girafe/00new/girafe/libs/x64 ** R ** inst ** byte-compile and prepare package for lazy loading No methods found in package 'IRanges' for requests: 'score', 'score<-', 'sort' when loading 'girafe' Creating a generic function for 'sample' from package 'base' in package 'girafe' ** help *** installing help indices ** building package indices ** installing vignettes ** testing if installed package can be loaded from temporary location No methods found in package 'IRanges' for requests: 'score', 'score<-', 'sort' when loading 'girafe' Warning in fun(libname, pkgname) : Package 'girafe' is deprecated and will be removed from Bioconductor version 3.22 ** testing if installed package can be loaded from final location No methods found in package 'IRanges' for requests: 'score', 'score<-', 'sort' when loading 'girafe' Warning in fun(libname, pkgname) : Package 'girafe' is deprecated and will be removed from Bioconductor version 3.22 ** testing if installed package keeps a record of temporary installation path * DONE (girafe)
girafe.Rcheck/girafe-Ex.timings
| name | user | system | elapsed | |
| AlignedGenomeIntervals-class | 12.88 | 0.87 | 13.84 | |
| agiFromBam | 0.34 | 0.02 | 0.36 | |
| countReadsAnnotated | 0.07 | 0.00 | 0.08 | |
| fracOverlap | 0.11 | 0.00 | 0.23 | |
| intPhred | 0.03 | 0.01 | 0.65 | |
| medianByPosition | 0.33 | 0.00 | 0.32 | |
| negbinomsig | 8.47 | 0.19 | 8.72 | |
| perWindow | 9.89 | 0.17 | 10.06 | |
| plotAligned | 0.02 | 0.00 | 0.02 | |
| trimAdapter | 0.04 | 0.02 | 0.06 | |
| weightedConsensusMatrix | 0 | 0 | 0 | |
| whichNearestMethods | 0.28 | 0.00 | 0.30 | |