| Back to Multiple platform build/check report for BioC 3.21: simplified long |
|
This page was generated on 2025-10-16 11:38 -0400 (Thu, 16 Oct 2025).
| Hostname | OS | Arch (*) | R version | Installed pkgs |
|---|---|---|---|---|
| nebbiolo1 | Linux (Ubuntu 24.04.3 LTS) | x86_64 | 4.5.1 (2025-06-13) -- "Great Square Root" | 4833 |
| merida1 | macOS 12.7.6 Monterey | x86_64 | 4.5.1 RC (2025-06-05 r88288) -- "Great Square Root" | 4614 |
| kjohnson1 | macOS 13.7.5 Ventura | arm64 | 4.5.1 Patched (2025-06-14 r88325) -- "Great Square Root" | 4555 |
| kunpeng2 | Linux (openEuler 24.03 LTS) | aarch64 | R Under development (unstable) (2025-02-19 r87757) -- "Unsuffered Consequences" | 4586 |
| Click on any hostname to see more info about the system (e.g. compilers) (*) as reported by 'uname -p', except on Windows and Mac OS X | ||||
| Package 806/2341 | Hostname | OS / Arch | INSTALL | BUILD | CHECK | BUILD BIN | ||||||||
| geneClassifiers 1.32.0 (landing page) R Kuiper
| nebbiolo1 | Linux (Ubuntu 24.04.3 LTS) / x86_64 | OK | OK | OK | |||||||||
| merida1 | macOS 12.7.6 Monterey / x86_64 | OK | OK | OK | OK | |||||||||
| kjohnson1 | macOS 13.7.5 Ventura / arm64 | OK | OK | OK | OK | |||||||||
| kunpeng2 | Linux (openEuler 24.03 LTS) / aarch64 | OK | OK | OK | ||||||||||
|
To the developers/maintainers of the geneClassifiers package: - Allow up to 24 hours (and sometimes 48 hours) for your latest push to git@git.bioconductor.org:packages/geneClassifiers.git to reflect on this report. See Troubleshooting Build Report for more information. - Use the following Renviron settings to reproduce errors and warnings. - If 'R CMD check' started to fail recently on the Linux builder(s) over a missing dependency, add the missing dependency to 'Suggests:' in your DESCRIPTION file. See Renviron.bioc for more information. |
| Package: geneClassifiers |
| Version: 1.32.0 |
| Command: /home/biocbuild/bbs-3.21-bioc/R/bin/R CMD check --install=check:geneClassifiers.install-out.txt --library=/home/biocbuild/bbs-3.21-bioc/R/site-library --timings geneClassifiers_1.32.0.tar.gz |
| StartedAt: 2025-10-15 23:28:40 -0400 (Wed, 15 Oct 2025) |
| EndedAt: 2025-10-15 23:29:17 -0400 (Wed, 15 Oct 2025) |
| EllapsedTime: 37.1 seconds |
| RetCode: 0 |
| Status: OK |
| CheckDir: geneClassifiers.Rcheck |
| Warnings: 0 |
##############################################################################
##############################################################################
###
### Running command:
###
### /home/biocbuild/bbs-3.21-bioc/R/bin/R CMD check --install=check:geneClassifiers.install-out.txt --library=/home/biocbuild/bbs-3.21-bioc/R/site-library --timings geneClassifiers_1.32.0.tar.gz
###
##############################################################################
##############################################################################
* using log directory ‘/home/biocbuild/bbs-3.21-bioc/meat/geneClassifiers.Rcheck’
* using R version 4.5.1 (2025-06-13)
* using platform: x86_64-pc-linux-gnu
* R was compiled by
gcc (Ubuntu 13.3.0-6ubuntu2~24.04) 13.3.0
GNU Fortran (Ubuntu 13.3.0-6ubuntu2~24.04) 13.3.0
* running under: Ubuntu 24.04.3 LTS
* using session charset: UTF-8
* checking for file ‘geneClassifiers/DESCRIPTION’ ... OK
* checking extension type ... Package
* this is package ‘geneClassifiers’ version ‘1.32.0’
* package encoding: UTF-8
* checking package namespace information ... OK
* checking package dependencies ... OK
* checking if this is a source package ... OK
* checking if there is a namespace ... OK
* checking for hidden files and directories ... OK
* checking for portable file names ... OK
* checking for sufficient/correct file permissions ... OK
* checking whether package ‘geneClassifiers’ can be installed ... OK
* checking installed package size ... OK
* checking package directory ... OK
* checking ‘build’ directory ... OK
* checking DESCRIPTION meta-information ... OK
* checking top-level files ... OK
* checking for left-over files ... OK
* checking index information ... OK
* checking package subdirectories ... OK
* checking code files for non-ASCII characters ... OK
* checking R files for syntax errors ... OK
* checking whether the package can be loaded ... OK
* checking whether the package can be loaded with stated dependencies ... OK
* checking whether the package can be unloaded cleanly ... OK
* checking whether the namespace can be loaded with stated dependencies ... OK
* checking whether the namespace can be unloaded cleanly ... OK
* checking loading without being on the library search path ... OK
* checking dependencies in R code ... OK
* checking S3 generic/method consistency ... OK
* checking replacement functions ... OK
* checking foreign function calls ... OK
* checking R code for possible problems ... OK
* checking Rd files ... OK
* checking Rd metadata ... OK
* checking Rd cross-references ... NOTE
Found the following Rd file(s) with Rd \link{} targets missing package
anchors:
exampleMAS5.Rd: ExpressionSet
getTrainingData-methods.Rd: ExpressionSet
setNormalizationMethod-methods.Rd: ExpressionSet
Please provide package anchors for all Rd \link{} targets not in the
package itself and the base packages.
* checking for missing documentation entries ... OK
* checking for code/documentation mismatches ... OK
* checking Rd \usage sections ... OK
* checking Rd contents ... OK
* checking for unstated dependencies in examples ... OK
* checking contents of ‘data’ directory ... OK
* checking data for non-ASCII characters ... OK
* checking LazyData ... OK
* checking data for ASCII and uncompressed saves ... OK
* checking R/sysdata.rda ... OK
* checking files in ‘vignettes’ ... OK
* checking examples ... OK
* checking for unstated dependencies in ‘tests’ ... OK
* checking tests ...
Running ‘testthat.R’
OK
* checking for unstated dependencies in vignettes ... OK
* checking package vignettes ... OK
* checking re-building of vignette outputs ... OK
* checking PDF version of manual ... OK
* DONE
Status: 1 NOTE
See
‘/home/biocbuild/bbs-3.21-bioc/meat/geneClassifiers.Rcheck/00check.log’
for details.
geneClassifiers.Rcheck/00install.out
############################################################################## ############################################################################## ### ### Running command: ### ### /home/biocbuild/bbs-3.21-bioc/R/bin/R CMD INSTALL geneClassifiers ### ############################################################################## ############################################################################## * installing to library ‘/home/biocbuild/bbs-3.21-bioc/R/site-library’ * installing *source* package ‘geneClassifiers’ ... ** this is package ‘geneClassifiers’ version ‘1.32.0’ ** using staged installation ** R ** data *** moving datasets to lazyload DB ** byte-compile and prepare package for lazy loading ** help *** installing help indices ** building package indices ** installing vignettes ** testing if installed package can be loaded from temporary location ** testing if installed package can be loaded from final location ** testing if installed package keeps a record of temporary installation path * DONE (geneClassifiers)
geneClassifiers.Rcheck/tests/testthat.Rout
R version 4.5.1 (2025-06-13) -- "Great Square Root"
Copyright (C) 2025 The R Foundation for Statistical Computing
Platform: x86_64-pc-linux-gnu
R is free software and comes with ABSOLUTELY NO WARRANTY.
You are welcome to redistribute it under certain conditions.
Type 'license()' or 'licence()' for distribution details.
R is a collaborative project with many contributors.
Type 'contributors()' for more information and
'citation()' on how to cite R or R packages in publications.
Type 'demo()' for some demos, 'help()' for on-line help, or
'help.start()' for an HTML browser interface to help.
Type 'q()' to quit R.
> library(testthat)
> library(geneClassifiers)
>
> test_check("geneClassifiers")
[ FAIL 0 | WARN 0 | SKIP 0 | PASS 191 ]
>
> proc.time()
user system elapsed
2.926 0.178 3.094
geneClassifiers.Rcheck/geneClassifiers-Ex.timings
| name | user | system | elapsed | |
| bracket-methods | 0.103 | 0.001 | 0.106 | |
| dim-methods | 0.009 | 0.003 | 0.012 | |
| getBatchCorrection-methods | 0.228 | 0.010 | 0.238 | |
| getCitations-methods | 0.001 | 0.000 | 0.002 | |
| getClassifications-methods | 0.019 | 0.000 | 0.018 | |
| getClassifier-methods | 0.001 | 0.000 | 0.002 | |
| getDecisionBoundaries-methods | 0.002 | 0.000 | 0.001 | |
| getDescription-methods | 0.002 | 0.000 | 0.001 | |
| getEventChain-methods | 0.002 | 0.000 | 0.001 | |
| getIntercept-methods | 0.001 | 0.000 | 0.001 | |
| getMeans-methods | 0.002 | 0.000 | 0.002 | |
| getName-methods | 0.002 | 0.001 | 0.001 | |
| getNormalizationMethod-methods | 0.033 | 0.001 | 0.033 | |
| getProbeNames-methods | 0.002 | 0.001 | 0.003 | |
| getScores-methods | 0.017 | 0.001 | 0.019 | |
| getSds-methods | 0.001 | 0.001 | 0.003 | |
| getTargetValue-methods | 0.008 | 0.001 | 0.009 | |
| getTrainingData-methods | 0.029 | 0.000 | 0.031 | |
| getWeightingType-methods | 0.015 | 0.000 | 0.016 | |
| getWeights-methods | 0.001 | 0.002 | 0.003 | |
| runClassifier-methods | 0.017 | 0.001 | 0.018 | |
| setNormalizationMethod-methods | 0.016 | 0.004 | 0.019 | |
| showClassifierList-methods | 0.022 | 0.002 | 0.023 | |