| Back to Multiple platform build/check report for BioC 3.22: simplified long |
|
This page was generated on 2025-11-07 12:01 -0500 (Fri, 07 Nov 2025).
| Hostname | OS | Arch (*) | R version | Installed pkgs |
|---|---|---|---|---|
| nebbiolo2 | Linux (Ubuntu 24.04.3 LTS) | x86_64 | 4.5.1 Patched (2025-08-23 r88802) -- "Great Square Root" | 4902 |
| kjohnson3 | macOS 13.7.7 Ventura | arm64 | 4.5.1 Patched (2025-09-10 r88807) -- "Great Square Root" | 4638 |
| Click on any hostname to see more info about the system (e.g. compilers) (*) as reported by 'uname -p', except on Windows and Mac OS X | ||||
| Package 798/2361 | Hostname | OS / Arch | INSTALL | BUILD | CHECK | BUILD BIN | ||||||||
| gCrisprTools 2.16.0 (landing page) Russell Bainer
| nebbiolo2 | Linux (Ubuntu 24.04.3 LTS) / x86_64 | OK | OK | OK | |||||||||
| kjohnson3 | macOS 13.7.7 Ventura / arm64 | OK | OK | OK | OK | |||||||||
|
To the developers/maintainers of the gCrisprTools package: - Allow up to 24 hours (and sometimes 48 hours) for your latest push to git@git.bioconductor.org:packages/gCrisprTools.git to reflect on this report. See Troubleshooting Build Report for more information. - Use the following Renviron settings to reproduce errors and warnings. - If 'R CMD check' started to fail recently on the Linux builder(s) over a missing dependency, add the missing dependency to 'Suggests:' in your DESCRIPTION file. See Renviron.bioc for more information. |
| Package: gCrisprTools |
| Version: 2.16.0 |
| Command: /Library/Frameworks/R.framework/Resources/bin/R CMD check --install=check:gCrisprTools.install-out.txt --library=/Library/Frameworks/R.framework/Resources/library --no-vignettes --timings gCrisprTools_2.16.0.tar.gz |
| StartedAt: 2025-11-06 19:51:46 -0500 (Thu, 06 Nov 2025) |
| EndedAt: 2025-11-06 19:54:21 -0500 (Thu, 06 Nov 2025) |
| EllapsedTime: 155.8 seconds |
| RetCode: 0 |
| Status: OK |
| CheckDir: gCrisprTools.Rcheck |
| Warnings: 0 |
##############################################################################
##############################################################################
###
### Running command:
###
### /Library/Frameworks/R.framework/Resources/bin/R CMD check --install=check:gCrisprTools.install-out.txt --library=/Library/Frameworks/R.framework/Resources/library --no-vignettes --timings gCrisprTools_2.16.0.tar.gz
###
##############################################################################
##############################################################################
* using log directory ‘/Users/biocbuild/bbs-3.22-bioc/meat/gCrisprTools.Rcheck’
* using R version 4.5.1 Patched (2025-09-10 r88807)
* using platform: aarch64-apple-darwin20
* R was compiled by
Apple clang version 16.0.0 (clang-1600.0.26.6)
GNU Fortran (GCC) 14.2.0
* running under: macOS Ventura 13.7.7
* using session charset: UTF-8
* using option ‘--no-vignettes’
* checking for file ‘gCrisprTools/DESCRIPTION’ ... OK
* checking extension type ... Package
* this is package ‘gCrisprTools’ version ‘2.16.0’
* package encoding: UTF-8
* checking package namespace information ... OK
* checking package dependencies ... OK
* checking if this is a source package ... OK
* checking if there is a namespace ... OK
* checking for hidden files and directories ... OK
* checking for portable file names ... OK
* checking for sufficient/correct file permissions ... OK
* checking whether package ‘gCrisprTools’ can be installed ... OK
* checking installed package size ... OK
* checking package directory ... OK
* checking ‘build’ directory ... OK
* checking DESCRIPTION meta-information ... OK
* checking top-level files ... OK
* checking for left-over files ... OK
* checking index information ... OK
* checking package subdirectories ... OK
* checking code files for non-ASCII characters ... OK
* checking R files for syntax errors ... OK
* checking whether the package can be loaded ... OK
* checking whether the package can be loaded with stated dependencies ... OK
* checking whether the package can be unloaded cleanly ... OK
* checking whether the namespace can be loaded with stated dependencies ... OK
* checking whether the namespace can be unloaded cleanly ... OK
* checking dependencies in R code ... NOTE
Namespace in Imports field not imported from: ‘RobustRankAggreg’
All declared Imports should be used.
* checking S3 generic/method consistency ... OK
* checking replacement functions ... OK
* checking foreign function calls ... OK
* checking R code for possible problems ... OK
* checking Rd files ... OK
* checking Rd metadata ... OK
* checking Rd cross-references ... OK
* checking for missing documentation entries ... OK
* checking for code/documentation mismatches ... OK
* checking Rd \usage sections ... NOTE
Documented arguments not in \usage in Rd file 'ct.targetSetEnrichment.Rd':
‘pvalue.cutoff’ ‘organism’ ‘db.cut’ ‘species’
Functions with \usage entries need to have the appropriate \alias
entries, and all their arguments documented.
The \usage entries must correspond to syntactically valid R code.
See chapter ‘Writing R documentation files’ in the ‘Writing R
Extensions’ manual.
* checking Rd contents ... OK
* checking for unstated dependencies in examples ... OK
* checking contents of ‘data’ directory ... OK
* checking data for non-ASCII characters ... OK
* checking data for ASCII and uncompressed saves ... OK
* checking files in ‘vignettes’ ... OK
* checking examples ... OK
Examples with CPU (user + system) or elapsed time > 5s
user system elapsed
ct.GREATdb 26.394 0.563 26.967
ct.guideCDF 5.157 2.447 7.775
ct.makeReport 6.107 0.989 7.219
* checking for unstated dependencies in ‘tests’ ... OK
* checking tests ...
Running ‘unit.tests.R’
OK
* checking for unstated dependencies in vignettes ... OK
* checking package vignettes ... OK
* checking running R code from vignettes ... SKIPPED
* checking re-building of vignette outputs ... SKIPPED
* checking PDF version of manual ... OK
* DONE
Status: 2 NOTEs
See
‘/Users/biocbuild/bbs-3.22-bioc/meat/gCrisprTools.Rcheck/00check.log’
for details.
gCrisprTools.Rcheck/00install.out
############################################################################## ############################################################################## ### ### Running command: ### ### /Library/Frameworks/R.framework/Resources/bin/R CMD INSTALL gCrisprTools ### ############################################################################## ############################################################################## * installing to library ‘/Library/Frameworks/R.framework/Versions/4.5-arm64/Resources/library’ * installing *source* package ‘gCrisprTools’ ... ** this is package ‘gCrisprTools’ version ‘2.16.0’ ** using staged installation ** R ** data ** inst ** byte-compile and prepare package for lazy loading ** help *** installing help indices ** building package indices ** installing vignettes ** testing if installed package can be loaded from temporary location ** testing if installed package can be loaded from final location ** testing if installed package keeps a record of temporary installation path * DONE (gCrisprTools)
gCrisprTools.Rcheck/tests/unit.tests.Rout
R version 4.5.1 Patched (2025-09-10 r88807) -- "Great Square Root"
Copyright (C) 2025 The R Foundation for Statistical Computing
Platform: aarch64-apple-darwin20
R is free software and comes with ABSOLUTELY NO WARRANTY.
You are welcome to redistribute it under certain conditions.
Type 'license()' or 'licence()' for distribution details.
R is a collaborative project with many contributors.
Type 'contributors()' for more information and
'citation()' on how to cite R or R packages in publications.
Type 'demo()' for some demos, 'help()' for on-line help, or
'help.start()' for an HTML browser interface to help.
Type 'q()' to quit R.
> #require("BiocGenerics", quietly = TRUE)
> BiocGenerics:::testPackage("gCrisprTools")
RUNIT TEST PROTOCOL -- Thu Nov 6 19:54:17 2025
***********************************************
Number of test functions: 0
Number of errors: 0
Number of failures: 0
1 Test Suite :
gCrisprTools RUnit Tests - 0 test functions, 0 errors, 0 failures
Number of test functions: 0
Number of errors: 0
Number of failures: 0
>
> proc.time()
user system elapsed
3.059 0.115 3.179
gCrisprTools.Rcheck/gCrisprTools-Ex.timings
| name | user | system | elapsed | |
| aln | 0.000 | 0.001 | 0.002 | |
| ann | 0.024 | 0.001 | 0.025 | |
| ct.CAT | 0.521 | 0.037 | 0.556 | |
| ct.DirectionalTests | 0.117 | 0.062 | 0.179 | |
| ct.GCbias | 2.457 | 0.118 | 2.598 | |
| ct.GREATdb | 26.394 | 0.563 | 26.967 | |
| ct.PRC | 0.938 | 0.074 | 1.013 | |
| ct.ROC | 0.487 | 0.031 | 0.519 | |
| ct.RRAaPvals | 0.128 | 0.008 | 0.135 | |
| ct.RRAalpha | 0.106 | 0.003 | 0.109 | |
| ct.alignmentChart | 0.002 | 0.001 | 0.002 | |
| ct.alphaBeta | 0.000 | 0.000 | 0.001 | |
| ct.applyAlpha | 0.000 | 0.002 | 0.002 | |
| ct.buildSE | 0.171 | 0.007 | 0.177 | |
| ct.compareContrasts | 3.241 | 0.432 | 3.674 | |
| ct.contrastBarchart | 2.107 | 0.012 | 2.125 | |
| ct.expandAnnotation | 0.027 | 0.001 | 0.028 | |
| ct.filterReads | 0.090 | 0.008 | 0.099 | |
| ct.gRNARankByReplicate | 0.139 | 0.016 | 0.155 | |
| ct.generateResults | 0.181 | 0.010 | 0.195 | |
| ct.guideCDF | 5.157 | 2.447 | 7.775 | |
| ct.keyCheck | 0.039 | 0.003 | 0.042 | |
| ct.makeContrastReport | 2.949 | 0.457 | 3.471 | |
| ct.makeQCReport | 1.412 | 0.212 | 1.783 | |
| ct.makeReport | 6.107 | 0.989 | 7.219 | |
| ct.makeRhoNull | 0.000 | 0.000 | 0.001 | |
| ct.normalizeBySlope | 0.566 | 0.028 | 0.596 | |
| ct.normalizeFQ | 0.311 | 0.041 | 0.354 | |
| ct.normalizeGuides | 1.181 | 0.111 | 1.297 | |
| ct.normalizeMedians | 0.264 | 0.028 | 0.292 | |
| ct.normalizeNTC | 0.329 | 0.022 | 0.367 | |
| ct.normalizeSpline | 0.379 | 0.031 | 0.415 | |
| ct.parseGeneSymbol | 0.000 | 0.000 | 0.001 | |
| ct.prepareAnnotation | 0.233 | 0.015 | 0.248 | |
| ct.preprocessFit | 0.538 | 0.072 | 0.611 | |
| ct.rankSimple | 1.852 | 0.051 | 1.906 | |
| ct.rawCountDensities | 0.055 | 0.007 | 0.061 | |
| ct.regularizeContrasts | 0.037 | 0.003 | 0.041 | |
| ct.resultCheck | 0.025 | 0.002 | 0.026 | |
| ct.scatter | 0.137 | 0.004 | 0.141 | |
| ct.seas | 3.728 | 0.362 | 3.951 | |
| ct.seasPrep | 0.712 | 0.114 | 0.838 | |
| ct.signalSummary | 0.496 | 0.011 | 0.515 | |
| ct.simpleResult | 0.457 | 0.033 | 0.500 | |
| ct.softLog | 0.001 | 0.000 | 0.000 | |
| ct.stackGuides | 1.799 | 0.350 | 2.154 | |
| ct.targetSetEnrichment | 0.448 | 0.045 | 0.493 | |
| ct.topTargets | 0.139 | 0.007 | 0.145 | |
| ct.upSet | 2.892 | 0.378 | 3.271 | |
| ct.viewControls | 0.085 | 0.018 | 0.102 | |
| ct.viewGuides | 0.122 | 0.007 | 0.128 | |
| es | 0.023 | 0.002 | 0.025 | |
| essential.genes | 0.000 | 0.001 | 0.001 | |
| fit | 0.078 | 0.004 | 0.082 | |
| resultsDF | 0.027 | 0.002 | 0.029 | |