| Back to Multiple platform build/check report for BioC 3.22: simplified long |
|
This page was generated on 2025-11-01 12:04 -0400 (Sat, 01 Nov 2025).
| Hostname | OS | Arch (*) | R version | Installed pkgs |
|---|---|---|---|---|
| nebbiolo2 | Linux (Ubuntu 24.04.3 LTS) | x86_64 | 4.5.1 Patched (2025-08-23 r88802) -- "Great Square Root" | 4901 |
| lconway | macOS 12.7.6 Monterey | x86_64 | 4.5.1 Patched (2025-09-10 r88807) -- "Great Square Root" | 4691 |
| kjohnson3 | macOS 13.7.7 Ventura | arm64 | 4.5.1 Patched (2025-09-10 r88807) -- "Great Square Root" | 4637 |
| Click on any hostname to see more info about the system (e.g. compilers) (*) as reported by 'uname -p', except on Windows and Mac OS X | ||||
| Package 758/2361 | Hostname | OS / Arch | INSTALL | BUILD | CHECK | BUILD BIN | ||||||||
| flowGraph 1.18.0 (landing page) Alice Yue
| nebbiolo2 | Linux (Ubuntu 24.04.3 LTS) / x86_64 | OK | OK | OK | |||||||||
| lconway | macOS 12.7.6 Monterey / x86_64 | OK | OK | OK | OK | |||||||||
| kjohnson3 | macOS 13.7.7 Ventura / arm64 | OK | OK | OK | OK | |||||||||
|
To the developers/maintainers of the flowGraph package: - Allow up to 24 hours (and sometimes 48 hours) for your latest push to git@git.bioconductor.org:packages/flowGraph.git to reflect on this report. See Troubleshooting Build Report for more information. - Use the following Renviron settings to reproduce errors and warnings. - If 'R CMD check' started to fail recently on the Linux builder(s) over a missing dependency, add the missing dependency to 'Suggests:' in your DESCRIPTION file. See Renviron.bioc for more information. |
| Package: flowGraph |
| Version: 1.18.0 |
| Command: /Library/Frameworks/R.framework/Resources/bin/R CMD check --install=check:flowGraph.install-out.txt --library=/Library/Frameworks/R.framework/Resources/library --no-vignettes --timings flowGraph_1.18.0.tar.gz |
| StartedAt: 2025-10-31 19:51:17 -0400 (Fri, 31 Oct 2025) |
| EndedAt: 2025-10-31 19:53:03 -0400 (Fri, 31 Oct 2025) |
| EllapsedTime: 106.5 seconds |
| RetCode: 0 |
| Status: OK |
| CheckDir: flowGraph.Rcheck |
| Warnings: 0 |
##############################################################################
##############################################################################
###
### Running command:
###
### /Library/Frameworks/R.framework/Resources/bin/R CMD check --install=check:flowGraph.install-out.txt --library=/Library/Frameworks/R.framework/Resources/library --no-vignettes --timings flowGraph_1.18.0.tar.gz
###
##############################################################################
##############################################################################
* using log directory ‘/Users/biocbuild/bbs-3.22-bioc/meat/flowGraph.Rcheck’
* using R version 4.5.1 Patched (2025-09-10 r88807)
* using platform: aarch64-apple-darwin20
* R was compiled by
Apple clang version 16.0.0 (clang-1600.0.26.6)
GNU Fortran (GCC) 14.2.0
* running under: macOS Ventura 13.7.7
* using session charset: UTF-8
* using option ‘--no-vignettes’
* checking for file ‘flowGraph/DESCRIPTION’ ... OK
* checking extension type ... Package
* this is package ‘flowGraph’ version ‘1.18.0’
* checking package namespace information ... OK
* checking package dependencies ... OK
* checking if this is a source package ... OK
* checking if there is a namespace ... OK
* checking for hidden files and directories ... OK
* checking for portable file names ... OK
* checking for sufficient/correct file permissions ... OK
* checking whether package ‘flowGraph’ can be installed ... OK
* checking installed package size ... OK
* checking package directory ... OK
* checking ‘build’ directory ... OK
* checking DESCRIPTION meta-information ... OK
* checking top-level files ... OK
* checking for left-over files ... OK
* checking index information ... OK
* checking package subdirectories ... OK
* checking code files for non-ASCII characters ... OK
* checking R files for syntax errors ... OK
* checking whether the package can be loaded ... OK
* checking whether the package can be loaded with stated dependencies ... OK
* checking whether the package can be unloaded cleanly ... OK
* checking whether the namespace can be loaded with stated dependencies ... OK
* checking whether the namespace can be unloaded cleanly ... OK
* checking dependencies in R code ... OK
* checking S3 generic/method consistency ... OK
* checking replacement functions ... OK
* checking foreign function calls ... OK
* checking R code for possible problems ... NOTE
get_child: no visible binding for global variable ‘no_cores’
get_paren: no visible binding for global variable ‘no_cores’
ms_psig: no visible binding for global variable ‘meta’
Undefined global functions or variables:
meta no_cores
* checking Rd files ... NOTE
checkRd: (-1) fg_get_graph.Rd:13: Lost braces
13 | A list containing two data frames (\code{v} and ]code{e})
| ^
checkRd: (-1) ggdf.Rd:22: Lost braces
22 | code{ggdf} adds to the data frames \code{v} and \code{e} in slot
| ^
* checking Rd metadata ... OK
* checking Rd cross-references ... OK
* checking for missing documentation entries ... OK
* checking for code/documentation mismatches ... OK
* checking Rd \usage sections ... OK
* checking Rd contents ... OK
* checking for unstated dependencies in examples ... OK
* checking contents of ‘data’ directory ... OK
* checking data for non-ASCII characters ... OK
* checking data for ASCII and uncompressed saves ... OK
* checking files in ‘vignettes’ ... OK
* checking examples ... OK
Examples with CPU (user + system) or elapsed time > 5s
user system elapsed
fg_save_plots 20.624 0.080 20.881
fg_save 20.577 0.111 21.469
fg_load 20.463 0.157 21.409
* checking for unstated dependencies in ‘tests’ ... OK
* checking tests ...
Running ‘testthat.R’
OK
* checking for unstated dependencies in vignettes ... OK
* checking package vignettes ... OK
* checking running R code from vignettes ... SKIPPED
* checking re-building of vignette outputs ... SKIPPED
* checking PDF version of manual ... OK
* DONE
Status: 2 NOTEs
See
‘/Users/biocbuild/bbs-3.22-bioc/meat/flowGraph.Rcheck/00check.log’
for details.
flowGraph.Rcheck/00install.out
############################################################################## ############################################################################## ### ### Running command: ### ### /Library/Frameworks/R.framework/Resources/bin/R CMD INSTALL flowGraph ### ############################################################################## ############################################################################## * installing to library ‘/Library/Frameworks/R.framework/Versions/4.5-arm64/Resources/library’ * installing *source* package ‘flowGraph’ ... ** this is package ‘flowGraph’ version ‘1.18.0’ ** using staged installation ** R ** data ** inst ** byte-compile and prepare package for lazy loading ** help Loading required namespace: flowGraph *** installing help indices ** building package indices ** installing vignettes ** testing if installed package can be loaded from temporary location ** testing if installed package can be loaded from final location ** testing if installed package keeps a record of temporary installation path * DONE (flowGraph)
flowGraph.Rcheck/tests/testthat.Rout
R version 4.5.1 Patched (2025-09-10 r88807) -- "Great Square Root"
Copyright (C) 2025 The R Foundation for Statistical Computing
Platform: aarch64-apple-darwin20
R is free software and comes with ABSOLUTELY NO WARRANTY.
You are welcome to redistribute it under certain conditions.
Type 'license()' or 'licence()' for distribution details.
R is a collaborative project with many contributors.
Type 'contributors()' for more information and
'citation()' on how to cite R or R packages in publications.
Type 'demo()' for some demos, 'help()' for on-line help, or
'help.start()' for an HTML browser interface to help.
Type 'q()' to quit R.
> library(testthat)
> library(flowGraph)
>
> test_check("flowGraph")
[ FAIL 0 | WARN 1 | SKIP 0 | PASS 34 ]
[ FAIL 0 | WARN 1 | SKIP 0 | PASS 34 ]
>
> proc.time()
user system elapsed
1.895 0.093 1.998
flowGraph.Rcheck/flowGraph-Ex.timings
| name | user | system | elapsed | |
| cell_type_layers | 0.002 | 0.001 | 0.001 | |
| fg_add_feature | 0.112 | 0.003 | 0.115 | |
| fg_add_summary | 0.286 | 0.002 | 0.288 | |
| fg_clean_phen | 0 | 0 | 0 | |
| fg_clear_features | 0.248 | 0.002 | 0.250 | |
| fg_clear_summary | 0.103 | 0.002 | 0.105 | |
| fg_extract_phenotypes | 0.083 | 0.002 | 0.085 | |
| fg_extract_raw | 0.243 | 0.002 | 0.248 | |
| fg_extract_samples | 0.083 | 0.001 | 0.084 | |
| fg_feat_cumsum | 0.079 | 0.001 | 0.080 | |
| fg_feat_edge_specenr | 0.133 | 0.001 | 0.134 | |
| fg_feat_mean_class | 0.077 | 0.001 | 0.078 | |
| fg_feat_node_prop | 0.077 | 0.002 | 0.078 | |
| fg_feat_node_specenr | 0.132 | 0.001 | 0.134 | |
| fg_feat_prop_edge | 0.088 | 0.002 | 0.089 | |
| fg_get_feature | 0.079 | 0.001 | 0.080 | |
| fg_get_feature_desc | 0.251 | 0.002 | 0.253 | |
| fg_get_feature_means | 0.384 | 0.003 | 0.386 | |
| fg_get_graph | 0.083 | 0.001 | 0.087 | |
| fg_get_markers | 0.080 | 0.002 | 0.083 | |
| fg_get_meta | 0.080 | 0.001 | 0.082 | |
| fg_get_summary | 0.564 | 0.012 | 0.582 | |
| fg_get_summary_desc | 0.229 | 0.003 | 0.234 | |
| fg_get_summary_index | 0.472 | 0.003 | 0.737 | |
| fg_get_summary_tables | 0.338 | 0.003 | 0.352 | |
| fg_gsub_ids | 0.075 | 0.001 | 0.080 | |
| fg_gsub_markers | 0.094 | 0.001 | 0.098 | |
| fg_load | 20.463 | 0.157 | 21.409 | |
| fg_merge | 0.088 | 0.002 | 0.093 | |
| fg_merge_samples | 0.090 | 0.001 | 0.093 | |
| fg_plot | 0.136 | 0.001 | 0.140 | |
| fg_plot_box | 0.226 | 0.002 | 0.238 | |
| fg_plot_pVSdiff | 0.124 | 0.002 | 0.283 | |
| fg_plot_qq | 0.535 | 0.030 | 0.600 | |
| fg_replace_meta | 0.089 | 0.002 | 0.090 | |
| fg_rm_feature | 0.283 | 0.003 | 0.292 | |
| fg_rm_summary | 0.262 | 0.002 | 0.267 | |
| fg_save | 20.577 | 0.111 | 21.469 | |
| fg_save_plots | 20.624 | 0.080 | 20.881 | |
| fg_set_layout | 0.090 | 0.001 | 0.091 | |
| fg_summary | 0.104 | 0.002 | 0.105 | |
| flowGraph-class | 0.000 | 0.000 | 0.001 | |
| flowGraph | 0.385 | 0.003 | 0.392 | |
| flowGraphSubset | 0 | 0 | 0 | |
| flowGraphSubset_summary_adjust | 0 | 0 | 0 | |
| flowGraphSubset_summary_pars | 0 | 0 | 0 | |
| get_phen_list | 0.004 | 0.000 | 0.004 | |
| get_phen_meta | 0.001 | 0.000 | 0.001 | |
| ggdf | 0.086 | 0.002 | 0.088 | |
| loop_ind_f | 0 | 0 | 0 | |
| meandiff | 0.001 | 0.000 | 0.000 | |
| plot_gr | 0.510 | 0.007 | 0.519 | |
| set_layout_graph | 0.095 | 0.012 | 0.106 | |
| summary_table | 0.001 | 0.000 | 0.001 | |
| time_output | 0.001 | 0.000 | 0.000 | |
| tstr | 0 | 0 | 0 | |