| Back to Multiple platform build/check report for BioC 3.21: simplified long |
|
This page was generated on 2025-10-16 11:39 -0400 (Thu, 16 Oct 2025).
| Hostname | OS | Arch (*) | R version | Installed pkgs |
|---|---|---|---|---|
| nebbiolo1 | Linux (Ubuntu 24.04.3 LTS) | x86_64 | 4.5.1 (2025-06-13) -- "Great Square Root" | 4833 |
| merida1 | macOS 12.7.6 Monterey | x86_64 | 4.5.1 RC (2025-06-05 r88288) -- "Great Square Root" | 4614 |
| kjohnson1 | macOS 13.7.5 Ventura | arm64 | 4.5.1 Patched (2025-06-14 r88325) -- "Great Square Root" | 4555 |
| kunpeng2 | Linux (openEuler 24.03 LTS) | aarch64 | R Under development (unstable) (2025-02-19 r87757) -- "Unsuffered Consequences" | 4586 |
| Click on any hostname to see more info about the system (e.g. compilers) (*) as reported by 'uname -p', except on Windows and Mac OS X | ||||
| Package 714/2341 | Hostname | OS / Arch | INSTALL | BUILD | CHECK | BUILD BIN | ||||||||
| fastseg 1.54.0 (landing page) Alexander Blume
| nebbiolo1 | Linux (Ubuntu 24.04.3 LTS) / x86_64 | OK | OK | OK | |||||||||
| merida1 | macOS 12.7.6 Monterey / x86_64 | OK | OK | OK | OK | |||||||||
| kjohnson1 | macOS 13.7.5 Ventura / arm64 | OK | OK | OK | OK | |||||||||
| kunpeng2 | Linux (openEuler 24.03 LTS) / aarch64 | OK | OK | OK | ||||||||||
|
To the developers/maintainers of the fastseg package: - Allow up to 24 hours (and sometimes 48 hours) for your latest push to git@git.bioconductor.org:packages/fastseg.git to reflect on this report. See Troubleshooting Build Report for more information. - Use the following Renviron settings to reproduce errors and warnings. - If 'R CMD check' started to fail recently on the Linux builder(s) over a missing dependency, add the missing dependency to 'Suggests:' in your DESCRIPTION file. See Renviron.bioc for more information. |
| Package: fastseg |
| Version: 1.54.0 |
| Command: /Library/Frameworks/R.framework/Resources/bin/R CMD check --install=check:fastseg.install-out.txt --library=/Library/Frameworks/R.framework/Resources/library --no-vignettes --timings fastseg_1.54.0.tar.gz |
| StartedAt: 2025-10-14 03:44:39 -0400 (Tue, 14 Oct 2025) |
| EndedAt: 2025-10-14 03:47:43 -0400 (Tue, 14 Oct 2025) |
| EllapsedTime: 184.0 seconds |
| RetCode: 0 |
| Status: OK |
| CheckDir: fastseg.Rcheck |
| Warnings: 0 |
##############################################################################
##############################################################################
###
### Running command:
###
### /Library/Frameworks/R.framework/Resources/bin/R CMD check --install=check:fastseg.install-out.txt --library=/Library/Frameworks/R.framework/Resources/library --no-vignettes --timings fastseg_1.54.0.tar.gz
###
##############################################################################
##############################################################################
* using log directory ‘/Users/biocbuild/bbs-3.21-bioc/meat/fastseg.Rcheck’
* using R version 4.5.1 RC (2025-06-05 r88288)
* using platform: x86_64-apple-darwin20
* R was compiled by
Apple clang version 14.0.0 (clang-1400.0.29.202)
GNU Fortran (GCC) 14.2.0
* running under: macOS Monterey 12.7.6
* using session charset: UTF-8
* using option ‘--no-vignettes’
* checking for file ‘fastseg/DESCRIPTION’ ... OK
* checking extension type ... Package
* this is package ‘fastseg’ version ‘1.54.0’
* checking package namespace information ... OK
* checking package dependencies ... OK
* checking if this is a source package ... OK
* checking if there is a namespace ... OK
* checking for hidden files and directories ... OK
* checking for portable file names ... OK
* checking for sufficient/correct file permissions ... OK
* checking whether package ‘fastseg’ can be installed ... OK
* used C compiler: ‘Apple clang version 14.0.0 (clang-1400.0.29.202)’
* used C++ compiler: ‘Apple clang version 14.0.0 (clang-1400.0.29.202)’
* used SDK: ‘MacOSX11.3.sdk’
* checking installed package size ... OK
* checking package directory ... OK
* checking ‘build’ directory ... OK
* checking DESCRIPTION meta-information ... OK
* checking top-level files ... OK
* checking for left-over files ... OK
* checking index information ... OK
* checking package subdirectories ... OK
* checking code files for non-ASCII characters ... OK
* checking R files for syntax errors ... OK
* checking whether the package can be loaded ... OK
* checking whether the package can be loaded with stated dependencies ... OK
* checking whether the package can be unloaded cleanly ... OK
* checking whether the namespace can be loaded with stated dependencies ... OK
* checking whether the namespace can be unloaded cleanly ... OK
* checking dependencies in R code ... OK
* checking S3 generic/method consistency ... OK
* checking replacement functions ... OK
* checking foreign function calls ... OK
* checking R code for possible problems ... OK
* checking Rd files ... OK
* checking Rd metadata ... OK
* checking Rd cross-references ... OK
* checking for missing documentation entries ... OK
* checking for code/documentation mismatches ... OK
* checking Rd \usage sections ... OK
* checking Rd contents ... OK
* checking for unstated dependencies in examples ... OK
* checking contents of ‘data’ directory ... OK
* checking data for non-ASCII characters ... OK
* checking data for ASCII and uncompressed saves ... OK
* checking line endings in C/C++/Fortran sources/headers ... OK
* checking compiled code ... NOTE
Note: information on .o files is not available
* checking files in ‘vignettes’ ... OK
* checking examples ... OK
Examples with CPU (user + system) or elapsed time > 5s
user system elapsed
fastseg 4.574 0.162 5.145
* checking for unstated dependencies in vignettes ... OK
* checking package vignettes ... OK
* checking running R code from vignettes ... SKIPPED
* checking re-building of vignette outputs ... SKIPPED
* checking PDF version of manual ... OK
* DONE
Status: 1 NOTE
See
‘/Users/biocbuild/bbs-3.21-bioc/meat/fastseg.Rcheck/00check.log’
for details.
fastseg.Rcheck/00install.out
##############################################################################
##############################################################################
###
### Running command:
###
### /Library/Frameworks/R.framework/Resources/bin/R CMD INSTALL fastseg
###
##############################################################################
##############################################################################
* installing to library ‘/Library/Frameworks/R.framework/Versions/4.5-x86_64/Resources/library’
* installing *source* package ‘fastseg’ ...
** this is package ‘fastseg’ version ‘1.54.0’
** using staged installation
** libs
using C compiler: ‘Apple clang version 14.0.0 (clang-1400.0.29.202)’
using C++ compiler: ‘Apple clang version 14.0.0 (clang-1400.0.29.202)’
using SDK: ‘MacOSX11.3.sdk’
clang -arch x86_64 -I"/Library/Frameworks/R.framework/Resources/include" -DNDEBUG -I/opt/R/x86_64/include -fPIC -falign-functions=64 -Wall -g -O2 -c R_init_fastseg.c -o R_init_fastseg.o
clang++ -arch x86_64 -std=gnu++17 -I"/Library/Frameworks/R.framework/Resources/include" -DNDEBUG -I/opt/R/x86_64/include -fPIC -falign-functions=64 -Wall -g -O2 -c segment.cpp -o segment.o
segment.cpp:62:31: warning: variable 'maxStatistic' set but not used [-Wunused-but-set-variable]
double newStatistic,meanDiff,maxStatistic,DOF,a,b,eps1;
^
segment.cpp:63:40: warning: variable 'maxIdx' set but not used [-Wunused-but-set-variable]
double newPValue, maxPValue,oldPValue,maxIdx;
^
segment.cpp:61:9: warning: variable 'oldStatistic' set but not used [-Wunused-but-set-variable]
double oldStatistic, meanLeft,meanRight,varLeft,varRight;
^
segment.cpp:65:9: warning: unused variable 'Rf_beta' [-Wunused-variable]
double beta,nn;
^
/Library/Frameworks/R.framework/Resources/include/Rmath.h:221:15: note: expanded from macro 'beta'
#define beta Rf_beta
^
segment.cpp:60:20: warning: variable 'globalSd' set but not used [-Wunused-but-set-variable]
double globalMean,globalSd,diff,M2,globalVariance;
^
5 warnings generated.
clang++ -arch x86_64 -std=gnu++17 -I"/Library/Frameworks/R.framework/Resources/include" -DNDEBUG -I/opt/R/x86_64/include -fPIC -falign-functions=64 -Wall -g -O2 -c segmentCyberT.cpp -o segmentCyberT.o
segmentCyberT.cpp:60:9: warning: variable 'oldStatistic' set but not used [-Wunused-but-set-variable]
double oldStatistic,meanLeft,meanRight,varLeft,varRight;
^
segmentCyberT.cpp:63:50: warning: unused variable 'Rf_beta' [-Wunused-variable]
double newStatisticBptLeft,newStatisticBptRight,beta,nn;
^
/Library/Frameworks/R.framework/Resources/include/Rmath.h:221:15: note: expanded from macro 'beta'
#define beta Rf_beta
^
segmentCyberT.cpp:59:20: warning: variable 'globalSd' set but not used [-Wunused-but-set-variable]
double globalMean,globalSd,diff,M2,globalVariance;
^
segmentCyberT.cpp:61:31: warning: variable 'maxStatistic' set but not used [-Wunused-but-set-variable]
double newStatistic,meanDiff,maxStatistic,DOF,a,b,eps1;
^
4 warnings generated.
clang++ -arch x86_64 -std=gnu++17 -dynamiclib -Wl,-headerpad_max_install_names -undefined dynamic_lookup -L/Library/Frameworks/R.framework/Resources/lib -L/opt/R/x86_64/lib -o fastseg.so R_init_fastseg.o segment.o segmentCyberT.o -F/Library/Frameworks/R.framework/.. -framework R
installing to /Library/Frameworks/R.framework/Versions/4.5-x86_64/Resources/library/00LOCK-fastseg/00new/fastseg/libs
** R
** data
** inst
** byte-compile and prepare package for lazy loading
** help
*** installing help indices
** building package indices
** installing vignettes
** testing if installed package can be loaded from temporary location
** checking absolute paths in shared objects and dynamic libraries
** testing if installed package can be loaded from final location
** testing if installed package keeps a record of temporary installation path
* DONE (fastseg)
fastseg.Rcheck/fastseg-Ex.timings
| name | user | system | elapsed | |
| fastseg | 4.574 | 0.162 | 5.145 | |
| segPlot | 2.674 | 0.046 | 2.929 | |
| toDNAcopyObj | 4.443 | 0.032 | 4.706 | |