| Back to Multiple platform build/check report for BioC 3.22: simplified long |
|
This page was generated on 2025-11-07 12:00 -0500 (Fri, 07 Nov 2025).
| Hostname | OS | Arch (*) | R version | Installed pkgs |
|---|---|---|---|---|
| nebbiolo2 | Linux (Ubuntu 24.04.3 LTS) | x86_64 | 4.5.1 Patched (2025-08-23 r88802) -- "Great Square Root" | 4902 |
| kjohnson3 | macOS 13.7.7 Ventura | arm64 | 4.5.1 Patched (2025-09-10 r88807) -- "Great Square Root" | 4638 |
| Click on any hostname to see more info about the system (e.g. compilers) (*) as reported by 'uname -p', except on Windows and Mac OS X | ||||
| Package 524/2361 | Hostname | OS / Arch | INSTALL | BUILD | CHECK | BUILD BIN | ||||||||
| dar 1.6.0 (landing page) Francesc Catala-Moll
| nebbiolo2 | Linux (Ubuntu 24.04.3 LTS) / x86_64 | OK | OK | OK | |||||||||
| kjohnson3 | macOS 13.7.7 Ventura / arm64 | OK | OK | OK | OK | |||||||||
|
To the developers/maintainers of the dar package: - Allow up to 24 hours (and sometimes 48 hours) for your latest push to git@git.bioconductor.org:packages/dar.git to reflect on this report. See Troubleshooting Build Report for more information. - Use the following Renviron settings to reproduce errors and warnings. - If 'R CMD check' started to fail recently on the Linux builder(s) over a missing dependency, add the missing dependency to 'Suggests:' in your DESCRIPTION file. See Renviron.bioc for more information. |
| Package: dar |
| Version: 1.6.0 |
| Command: /home/biocbuild/bbs-3.22-bioc/R/bin/R CMD check --install=check:dar.install-out.txt --library=/home/biocbuild/bbs-3.22-bioc/R/site-library --timings dar_1.6.0.tar.gz |
| StartedAt: 2025-11-06 22:40:33 -0500 (Thu, 06 Nov 2025) |
| EndedAt: 2025-11-06 22:55:24 -0500 (Thu, 06 Nov 2025) |
| EllapsedTime: 890.8 seconds |
| RetCode: 0 |
| Status: OK |
| CheckDir: dar.Rcheck |
| Warnings: 0 |
##############################################################################
##############################################################################
###
### Running command:
###
### /home/biocbuild/bbs-3.22-bioc/R/bin/R CMD check --install=check:dar.install-out.txt --library=/home/biocbuild/bbs-3.22-bioc/R/site-library --timings dar_1.6.0.tar.gz
###
##############################################################################
##############################################################################
* using log directory ‘/home/biocbuild/bbs-3.22-bioc/meat/dar.Rcheck’
* using R version 4.5.1 Patched (2025-08-23 r88802)
* using platform: x86_64-pc-linux-gnu
* R was compiled by
gcc (Ubuntu 13.3.0-6ubuntu2~24.04) 13.3.0
GNU Fortran (Ubuntu 13.3.0-6ubuntu2~24.04) 13.3.0
* running under: Ubuntu 24.04.3 LTS
* using session charset: UTF-8
* checking for file ‘dar/DESCRIPTION’ ... OK
* this is package ‘dar’ version ‘1.6.0’
* package encoding: UTF-8
* checking package namespace information ... OK
* checking package dependencies ... INFO
Imports includes 21 non-default packages.
Importing from so many packages makes the package vulnerable to any of
them becoming unavailable. Move as many as possible to Suggests and
use conditionally.
* checking if this is a source package ... OK
* checking if there is a namespace ... OK
* checking for hidden files and directories ... OK
* checking for portable file names ... OK
* checking for sufficient/correct file permissions ... OK
* checking whether package ‘dar’ can be installed ... OK
* checking installed package size ... OK
* checking package directory ... OK
* checking ‘build’ directory ... OK
* checking DESCRIPTION meta-information ... OK
* checking top-level files ... OK
* checking for left-over files ... OK
* checking index information ... OK
* checking package subdirectories ... OK
* checking code files for non-ASCII characters ... OK
* checking R files for syntax errors ... OK
* checking whether the package can be loaded ... OK
* checking whether the package can be loaded with stated dependencies ... OK
* checking whether the package can be unloaded cleanly ... OK
* checking whether the namespace can be loaded with stated dependencies ... OK
* checking whether the namespace can be unloaded cleanly ... OK
* checking loading without being on the library search path ... OK
* checking dependencies in R code ... OK
* checking S3 generic/method consistency ... OK
* checking replacement functions ... OK
* checking foreign function calls ... OK
* checking R code for possible problems ... OK
* checking Rd files ... OK
* checking Rd metadata ... OK
* checking Rd cross-references ... OK
* checking for missing documentation entries ... OK
* checking for code/documentation mismatches ... OK
* checking Rd \usage sections ... OK
* checking Rd contents ... OK
* checking for unstated dependencies in examples ... OK
* checking contents of ‘data’ directory ... OK
* checking data for non-ASCII characters ... OK
* checking data for ASCII and uncompressed saves ... OK
* checking R/sysdata.rda ... OK
* checking files in ‘vignettes’ ... OK
* checking examples ... OK
Examples with CPU (user + system) or elapsed time > 5s
user system elapsed
step_aldex 17.353 0.559 17.913
prep 7.261 0.859 45.646
step_deseq 6.550 0.057 6.607
corr_heatmap 5.179 0.127 5.308
import_steps 4.624 0.425 38.152
recipe 3.388 0.279 21.168
export_steps 3.313 0.247 14.426
step_metagenomeseq 3.401 0.054 9.741
* checking for unstated dependencies in ‘tests’ ... OK
* checking tests ...
Running ‘testthat.R’
OK
* checking for unstated dependencies in vignettes ... OK
* checking package vignettes ... OK
* checking re-building of vignette outputs ... OK
* checking PDF version of manual ... OK
* DONE
Status: OK
dar.Rcheck/00install.out
############################################################################## ############################################################################## ### ### Running command: ### ### /home/biocbuild/bbs-3.22-bioc/R/bin/R CMD INSTALL dar ### ############################################################################## ############################################################################## * installing to library ‘/home/biocbuild/bbs-3.22-bioc/R/site-library’ * installing *source* package ‘dar’ ... ** this is package ‘dar’ version ‘1.6.0’ ** using staged installation ** R ** data ** inst ** byte-compile and prepare package for lazy loading ** help *** installing help indices *** copying figures ** building package indices ** installing vignettes ** testing if installed package can be loaded from temporary location ** testing if installed package can be loaded from final location ** testing if installed package keeps a record of temporary installation path * DONE (dar)
dar.Rcheck/tests/testthat.Rout
R version 4.5.1 Patched (2025-08-23 r88802) -- "Great Square Root"
Copyright (C) 2025 The R Foundation for Statistical Computing
Platform: x86_64-pc-linux-gnu
R is free software and comes with ABSOLUTELY NO WARRANTY.
You are welcome to redistribute it under certain conditions.
Type 'license()' or 'licence()' for distribution details.
R is a collaborative project with many contributors.
Type 'contributors()' for more information and
'citation()' on how to cite R or R packages in publications.
Type 'demo()' for some demos, 'help()' for on-line help, or
'help.start()' for an HTML browser interface to help.
Type 'q()' to quit R.
> library(testthat)
> library(dar)
>
> test_check("dar")
Starting 2 test processes
[ FAIL 0 | WARN 3 | SKIP 10 | PASS 81 ]
══ Skipped tests (10) ══════════════════════════════════════════════════════════
• On CRAN (9): 'test-roxytest-tests-bake.R:18:3',
'test-roxytest-tests-lefse.R:15:3', 'test-roxytest-tests-maaslin2.R:16:3',
'test-roxytest-tests-pkg_check.R:6:3', 'test-roxytest-tests-misc.R:73:3',
'test-roxytest-tests-misc.R:101:3', 'test-roxytest-tests-misc.R:108:3',
'test-roxytest-tests-read_data.R:24:3',
'test-roxytest-tests-steps_and_checks.R:7:3'
• Temporary disabling due to problems with the ANCOM package (1):
'test-roxytest-tests-ancom.R:6:3'
[ FAIL 0 | WARN 3 | SKIP 10 | PASS 81 ]
>
> proc.time()
user system elapsed
213.362 10.692 257.100
dar.Rcheck/dar-Ex.timings
| name | user | system | elapsed | |
| abundance_plt | 2.708 | 0.067 | 2.776 | |
| add_tax | 0.149 | 0.001 | 0.151 | |
| add_var | 0.151 | 0.000 | 0.151 | |
| bake | 0.433 | 0.003 | 0.436 | |
| contains_rarefaction | 0.802 | 0.012 | 0.815 | |
| cool | 0.296 | 0.018 | 0.315 | |
| corr_heatmap | 5.179 | 0.127 | 5.308 | |
| exclusion_plt | 1.222 | 0.002 | 1.224 | |
| export_steps | 3.313 | 0.247 | 14.426 | |
| find_intersections | 0.150 | 0.001 | 0.151 | |
| get_comparisons | 0.017 | 0.002 | 0.019 | |
| get_phy | 0.018 | 0.002 | 0.020 | |
| get_tax | 0.023 | 0.001 | 0.024 | |
| get_var | 0.023 | 0.001 | 0.024 | |
| import_steps | 4.624 | 0.425 | 38.152 | |
| intersection_df | 0.162 | 0.002 | 0.165 | |
| intersection_plt | 2.226 | 0.043 | 2.270 | |
| mutual_plt | 2.595 | 0.099 | 2.695 | |
| otu_table | 0.408 | 0.006 | 0.414 | |
| overlap_df | 0.244 | 0.001 | 0.245 | |
| phy_qc | 1.135 | 0.037 | 1.173 | |
| prep | 7.261 | 0.859 | 45.646 | |
| rand_id | 0 | 0 | 0 | |
| read_data | 1.340 | 0.646 | 1.996 | |
| recipe | 3.388 | 0.279 | 21.168 | |
| required_deps | 0.039 | 0.002 | 0.041 | |
| sample_data | 0.040 | 0.000 | 0.041 | |
| step_aldex | 17.353 | 0.559 | 17.913 | |
| step_ancom | 0 | 0 | 0 | |
| step_corncob | 2.029 | 0.019 | 2.050 | |
| step_deseq | 6.550 | 0.057 | 6.607 | |
| step_filter_by_abundance | 0.041 | 0.000 | 0.041 | |
| step_filter_by_prevalence | 0.040 | 0.001 | 0.042 | |
| step_filter_by_rarity | 0.041 | 0.000 | 0.042 | |
| step_filter_by_variance | 0.039 | 0.002 | 0.040 | |
| step_filter_taxa | 0.054 | 0.001 | 0.054 | |
| step_lefse | 0.100 | 0.001 | 0.101 | |
| step_maaslin | 3.242 | 0.026 | 3.268 | |
| step_metagenomeseq | 3.401 | 0.054 | 9.741 | |
| step_rarefaction | 0.046 | 0.003 | 0.049 | |
| step_subset_taxa | 0.04 | 0.00 | 0.04 | |
| step_wilcox | 1.923 | 0.006 | 1.928 | |
| steps_ids | 0.011 | 0.000 | 0.010 | |
| tax_table | 0.050 | 0.000 | 0.051 | |
| tidyeval | 0.016 | 0.000 | 0.016 | |
| to_tibble | 0.436 | 0.005 | 0.440 | |
| use_rarefy | 0.014 | 0.001 | 0.015 | |
| zero_otu | 0.399 | 0.000 | 0.399 | |