| Back to Multiple platform build/check report for BioC 3.22: simplified long |
|
This page was generated on 2025-08-15 12:06 -0400 (Fri, 15 Aug 2025).
| Hostname | OS | Arch (*) | R version | Installed pkgs |
|---|---|---|---|---|
| nebbiolo2 | Linux (Ubuntu 24.04.3 LTS) | x86_64 | 4.5.1 (2025-06-13) -- "Great Square Root" | 4818 |
| palomino8 | Windows Server 2022 Datacenter | x64 | 4.5.1 (2025-06-13 ucrt) -- "Great Square Root" | 4554 |
| lconway | macOS 12.7.1 Monterey | x86_64 | 4.5.1 (2025-06-13) -- "Great Square Root" | 4595 |
| kjohnson3 | macOS 13.7.7 Ventura | arm64 | 4.5.1 Patched (2025-06-14 r88325) -- "Great Square Root" | 4537 |
| taishan | Linux (openEuler 24.03 LTS) | aarch64 | 4.5.0 (2025-04-11) -- "How About a Twenty-Six" | 4535 |
| Click on any hostname to see more info about the system (e.g. compilers) (*) as reported by 'uname -p', except on Windows and Mac OS X | ||||
| Package 390/2317 | Hostname | OS / Arch | INSTALL | BUILD | CHECK | BUILD BIN | ||||||||
| cn.mops 1.55.1 (landing page) Gundula Povysil
| nebbiolo2 | Linux (Ubuntu 24.04.3 LTS) / x86_64 | OK | OK | OK | |||||||||
| palomino8 | Windows Server 2022 Datacenter / x64 | OK | OK | OK | OK | |||||||||
| lconway | macOS 12.7.1 Monterey / x86_64 | OK | OK | OK | OK | |||||||||
| kjohnson3 | macOS 13.7.7 Ventura / arm64 | OK | OK | OK | OK | |||||||||
| taishan | Linux (openEuler 24.03 LTS) / aarch64 | OK | OK | OK | ||||||||||
|
To the developers/maintainers of the cn.mops package: - Allow up to 24 hours (and sometimes 48 hours) for your latest push to git@git.bioconductor.org:packages/cn.mops.git to reflect on this report. See Troubleshooting Build Report for more information. - Use the following Renviron settings to reproduce errors and warnings. - If 'R CMD check' started to fail recently on the Linux builder(s) over a missing dependency, add the missing dependency to 'Suggests:' in your DESCRIPTION file. See Renviron.bioc for more information. |
| Package: cn.mops |
| Version: 1.55.1 |
| Command: F:\biocbuild\bbs-3.22-bioc\R\bin\R.exe CMD check --no-multiarch --install=check:cn.mops.install-out.txt --library=F:\biocbuild\bbs-3.22-bioc\R\library --no-vignettes --timings cn.mops_1.55.1.tar.gz |
| StartedAt: 2025-08-15 01:46:42 -0400 (Fri, 15 Aug 2025) |
| EndedAt: 2025-08-15 01:50:50 -0400 (Fri, 15 Aug 2025) |
| EllapsedTime: 248.3 seconds |
| RetCode: 0 |
| Status: OK |
| CheckDir: cn.mops.Rcheck |
| Warnings: 0 |
##############################################################################
##############################################################################
###
### Running command:
###
### F:\biocbuild\bbs-3.22-bioc\R\bin\R.exe CMD check --no-multiarch --install=check:cn.mops.install-out.txt --library=F:\biocbuild\bbs-3.22-bioc\R\library --no-vignettes --timings cn.mops_1.55.1.tar.gz
###
##############################################################################
##############################################################################
* using log directory 'F:/biocbuild/bbs-3.22-bioc/meat/cn.mops.Rcheck'
* using R version 4.5.1 (2025-06-13 ucrt)
* using platform: x86_64-w64-mingw32
* R was compiled by
gcc.exe (GCC) 14.2.0
GNU Fortran (GCC) 14.2.0
* running under: Windows Server 2022 x64 (build 20348)
* using session charset: UTF-8
* using option '--no-vignettes'
* checking for file 'cn.mops/DESCRIPTION' ... OK
* checking extension type ... Package
* this is package 'cn.mops' version '1.55.1'
* checking package namespace information ... OK
* checking package dependencies ... OK
* checking if this is a source package ... OK
* checking if there is a namespace ... OK
* checking for hidden files and directories ... OK
* checking for portable file names ... OK
* checking whether package 'cn.mops' can be installed ... OK
* used C compiler: 'gcc.exe (GCC) 14.2.0'
* used C++ compiler: 'G__~1.EXE (GCC) 14.2.0'
* checking installed package size ... OK
* checking package directory ... OK
* checking 'build' directory ... OK
* checking DESCRIPTION meta-information ... OK
* checking top-level files ... OK
* checking for left-over files ... OK
* checking index information ... OK
* checking package subdirectories ... OK
* checking code files for non-ASCII characters ... OK
* checking R files for syntax errors ... OK
* checking whether the package can be loaded ... OK
* checking whether the package can be loaded with stated dependencies ... OK
* checking whether the package can be unloaded cleanly ... OK
* checking whether the namespace can be loaded with stated dependencies ... OK
* checking whether the namespace can be unloaded cleanly ... OK
* checking whether startup messages can be suppressed ... OK
* checking dependencies in R code ... OK
* checking S3 generic/method consistency ... OK
* checking replacement functions ... OK
* checking foreign function calls ... OK
* checking R code for possible problems ... OK
* checking Rd files ... OK
* checking Rd metadata ... OK
* checking Rd cross-references ... OK
* checking for missing documentation entries ... OK
* checking for code/documentation mismatches ... OK
* checking Rd \usage sections ... OK
* checking Rd contents ... OK
* checking for unstated dependencies in examples ... OK
* checking contents of 'data' directory ... OK
* checking data for non-ASCII characters ... OK
* checking data for ASCII and uncompressed saves ... OK
* checking line endings in C/C++/Fortran sources/headers ... OK
* checking compiled code ... NOTE
Note: information on .o files for x64 is not available
File 'F:/biocbuild/bbs-3.22-bioc/R/library/cn.mops/libs/x64/cn.mops.dll':
Found '_exit', possibly from '_exit' (C)
Found 'abort', possibly from 'abort' (C), 'runtime' (Fortran)
Compiled code should not call entry points which might terminate R nor
write to stdout/stderr instead of to the console, nor use Fortran I/O
nor system RNGs nor [v]sprintf. The detected symbols are linked into
the code but might come from libraries and not actually be called.
See 'Writing portable packages' in the 'Writing R Extensions' manual.
* checking sizes of PDF files under 'inst/doc' ... OK
* checking files in 'vignettes' ... OK
* checking examples ... OK
Examples with CPU (user + system) or elapsed time > 5s
user system elapsed
referencecn.mops 18.50 0.04 30.61
calcFractionalCopyNumbers-CNVDetectionResult-method 11.25 0.10 11.35
calcFractionalCopyNumbers 10.86 0.06 10.92
cn.mops 9.12 0.17 23.18
haplocn.mops 1.43 0.02 12.08
getReadCountsFromBAM 0.58 0.02 5.81
getSegmentReadCountsFromBAM 0.33 0.02 5.92
* checking for unstated dependencies in vignettes ... OK
* checking package vignettes ... OK
* checking running R code from vignettes ... SKIPPED
* checking re-building of vignette outputs ... SKIPPED
* checking PDF version of manual ... OK
* DONE
Status: 1 NOTE
See
'F:/biocbuild/bbs-3.22-bioc/meat/cn.mops.Rcheck/00check.log'
for details.
cn.mops.Rcheck/00install.out
##############################################################################
##############################################################################
###
### Running command:
###
### F:\biocbuild\bbs-3.22-bioc\R\bin\R.exe CMD INSTALL cn.mops
###
##############################################################################
##############################################################################
* installing to library 'F:/biocbuild/bbs-3.22-bioc/R/library'
* installing *source* package 'cn.mops' ...
** this is package 'cn.mops' version '1.55.1'
** using staged installation
** libs
using C compiler: 'gcc.exe (GCC) 14.2.0'
using C++ compiler: 'G__~1.EXE (GCC) 14.2.0'
gcc -I"F:/biocbuild/bbs-3.22-bioc/R/include" -DNDEBUG -I"C:/rtools45/x86_64-w64-mingw32.static.posix/include" -O2 -Wall -std=gnu2x -mfpmath=sse -msse2 -mstackrealign -c R_init_cnmops.c -o R_init_cnmops.o
g++ -std=gnu++17 -I"F:/biocbuild/bbs-3.22-bioc/R/include" -DNDEBUG -I"C:/rtools45/x86_64-w64-mingw32.static.posix/include" -O2 -Wall -mfpmath=sse -msse2 -mstackrealign -c cnmops.cpp -o cnmops.o
g++ -std=gnu++17 -I"F:/biocbuild/bbs-3.22-bioc/R/include" -DNDEBUG -I"C:/rtools45/x86_64-w64-mingw32.static.posix/include" -O2 -Wall -mfpmath=sse -msse2 -mstackrealign -c segment.cpp -o segment.o
segment.cpp: In function 'SEXPREC* segment(SEXP, SEXP, SEXP, SEXP, SEXP, SEXP)':
segment.cpp:59:27: warning: variable 'globalSd' set but not used [-Wunused-but-set-variable]
59 | double globalMean,globalSd,diff,M2,globalVariance;
| ^~~~~~~~
segment.cpp:60:16: warning: variable 'oldStatistic' set but not used [-Wunused-but-set-variable]
60 | double oldStatistic, meanLeft,meanRight,varLeft,varRight;
| ^~~~~~~~~~~~
segment.cpp:61:38: warning: variable 'maxStatistic' set but not used [-Wunused-but-set-variable]
61 | double newStatistic,meanDiff,maxStatistic,DOF,a,b,eps1;
| ^~~~~~~~~~~~
segment.cpp:62:47: warning: variable 'maxIdx' set but not used [-Wunused-but-set-variable]
62 | double newPValue, maxPValue,oldPValue,maxIdx;
| ^~~~~~
In file included from segment.cpp:10:
F:/biocbuild/bbs-3.22-bioc/R/include/Rmath.h:221:25: warning: unused variable 'Rf_beta' [-Wunused-variable]
221 | #define beta Rf_beta
| ^~~~~~~
segment.cpp:64:16: note: in expansion of macro 'beta'
64 | double beta,nn;
| ^~~~
g++ -std=gnu++17 -shared -s -static-libgcc -o cn.mops.dll tmp.def R_init_cnmops.o cnmops.o segment.o -LC:/rtools45/x86_64-w64-mingw32.static.posix/lib/x64 -LC:/rtools45/x86_64-w64-mingw32.static.posix/lib -LF:/biocbuild/bbs-3.22-bioc/R/bin/x64 -lR
installing to F:/biocbuild/bbs-3.22-bioc/R/library/00LOCK-cn.mops/00new/cn.mops/libs/x64
** R
** data
** inst
** byte-compile and prepare package for lazy loading
** help
*** installing help indices
** building package indices
** installing vignettes
** testing if installed package can be loaded from temporary location
** testing if installed package can be loaded from final location
** testing if installed package keeps a record of temporary installation path
* DONE (cn.mops)
cn.mops.Rcheck/cn.mops-Ex.timings
| name | user | system | elapsed | |
| CNVDetectionResult | 0 | 0 | 0 | |
| calcFractionalCopyNumbers-CNVDetectionResult-method | 11.25 | 0.10 | 11.35 | |
| calcFractionalCopyNumbers | 10.86 | 0.06 | 10.92 | |
| calcIntegerCopyNumbers-CNVDetectionResult-method | 0.42 | 0.01 | 0.44 | |
| calcIntegerCopyNumbers | 0.46 | 0.02 | 0.46 | |
| cn.mops | 9.12 | 0.17 | 23.18 | |
| cnvr-CNVDetectionResult-method | 0.19 | 0.00 | 0.18 | |
| cnvr | 0.23 | 0.00 | 0.24 | |
| cnvs-CNVDetectionResult-method | 0.24 | 0.02 | 0.25 | |
| cnvs | 0.28 | 0.01 | 0.29 | |
| exomecn.mops | 3.81 | 0.03 | 3.85 | |
| getReadCountsFromBAM | 0.58 | 0.02 | 5.81 | |
| getSegmentReadCountsFromBAM | 0.33 | 0.02 | 5.92 | |
| gr-CNVDetectionResult-method | 0.25 | 0.00 | 0.25 | |
| gr | 0.22 | 0.01 | 0.24 | |
| haplocn.mops | 1.43 | 0.02 | 12.08 | |
| individualCall-CNVDetectionResult-method | 0.28 | 0.01 | 0.29 | |
| individualCall | 0.30 | 0.03 | 0.33 | |
| iniCall-CNVDetectionResult-method | 0.28 | 0.02 | 0.30 | |
| iniCall | 0.28 | 0.01 | 0.29 | |
| integerCopyNumber-CNVDetectionResult-method | 0.3 | 0.0 | 0.3 | |
| integerCopyNumber | 0.23 | 0.05 | 0.28 | |
| localAssessments-CNVDetectionResult-method | 0.25 | 0.00 | 0.25 | |
| localAssessments | 0.29 | 0.03 | 0.31 | |
| makeRobustCNVR | 0.46 | 0.02 | 0.49 | |
| normalizeChromosomes | 0.21 | 0.00 | 0.21 | |
| normalizeGenome | 0.53 | 0.04 | 0.56 | |
| normalizedData-CNVDetectionResult-method | 0.23 | 0.01 | 0.25 | |
| normalizedData | 0.30 | 0.02 | 0.31 | |
| params-CNVDetectionResult-method | 0.20 | 0.01 | 0.22 | |
| params | 0.22 | 0.02 | 0.24 | |
| posteriorProbs-CNVDetectionResult-method | 0.25 | 0.03 | 0.28 | |
| posteriorProbs | 0.25 | 0.01 | 0.26 | |
| referencecn.mops | 18.50 | 0.04 | 30.61 | |
| sampleNames-CNVDetectionResult-method | 0.21 | 0.01 | 0.22 | |
| sampleNames | 0.20 | 0.02 | 0.22 | |
| segment | 0.01 | 0.00 | 0.02 | |
| segmentation-CNVDetectionResult-method | 0.27 | 0.01 | 0.28 | |
| segmentation | 0.27 | 0.00 | 0.26 | |
| segplot-CNVDetectionResult-method | 1.09 | 0.02 | 1.11 | |
| segplot | 1.31 | 0.03 | 1.35 | |
| singlecn.mops | 0.54 | 0.02 | 0.56 | |