| Back to Multiple platform build/check report for BioC 3.21: simplified long |
|
This page was generated on 2025-10-16 11:41 -0400 (Thu, 16 Oct 2025).
| Hostname | OS | Arch (*) | R version | Installed pkgs |
|---|---|---|---|---|
| nebbiolo1 | Linux (Ubuntu 24.04.3 LTS) | x86_64 | 4.5.1 (2025-06-13) -- "Great Square Root" | 4833 |
| merida1 | macOS 12.7.6 Monterey | x86_64 | 4.5.1 RC (2025-06-05 r88288) -- "Great Square Root" | 4614 |
| kjohnson1 | macOS 13.7.5 Ventura | arm64 | 4.5.1 Patched (2025-06-14 r88325) -- "Great Square Root" | 4555 |
| kunpeng2 | Linux (openEuler 24.03 LTS) | aarch64 | R Under development (unstable) (2025-02-19 r87757) -- "Unsuffered Consequences" | 4586 |
| Click on any hostname to see more info about the system (e.g. compilers) (*) as reported by 'uname -p', except on Windows and Mac OS X | ||||
| Package 250/2341 | Hostname | OS / Arch | INSTALL | BUILD | CHECK | BUILD BIN | ||||||||
| bsseq 1.44.1 (landing page) Kasper Daniel Hansen
| nebbiolo1 | Linux (Ubuntu 24.04.3 LTS) / x86_64 | OK | OK | OK | |||||||||
| merida1 | macOS 12.7.6 Monterey / x86_64 | OK | OK | OK | OK | |||||||||
| kjohnson1 | macOS 13.7.5 Ventura / arm64 | OK | OK | OK | OK | |||||||||
| kunpeng2 | Linux (openEuler 24.03 LTS) / aarch64 | OK | OK | OK | ||||||||||
|
To the developers/maintainers of the bsseq package: - Allow up to 24 hours (and sometimes 48 hours) for your latest push to git@git.bioconductor.org:packages/bsseq.git to reflect on this report. See Troubleshooting Build Report for more information. - Use the following Renviron settings to reproduce errors and warnings. - If 'R CMD check' started to fail recently on the Linux builder(s) over a missing dependency, add the missing dependency to 'Suggests:' in your DESCRIPTION file. See Renviron.bioc for more information. - See Martin Grigorov's blog post for how to debug Linux ARM64 related issues on a x86_64 host. |
| Package: bsseq |
| Version: 1.44.1 |
| Command: /home/biocbuild/R/R/bin/R CMD check --install=check:bsseq.install-out.txt --library=/home/biocbuild/R/R/site-library --no-vignettes --timings bsseq_1.44.1.tar.gz |
| StartedAt: 2025-10-14 07:04:24 -0000 (Tue, 14 Oct 2025) |
| EndedAt: 2025-10-14 07:14:20 -0000 (Tue, 14 Oct 2025) |
| EllapsedTime: 596.4 seconds |
| RetCode: 0 |
| Status: OK |
| CheckDir: bsseq.Rcheck |
| Warnings: 0 |
##############################################################################
##############################################################################
###
### Running command:
###
### /home/biocbuild/R/R/bin/R CMD check --install=check:bsseq.install-out.txt --library=/home/biocbuild/R/R/site-library --no-vignettes --timings bsseq_1.44.1.tar.gz
###
##############################################################################
##############################################################################
* using log directory ‘/home/biocbuild/bbs-3.21-bioc/meat/bsseq.Rcheck’
* using R Under development (unstable) (2025-02-19 r87757)
* using platform: aarch64-unknown-linux-gnu
* R was compiled by
aarch64-unknown-linux-gnu-gcc (GCC) 14.2.0
GNU Fortran (GCC) 14.2.0
* running under: openEuler 24.03 (LTS-SP1)
* using session charset: UTF-8
* using option ‘--no-vignettes’
* checking for file ‘bsseq/DESCRIPTION’ ... OK
* this is package ‘bsseq’ version ‘1.44.1’
* package encoding: UTF-8
* checking package namespace information ... OK
* checking package dependencies ... OK
* checking if this is a source package ... OK
* checking if there is a namespace ... OK
* checking for hidden files and directories ... OK
* checking for portable file names ... OK
* checking for sufficient/correct file permissions ... OK
* checking whether package ‘bsseq’ can be installed ... OK
* used C++ compiler: ‘aarch64-unknown-linux-gnu-g++ (GCC) 14.2.0’
* checking C++ specification ... OK
* checking installed package size ... OK
* checking package directory ... OK
* checking ‘build’ directory ... OK
* checking DESCRIPTION meta-information ... OK
* checking top-level files ... OK
* checking for left-over files ... OK
* checking index information ... OK
* checking package subdirectories ... OK
* checking code files for non-ASCII characters ... OK
* checking R files for syntax errors ... OK
* checking whether the package can be loaded ... OK
* checking whether the package can be loaded with stated dependencies ... OK
* checking whether the package can be unloaded cleanly ... OK
* checking whether the namespace can be loaded with stated dependencies ... OK
* checking whether the namespace can be unloaded cleanly ... OK
* checking loading without being on the library search path ... OK
* checking dependencies in R code ... NOTE
Unexported objects imported by ':::' calls:
‘BiocGenerics:::replaceSlots’
‘DelayedArray:::get_verbose_block_processing’
‘DelayedArray:::normarg_grid’
‘GenomicRanges:::.extract_groups_from_GenomicRanges’
‘GenomicRanges:::.get_circle_length’
‘GenomicRanges:::extraColumnSlotNames’
‘IRanges:::.shift_ranges_in_groups_to_first_circle’
‘S4Vectors:::normarg_names’ ‘S4Vectors:::numeric2integer’
‘S4Vectors:::sapply_isNULL’ ‘data.table:::funique’
See the note in ?`:::` about the use of this operator.
* checking S3 generic/method consistency ... OK
* checking replacement functions ... OK
* checking foreign function calls ... OK
* checking R code for possible problems ... OK
* checking Rd files ... OK
* checking Rd metadata ... OK
* checking Rd cross-references ... NOTE
Found the following Rd file(s) with Rd \link{} targets missing package
anchors:
BSmooth.Rd: BiocParallelParam-class, SerialParam-class,
MulticoreParam-class, SnowParam-class, BatchtoolsParam-class,
getHDF5DumpChunkDim, getHDF5DumpCompressionLevel, HDF5Array-class,
getAutoRealizationBackend, HDF5Matrix-class, RealizationSink-class
BSseq-class.Rd: RangedSummarizedExperiment-class,
setAutoRealizationBackend
BSseq.Rd: DataFrame-class, GRanges-class, DelayedMatrix-class,
HDF5Matrix-class
BSseqStat-class.Rd: DelayedMatrix-class, HDF5Matrix-class
BSseqTstat-class.Rd: DelayedMatrix-class, HDF5Matrix-class
findLoci.Rd: BSgenome-class, DNAStringSet-class, GRanges-class
getCoverage.Rd: DelayedMatrix-class
getMeth.Rd: DelayedMatrix-class
read.bismark.Rd: GenomicRanges-class, DataFrame-class,
BiocParallelParam-class, SerialParam-class, MulticoreParam-class,
SnowParam-class, BatchtoolsParam-class, getHDF5DumpChunkDim,
getHDF5DumpCompressionLevel, HDF5Array-class,
getAutoRealizationBackend, HDF5Matrix-class, RealizationSink-class
Please provide package anchors for all Rd \link{} targets not in the
package itself and the base packages.
* checking for missing documentation entries ... OK
* checking for code/documentation mismatches ... OK
* checking Rd \usage sections ... OK
* checking Rd contents ... OK
* checking for unstated dependencies in examples ... OK
* checking contents of ‘data’ directory ... OK
* checking data for non-ASCII characters ... OK
* checking data for ASCII and uncompressed saves ... OK
* checking line endings in C/C++/Fortran sources/headers ... OK
* checking compiled code ... NOTE
Note: information on .o files is not available
* checking files in ‘vignettes’ ... OK
* checking examples ... OK
Examples with CPU (user + system) or elapsed time > 5s
user system elapsed
BSmooth.tstat 9.354 0.249 9.744
getCoverage 7.882 0.140 8.046
getMeth 6.911 0.526 7.459
BSseq-class 5.622 0.608 5.897
findLoci 5.762 0.291 6.123
* checking for unstated dependencies in ‘tests’ ... OK
* checking tests ...
Running ‘testthat.R’
OK
* checking for unstated dependencies in vignettes ... OK
* checking package vignettes ... OK
* checking running R code from vignettes ... SKIPPED
* checking re-building of vignette outputs ... SKIPPED
* checking PDF version of manual ... OK
* DONE
Status: 3 NOTEs
See
‘/home/biocbuild/bbs-3.21-bioc/meat/bsseq.Rcheck/00check.log’
for details.
bsseq.Rcheck/00install.out
############################################################################## ############################################################################## ### ### Running command: ### ### /home/biocbuild/R/R/bin/R CMD INSTALL bsseq ### ############################################################################## ############################################################################## * installing to library ‘/home/biocbuild/R/R-devel_2025-02-19/site-library’ * installing *source* package ‘bsseq’ ... ** this is package ‘bsseq’ version ‘1.44.1’ ** using staged installation ** libs using C++ compiler: ‘aarch64-unknown-linux-gnu-g++ (GCC) 14.2.0’ using C++17 /opt/ohpc/pub/compiler/gcc/14.2.0/bin/aarch64-unknown-linux-gnu-g++ -std=gnu++17 -I"/home/biocbuild/R/R/include" -DNDEBUG -I'/home/biocbuild/R/R-devel_2025-02-19/site-library/Rcpp/include' -I'/home/biocbuild/R/R-devel_2025-02-19/site-library/beachmat/include' -I'/home/biocbuild/R/R-devel_2025-02-19/site-library/assorthead/include' -I/usr/local/include -fPIC -g -O2 -Wall -Werror=format-security -c check_M_and_Cov.cpp -o check_M_and_Cov.o /opt/ohpc/pub/compiler/gcc/14.2.0/bin/aarch64-unknown-linux-gnu-g++ -std=gnu++17 -I"/home/biocbuild/R/R/include" -DNDEBUG -I'/home/biocbuild/R/R-devel_2025-02-19/site-library/Rcpp/include' -I'/home/biocbuild/R/R-devel_2025-02-19/site-library/beachmat/include' -I'/home/biocbuild/R/R-devel_2025-02-19/site-library/assorthead/include' -I/usr/local/include -fPIC -g -O2 -Wall -Werror=format-security -c init.cpp -o init.o /opt/ohpc/pub/compiler/gcc/14.2.0/bin/aarch64-unknown-linux-gnu-g++ -std=gnu++17 -I"/home/biocbuild/R/R/include" -DNDEBUG -I'/home/biocbuild/R/R-devel_2025-02-19/site-library/Rcpp/include' -I'/home/biocbuild/R/R-devel_2025-02-19/site-library/beachmat/include' -I'/home/biocbuild/R/R-devel_2025-02-19/site-library/assorthead/include' -I/usr/local/include -fPIC -g -O2 -Wall -Werror=format-security -c utils.cpp -o utils.o /opt/ohpc/pub/compiler/gcc/14.2.0/bin/aarch64-unknown-linux-gnu-g++ -std=gnu++17 -shared -L/home/biocbuild/R/R/lib -L/usr/local/lib -o bsseq.so check_M_and_Cov.o init.o utils.o -L/home/biocbuild/R/R/lib -lR installing to /home/biocbuild/R/R-devel_2025-02-19/site-library/00LOCK-bsseq/00new/bsseq/libs ** R ** data ** inst ** byte-compile and prepare package for lazy loading ** help *** installing help indices ** building package indices ** installing vignettes ** testing if installed package can be loaded from temporary location ** checking absolute paths in shared objects and dynamic libraries ** testing if installed package can be loaded from final location ** testing if installed package keeps a record of temporary installation path * DONE (bsseq)
bsseq.Rcheck/tests/testthat.Rout
R Under development (unstable) (2025-02-19 r87757) -- "Unsuffered Consequences"
Copyright (C) 2025 The R Foundation for Statistical Computing
Platform: aarch64-unknown-linux-gnu
R is free software and comes with ABSOLUTELY NO WARRANTY.
You are welcome to redistribute it under certain conditions.
Type 'license()' or 'licence()' for distribution details.
R is a collaborative project with many contributors.
Type 'contributors()' for more information and
'citation()' on how to cite R or R packages in publications.
Type 'demo()' for some demos, 'help()' for on-line help, or
'help.start()' for an HTML browser interface to help.
Type 'q()' to quit R.
> library(testthat)
> library(bsseq)
Loading required package: BiocGenerics
Loading required package: generics
Attaching package: 'generics'
The following objects are masked from 'package:base':
as.difftime, as.factor, as.ordered, intersect, is.element, setdiff,
setequal, union
Attaching package: 'BiocGenerics'
The following objects are masked from 'package:stats':
IQR, mad, sd, var, xtabs
The following objects are masked from 'package:base':
Filter, Find, Map, Position, Reduce, anyDuplicated, aperm, append,
as.data.frame, basename, cbind, colnames, dirname, do.call,
duplicated, eval, evalq, get, grep, grepl, is.unsorted, lapply,
mapply, match, mget, order, paste, pmax, pmax.int, pmin, pmin.int,
rank, rbind, rownames, sapply, saveRDS, table, tapply, unique,
unsplit, which.max, which.min
Loading required package: GenomicRanges
Loading required package: stats4
Loading required package: S4Vectors
Attaching package: 'S4Vectors'
The following object is masked from 'package:utils':
findMatches
The following objects are masked from 'package:base':
I, expand.grid, unname
Loading required package: IRanges
Loading required package: GenomeInfoDb
Loading required package: SummarizedExperiment
Loading required package: MatrixGenerics
Loading required package: matrixStats
Attaching package: 'MatrixGenerics'
The following objects are masked from 'package:matrixStats':
colAlls, colAnyNAs, colAnys, colAvgsPerRowSet, colCollapse,
colCounts, colCummaxs, colCummins, colCumprods, colCumsums,
colDiffs, colIQRDiffs, colIQRs, colLogSumExps, colMadDiffs,
colMads, colMaxs, colMeans2, colMedians, colMins, colOrderStats,
colProds, colQuantiles, colRanges, colRanks, colSdDiffs, colSds,
colSums2, colTabulates, colVarDiffs, colVars, colWeightedMads,
colWeightedMeans, colWeightedMedians, colWeightedSds,
colWeightedVars, rowAlls, rowAnyNAs, rowAnys, rowAvgsPerColSet,
rowCollapse, rowCounts, rowCummaxs, rowCummins, rowCumprods,
rowCumsums, rowDiffs, rowIQRDiffs, rowIQRs, rowLogSumExps,
rowMadDiffs, rowMads, rowMaxs, rowMeans2, rowMedians, rowMins,
rowOrderStats, rowProds, rowQuantiles, rowRanges, rowRanks,
rowSdDiffs, rowSds, rowSums2, rowTabulates, rowVarDiffs, rowVars,
rowWeightedMads, rowWeightedMeans, rowWeightedMedians,
rowWeightedSds, rowWeightedVars
Loading required package: Biobase
Welcome to Bioconductor
Vignettes contain introductory material; view with
'browseVignettes()'. To cite Bioconductor, see
'citation("Biobase")', and for packages 'citation("pkgname")'.
Attaching package: 'Biobase'
The following object is masked from 'package:MatrixGenerics':
rowMedians
The following objects are masked from 'package:matrixStats':
anyMissing, rowMedians
> test_check("bsseq")
[ FAIL 0 | WARN 7 | SKIP 7 | PASS 134 ]
══ Skipped tests (7) ═══════════════════════════════════════════════════════════
• Skipping tests that require SnowParam with multiple machines (2):
'test_BSmooth.R:74:9', 'test_BSmooth.R:125:9'
• TODO: Remove these tests if no longer required (1): 'test_HDF5_utils.R:21:5'
• empty test (4): 'test_BSmooth.R:42:1', 'test_GitHub_issues.R:3:1',
'test_combine.R:3:1', 'test_combine.R:28:1'
[ FAIL 0 | WARN 7 | SKIP 7 | PASS 134 ]
>
> proc.time()
user system elapsed
78.382 15.455 147.854
bsseq.Rcheck/bsseq-Ex.timings
| name | user | system | elapsed | |
| BS.chr22 | 1.531 | 0.040 | 1.578 | |
| BSmooth | 0 | 0 | 0 | |
| BSmooth.fstat | 0 | 0 | 0 | |
| BSmooth.tstat | 9.354 | 0.249 | 9.744 | |
| BSseq-class | 5.622 | 0.608 | 5.897 | |
| BSseq | 0.609 | 0.071 | 0.686 | |
| BSseqTstat-class | 1.963 | 0.152 | 2.164 | |
| FWGRanges-class | 0.001 | 0.000 | 0.001 | |
| computeStat | 0 | 0 | 0 | |
| data.frame2GRanges | 0.028 | 0.000 | 0.028 | |
| dmrFinder | 1.648 | 0.032 | 1.685 | |
| findLoci | 5.762 | 0.291 | 6.123 | |
| fisherTests | 0.687 | 0.020 | 0.710 | |
| getCoverage | 7.882 | 0.140 | 8.046 | |
| getMeth | 6.911 | 0.526 | 7.459 | |
| getStats | 0.579 | 0.028 | 0.608 | |
| goodnessOfFit | 3.828 | 0.032 | 3.895 | |
| hasGRanges-class | 0 | 0 | 0 | |
| read.bismark | 0.388 | 0.194 | 0.533 | |
| read.modbam2bed | 0.606 | 0.111 | 0.729 | |
| read.modkit | 0.270 | 0.012 | 0.284 | |
| smoothSds | 0 | 0 | 0 | |