| Back to Multiple platform build/check report for BioC 3.22: simplified long | 
  | 
This page was generated on 2025-11-03 12:03 -0500 (Mon, 03 Nov 2025).
| Hostname | OS | Arch (*) | R version | Installed pkgs | 
|---|---|---|---|---|
| nebbiolo2 | Linux (Ubuntu 24.04.3 LTS) | x86_64 | 4.5.1 Patched (2025-08-23 r88802) -- "Great Square Root" | 4902 | 
| lconway | macOS 12.7.6 Monterey | x86_64 | 4.5.1 Patched (2025-09-10 r88807) -- "Great Square Root" | 4692 | 
| kjohnson3 | macOS 13.7.7 Ventura | arm64 | 4.5.1 Patched (2025-09-10 r88807) -- "Great Square Root" | 4638 | 
| Click on any hostname to see more info about the system (e.g. compilers) (*) as reported by 'uname -p', except on Windows and Mac OS X | ||||
| Package 165/2361 | Hostname | OS / Arch | INSTALL | BUILD | CHECK | BUILD BIN | ||||||||
| benchdamic 1.16.0  (landing page) Matteo Calgaro 
  | nebbiolo2 | Linux (Ubuntu 24.04.3 LTS) / x86_64 | OK | OK | OK | |||||||||
| lconway | macOS 12.7.6 Monterey / x86_64 | OK | OK | OK | OK | |||||||||
| kjohnson3 | macOS 13.7.7 Ventura / arm64 | OK | OK | OK | OK | |||||||||
| 
To the developers/maintainers of the benchdamic package: - Allow up to 24 hours (and sometimes 48 hours) for your latest push to git@git.bioconductor.org:packages/benchdamic.git to reflect on this report. See Troubleshooting Build Report for more information. - Use the following Renviron settings to reproduce errors and warnings. - If 'R CMD check' started to fail recently on the Linux builder(s) over a missing dependency, add the missing dependency to 'Suggests:' in your DESCRIPTION file. See Renviron.bioc for more information.  | 
| Package: benchdamic | 
| Version: 1.16.0 | 
| Command: /Library/Frameworks/R.framework/Resources/bin/R CMD check --install=check:benchdamic.install-out.txt --library=/Library/Frameworks/R.framework/Resources/library --no-vignettes --timings benchdamic_1.16.0.tar.gz | 
| StartedAt: 2025-11-02 19:43:27 -0500 (Sun, 02 Nov 2025) | 
| EndedAt: 2025-11-02 19:57:32 -0500 (Sun, 02 Nov 2025) | 
| EllapsedTime: 844.5 seconds | 
| RetCode: 0 | 
| Status: OK | 
| CheckDir: benchdamic.Rcheck | 
| Warnings: 0 | 
##############################################################################
##############################################################################
###
### Running command:
###
###   /Library/Frameworks/R.framework/Resources/bin/R CMD check --install=check:benchdamic.install-out.txt --library=/Library/Frameworks/R.framework/Resources/library --no-vignettes --timings benchdamic_1.16.0.tar.gz
###
##############################################################################
##############################################################################
* using log directory ‘/Users/biocbuild/bbs-3.22-bioc/meat/benchdamic.Rcheck’
* using R version 4.5.1 Patched (2025-09-10 r88807)
* using platform: x86_64-apple-darwin20
* R was compiled by
    Apple clang version 14.0.0 (clang-1400.0.29.202)
    GNU Fortran (GCC) 14.2.0
* running under: macOS Monterey 12.7.6
* using session charset: UTF-8
* using option ‘--no-vignettes’
* checking for file ‘benchdamic/DESCRIPTION’ ... OK
* checking extension type ... Package
* this is package ‘benchdamic’ version ‘1.16.0’
* package encoding: UTF-8
* checking package namespace information ... OK
* checking package dependencies ... INFO
Imports includes 32 non-default packages.
Importing from so many packages makes the package vulnerable to any of
them becoming unavailable.  Move as many as possible to Suggests and
use conditionally.
* checking if this is a source package ... OK
* checking if there is a namespace ... OK
* checking for hidden files and directories ... OK
* checking for portable file names ... OK
* checking for sufficient/correct file permissions ... OK
* checking whether package ‘benchdamic’ can be installed ... OK
* checking installed package size ... OK
* checking package directory ... OK
* checking ‘build’ directory ... OK
* checking DESCRIPTION meta-information ... OK
* checking top-level files ... OK
* checking for left-over files ... OK
* checking index information ... OK
* checking package subdirectories ... OK
* checking code files for non-ASCII characters ... OK
* checking R files for syntax errors ... OK
* checking whether the package can be loaded ... OK
* checking whether the package can be loaded with stated dependencies ... OK
* checking whether the package can be unloaded cleanly ... OK
* checking whether the namespace can be loaded with stated dependencies ... OK
* checking whether the namespace can be unloaded cleanly ... OK
* checking dependencies in R code ... NOTE
Namespace in Imports field not imported from: ‘microbiome’
  All declared Imports should be used.
* checking S3 generic/method consistency ... OK
* checking replacement functions ... OK
* checking foreign function calls ... OK
* checking R code for possible problems ... OK
* checking Rd files ... OK
* checking Rd metadata ... OK
* checking Rd cross-references ... NOTE
Non-topic package-anchored link(s) in Rd file 'norm_DESeq2.Rd':
  ‘[DESeq2]{estimateSizeFactors}’
See section 'Cross-references' in the 'Writing R Extensions' manual.
* checking for missing documentation entries ... OK
* checking for code/documentation mismatches ... OK
* checking Rd \usage sections ... OK
* checking Rd contents ... OK
* checking for unstated dependencies in examples ... OK
* checking contents of ‘data’ directory ... OK
* checking data for non-ASCII characters ... OK
* checking LazyData ... OK
* checking data for ASCII and uncompressed saves ... OK
* checking files in ‘vignettes’ ... OK
* checking examples ... OK
Examples with CPU (user + system) or elapsed time > 5s
                 user system elapsed
plotConcordance 8.034  0.083  12.204
DA_ALDEx2       4.496  1.009   5.536
runSplits       4.137  0.131   6.729
fitModels       3.702  0.063   6.044
plotRMSE        3.291  0.089   5.071
plotQQ          3.222  0.043   5.001
* checking for unstated dependencies in ‘tests’ ... OK
* checking tests ...
  Running ‘testthat.R’
 OK
* checking for unstated dependencies in vignettes ... OK
* checking package vignettes ... OK
* checking running R code from vignettes ... SKIPPED
* checking re-building of vignette outputs ... SKIPPED
* checking PDF version of manual ... OK
* DONE
Status: 2 NOTEs
See
  ‘/Users/biocbuild/bbs-3.22-bioc/meat/benchdamic.Rcheck/00check.log’
for details.
benchdamic.Rcheck/00install.out
############################################################################## ############################################################################## ### ### Running command: ### ### /Library/Frameworks/R.framework/Resources/bin/R CMD INSTALL benchdamic ### ############################################################################## ############################################################################## * installing to library ‘/Library/Frameworks/R.framework/Versions/4.5-x86_64/Resources/library’ * installing *source* package ‘benchdamic’ ... ** this is package ‘benchdamic’ version ‘1.16.0’ ** using staged installation ** R ** data *** moving datasets to lazyload DB ** inst ** byte-compile and prepare package for lazy loading Found more than one class "dist" in cache; using the first, from namespace 'BiocGenerics' Also defined by ‘spam’ ** help *** installing help indices ** building package indices ** installing vignettes ** testing if installed package can be loaded from temporary location Found more than one class "dist" in cache; using the first, from namespace 'BiocGenerics' Also defined by ‘spam’ ** testing if installed package can be loaded from final location Found more than one class "dist" in cache; using the first, from namespace 'BiocGenerics' Also defined by ‘spam’ ** testing if installed package keeps a record of temporary installation path * DONE (benchdamic)
benchdamic.Rcheck/tests/testthat.Rout
R version 4.5.1 Patched (2025-09-10 r88807) -- "Great Square Root"
Copyright (C) 2025 The R Foundation for Statistical Computing
Platform: x86_64-apple-darwin20
R is free software and comes with ABSOLUTELY NO WARRANTY.
You are welcome to redistribute it under certain conditions.
Type 'license()' or 'licence()' for distribution details.
R is a collaborative project with many contributors.
Type 'contributors()' for more information and
'citation()' on how to cite R or R packages in publications.
Type 'demo()' for some demos, 'help()' for on-line help, or
'help.start()' for an HTML browser interface to help.
Type 'q()' to quit R.
> library(testthat)
> library(benchdamic)
Found more than one class "dist" in cache; using the first, from namespace 'BiocGenerics'
Also defined by 'spam'
> 
> test_check("benchdamic")
|------------(25%)----------(50%)----------(75%)----------|
|------------(25%)----------(50%)----------(75%)----------|
|------------(25%)----------(50%)----------(75%)----------|
|------------(25%)----------(50%)----------(75%)----------|
|------------(25%)----------(50%)----------(75%)----------|
[ FAIL 0 | WARN 0 | SKIP 0 | PASS 334 ]
> 
> proc.time()
   user  system elapsed 
 77.806  11.854 237.264 
benchdamic.Rcheck/benchdamic-Ex.timings
| name | user | system | elapsed | |
| CAT | 0.005 | 0.001 | 0.005 | |
| DA_ALDEx2 | 4.496 | 1.009 | 5.536 | |
| DA_ANCOM | 0.848 | 0.016 | 0.873 | |
| DA_DESeq2 | 3.073 | 0.035 | 3.119 | |
| DA_MAST | 1.292 | 0.029 | 1.326 | |
| DA_Maaslin2 | 0.243 | 0.045 | 0.305 | |
| DA_NOISeq | 1.454 | 0.009 | 1.467 | |
| DA_Seurat | 2.024 | 0.039 | 2.070 | |
| DA_ZicoSeq | 0.554 | 0.018 | 0.573 | |
| DA_basic | 0.028 | 0.002 | 0.029 | |
| DA_corncob | 0.687 | 0.059 | 0.775 | |
| DA_dearseq | 0.066 | 0.002 | 0.070 | |
| DA_edgeR | 0.182 | 0.007 | 0.190 | |
| DA_limma | 0.082 | 0.005 | 0.086 | |
| DA_linda | 0.050 | 0.003 | 0.053 | |
| DA_maaslin3 | 0.510 | 0.016 | 0.532 | |
| DA_metagenomeSeq | 0.306 | 0.009 | 0.317 | |
| DA_mixMC | 0.602 | 0.006 | 0.610 | |
| RMSE | 0.001 | 0.000 | 0.001 | |
| addKnowledge | 0.173 | 0.007 | 0.182 | |
| areaCAT | 4.028 | 0.084 | 4.121 | |
| checkNormalization | 0.000 | 0.000 | 0.001 | |
| createColors | 0.003 | 0.000 | 0.004 | |
| createConcordance | 4.745 | 0.070 | 4.828 | |
| createEnrichment | 0.215 | 0.007 | 0.223 | |
| createMocks | 0.002 | 0.001 | 0.002 | |
| createPositives | 1.002 | 0.026 | 1.032 | |
| createSplits | 0.038 | 0.002 | 0.039 | |
| createTIEC | 2.885 | 0.032 | 2.926 | |
| enrichmentTest | 0.148 | 0.005 | 0.154 | |
| extractDA | 0.273 | 0.008 | 0.281 | |
| extractStatistics | 0.205 | 0.004 | 0.209 | |
| fitDM | 0.037 | 0.002 | 0.040 | |
| fitHURDLE | 0.877 | 0.005 | 0.885 | |
| fitModels | 3.702 | 0.063 | 6.044 | |
| fitNB | 0.069 | 0.000 | 0.113 | |
| fitZIG | 0.100 | 0.001 | 0.185 | |
| fitZINB | 0.710 | 0.006 | 1.205 | |
| getDA | 0.114 | 0.010 | 0.204 | |
| getPositives | 0.119 | 0.005 | 0.203 | |
| getStatistics | 0.100 | 0.006 | 0.174 | |
| get_counts_metadata | 0.169 | 0.003 | 0.271 | |
| iterative_ordering | 0.013 | 0.001 | 0.018 | |
| meanDifferences | 0.002 | 0.000 | 0.003 | |
| norm_CSS | 0.316 | 0.008 | 0.520 | |
| norm_DESeq2 | 0.650 | 0.002 | 1.080 | |
| norm_TSS | 0.049 | 0.001 | 0.086 | |
| norm_edgeR | 0.055 | 0.001 | 0.088 | |
| plotConcordance | 8.034 | 0.083 | 12.204 | |
| plotContingency | 1.602 | 0.018 | 1.651 | |
| plotEnrichment | 1.324 | 0.017 | 1.446 | |
| plotFDR | 2.745 | 0.054 | 3.363 | |
| plotFPR | 2.232 | 0.037 | 3.342 | |
| plotKS | 2.210 | 0.038 | 2.605 | |
| plotLogP | 2.803 | 0.038 | 3.597 | |
| plotMD | 3.428 | 0.037 | 4.359 | |
| plotMutualFindings | 1.376 | 0.018 | 1.632 | |
| plotPositives | 0.818 | 0.008 | 1.113 | |
| plotQQ | 3.222 | 0.043 | 5.001 | |
| plotRMSE | 3.291 | 0.089 | 5.071 | |
| prepareObserved | 0.002 | 0.000 | 0.002 | |
| runDA | 0.733 | 0.011 | 1.119 | |
| runMocks | 0.822 | 0.021 | 1.286 | |
| runNormalizations | 0.552 | 0.006 | 0.591 | |
| runSplits | 4.137 | 0.131 | 6.729 | |
| setNormalizations | 0 | 0 | 0 | |
| set_ALDEx2 | 0.005 | 0.000 | 0.007 | |
| set_ANCOM | 0.006 | 0.002 | 0.034 | |
| set_DESeq2 | 0.005 | 0.001 | 0.007 | |
| set_MAST | 0.002 | 0.001 | 0.003 | |
| set_Maaslin2 | 0.004 | 0.001 | 0.006 | |
| set_NOISeq | 0.003 | 0.000 | 0.003 | |
| set_Seurat | 0.005 | 0.001 | 0.006 | |
| set_ZicoSeq | 0.006 | 0.001 | 0.006 | |
| set_basic | 0.002 | 0.001 | 0.002 | |
| set_corncob | 0.004 | 0.001 | 0.004 | |
| set_dearseq | 0.003 | 0.001 | 0.026 | |
| set_edgeR | 0.009 | 0.001 | 0.009 | |
| set_limma | 0.006 | 0.000 | 0.007 | |
| set_linda | 0.005 | 0.001 | 0.005 | |
| set_maaslin3 | 0.006 | 0.001 | 0.019 | |
| set_metagenomeSeq | 0.004 | 0.000 | 0.004 | |
| set_mixMC | 0.001 | 0.000 | 0.002 | |
| weights_ZINB | 0.370 | 0.005 | 0.448 | |